{"text_format":"1","workbook":"xlsx","n_sheets":9,"sheets":["Sayfa1","Sayfa6","Sayfa5","Sayfa2","ANASAYFA","eokul","dersiçiperformans","dersiçiperformans (2)","dersiçiperformans (3)"],"not_rendered":{"charts":0,"images":6,"macros":1,"external_links":0,"defined_names":3,"comments":1,"pivot_tables":0},"unopened":[],"bounds":{"document_bytes":16777216,"sheet_cells":100000,"rows_first":2000,"rows_last":500,"rows_between":2000,"halvings":0,"cell_chars":16384,"cell_head_chars":4096},"cells_cut":0,"cells_raw":0,"read":"whole","date_system":"1900"}

{"sheet":"Sayfa1","index":0,"n_rows":76,"n_cols":29,"rows_kept":76,"cut":false,"hidden":true,"merged":[]}
[]
[]
[]
[]
[null,null,null,{"$f":"#REF!","v":{"$error":"#REF!"}},{"$f":"IF(D5=100,\"4\",IF(D5>80,\"4\",IF(D5>60,\"3\",IF(D5>40,\"2\",IF(D5>20,\"1\",IF(D5>0,0,\" \"))))))","v":{"$error":"#REF!"}},{"$f":"IF(D5=100,20,IF(D5>80,D5-80,IF(D5>60,D5-60,IF(D5>40,D5-40,IF(D5>20,D5-20,IF(D5>0,D5-0))))))","v":{"$error":"#REF!"}},null,{"$f":"IF(F5-0>0,E5+1,E5)","v":{"$error":"#REF!"}},{"$f":"IF(F5-1>0,E5+1,E5)","v":{"$error":"#REF!"}},{"$f":"IF(F5-2>0,E5+1,E5)","v":{"$error":"#REF!"}},{"$f":"IF(F5-13>0,E5+1,E5)","v":{"$error":"#REF!"}},{"$f":"IF(F5-4>0,E5+1,E5)","v":{"$error":"#REF!"}},null,{"$f":"IF(F5-17>0,E5+1,E5)","v":{"$error":"#REF!"}},{"$f":"IF(F5-6>0,E5+1,E5)","v":{"$error":"#REF!"}},{"$f":"IF(F5-7>0,E5+1,E5)","v":{"$error":"#REF!"}},{"$f":"IF(F5-8>0,E5+1,E5)","v":{"$error":"#REF!"}},{"$f":"IF(F5-9>0,E5+1,E5)","v":{"$error":"#REF!"}},{"$f":"IF(F5-10>0,E5+1,E5)","v":{"$error":"#REF!"}},{"$f":"IF(F5-19>0,E5+1,E5)","v":{"$error":"#REF!"}},{"$f":"IF(F5-12>0,E5+1,E5)","v":{"$error":"#REF!"}},{"$f":"IF(F5-3>0,E5+1,E5)","v":{"$error":"#REF!"}},{"$f":"IF(F5-14>0,E5+1,E5)","v":{"$error":"#REF!"}},null,{"$f":"IF(F5-15>0,E5+1,E5)","v":{"$error":"#REF!"}},{"$f":"IF(F5-16>0,E5+1,E5)","v":{"$error":"#REF!"}},{"$f":"IF(F5-5>0,E5+1,E5)","v":{"$error":"#REF!"}},{"$f":"IF(F5-18>0,E5+1,E5)","v":{"$error":"#REF!"}},{"$f":"IF(F5-11>0,E5+1,E5)","v":{"$error":"#REF!"}}]
[null,null,null,{"$f":"#REF!","v":{"$error":"#REF!"}},{"$f":"IF(D6=100,\"4\",IF(D6>80,\"4\",IF(D6>60,\"3\",IF(D6>40,\"2\",IF(D6>20,\"1\",IF(D6>0,0,\" \"))))))","v":{"$error":"#REF!"}},{"$f":"IF(D6=100,20,IF(D6>80,D6-80,IF(D6>60,D6-60,IF(D6>40,D6-40,IF(D6>20,D6-20,IF(D6>0,D6-0))))))","v":{"$error":"#REF!"}},null,{"$f":"IF(F6-0>0,E6+1,E6)","v":{"$error":"#REF!"}},{"$f":"IF(F6-1>0,E6+1,E6)","v":{"$error":"#REF!"}},{"$f":"IF(F6-2>0,E6+1,E6)","v":{"$error":"#REF!"}},{"$f":"IF(F6-13>0,E6+1,E6)","v":{"$error":"#REF!"}},{"$f":"IF(F6-4>0,E6+1,E6)","v":{"$error":"#REF!"}},null,{"$f":"IF(F6-17>0,E6+1,E6)","v":{"$error":"#REF!"}},{"$f":"IF(F6-6>0,E6+1,E6)","v":{"$error":"#REF!"}},{"$f":"IF(F6-7>0,E6+1,E6)","v":{"$error":"#REF!"}},{"$f":"IF(F6-8>0,E6+1,E6)","v":{"$error":"#REF!"}},{"$f":"IF(F6-9>0,E6+1,E6)","v":{"$error":"#REF!"}},{"$f":"IF(F6-10>0,E6+1,E6)","v":{"$error":"#REF!"}},{"$f":"IF(F6-19>0,E6+1,E6)","v":{"$error":"#REF!"}},{"$f":"IF(F6-12>0,E6+1,E6)","v":{"$error":"#REF!"}},{"$f":"IF(F6-3>0,E6+1,E6)","v":{"$error":"#REF!"}},{"$f":"IF(F6-14>0,E6+1,E6)","v":{"$error":"#REF!"}},null,{"$f":"IF(F6-15>0,E6+1,E6)","v":{"$error":"#REF!"}},{"$f":"IF(F6-16>0,E6+1,E6)","v":{"$error":"#REF!"}},{"$f":"IF(F6-5>0,E6+1,E6)","v":{"$error":"#REF!"}},{"$f":"IF(F6-18>0,E6+1,E6)","v":{"$error":"#REF!"}},{"$f":"IF(F6-11>0,E6+1,E6)","v":{"$error":"#REF!"}}]
[null,null,null,{"$f":"#REF!","v":{"$error":"#REF!"}},{"$error":"#REF!"},{"$error":"#REF!"},null,{"$error":"#REF!"},{"$error":"#REF!"},{"$error":"#REF!"},{"$error":"#REF!"},{"$error":"#REF!"},null,{"$error":"#REF!"},{"$error":"#REF!"},{"$error":"#REF!"},{"$error":"#REF!"},{"$error":"#REF!"},{"$error":"#REF!"},{"$error":"#REF!"},{"$error":"#REF!"},{"$error":"#REF!"},{"$error":"#REF!"},null,{"$error":"#REF!"},{"$error":"#REF!"},{"$error":"#REF!"},{"$error":"#REF!"},{"$error":"#REF!"}]
[null,null,null,{"$f":"#REF!","v":{"$error":"#REF!"}},{"$error":"#REF!"},{"$error":"#REF!"},null,{"$error":"#REF!"},{"$error":"#REF!"},{"$error":"#REF!"},{"$error":"#REF!"},{"$error":"#REF!"},null,{"$error":"#REF!"},{"$error":"#REF!"},{"$error":"#REF!"},{"$error":"#REF!"},{"$error":"#REF!"},{"$error":"#REF!"},{"$error":"#REF!"},{"$error":"#REF!"},{"$error":"#REF!"},{"$error":"#REF!"},null,{"$error":"#REF!"},{"$error":"#REF!"},{"$error":"#REF!"},{"$error":"#REF!"},{"$error":"#REF!"}]
[null,null,null,{"$f":"#REF!","v":{"$error":"#REF!"}},{"$error":"#REF!"},{"$error":"#REF!"},null,{"$error":"#REF!"},{"$error":"#REF!"},{"$error":"#REF!"},{"$error":"#REF!"},{"$error":"#REF!"},null,{"$error":"#REF!"},{"$error":"#REF!"},{"$error":"#REF!"},{"$error":"#REF!"},{"$error":"#REF!"},{"$error":"#REF!"},{"$error":"#REF!"},{"$error":"#REF!"},{"$error":"#REF!"},{"$error":"#REF!"},null,{"$error":"#REF!"},{"$error":"#REF!"},{"$error":"#REF!"},{"$error":"#REF!"},{"$error":"#REF!"}]
[null,null,null,{"$f":"#REF!","v":{"$error":"#REF!"}},{"$error":"#REF!"},{"$error":"#REF!"},null,{"$error":"#REF!"},{"$error":"#REF!"},{"$error":"#REF!"},{"$error":"#REF!"},{"$error":"#REF!"},null,{"$error":"#REF!"},{"$error":"#REF!"},{"$error":"#REF!"},{"$error":"#REF!"},{"$error":"#REF!"},{"$error":"#REF!"},{"$error":"#REF!"},{"$error":"#REF!"},{"$error":"#REF!"},{"$error":"#REF!"},null,{"$error":"#REF!"},{"$error":"#REF!"},{"$error":"#REF!"},{"$error":"#REF!"},{"$error":"#REF!"}]
[null,null,null,{"$f":"#REF!","v":{"$error":"#REF!"}},{"$error":"#REF!"},{"$error":"#REF!"},null,{"$error":"#REF!"},{"$error":"#REF!"},{"$error":"#REF!"},{"$error":"#REF!"},{"$error":"#REF!"},null,{"$error":"#REF!"},{"$error":"#REF!"},{"$error":"#REF!"},{"$error":"#REF!"},{"$error":"#REF!"},{"$error":"#REF!"},{"$error":"#REF!"},{"$error":"#REF!"},{"$error":"#REF!"},{"$error":"#REF!"},null,{"$error":"#REF!"},{"$error":"#REF!"},{"$error":"#REF!"},{"$error":"#REF!"},{"$error":"#REF!"}]
[null,null,null,{"$f":"#REF!","v":{"$error":"#REF!"}},{"$error":"#REF!"},{"$error":"#REF!"},null,{"$error":"#REF!"},{"$error":"#REF!"},{"$error":"#REF!"},{"$error":"#REF!"},{"$error":"#REF!"},null,{"$error":"#REF!"},{"$error":"#REF!"},{"$error":"#REF!"},{"$error":"#REF!"},{"$error":"#REF!"},{"$error":"#REF!"},{"$error":"#REF!"},{"$error":"#REF!"},{"$error":"#REF!"},{"$error":"#REF!"},null,{"$error":"#REF!"},{"$error":"#REF!"},{"$error":"#REF!"},{"$error":"#REF!"},{"$error":"#REF!"}]
[null,null,null,{"$f":"#REF!","v":{"$error":"#REF!"}},{"$error":"#REF!"},{"$error":"#REF!"},null,{"$error":"#REF!"},{"$error":"#REF!"},{"$error":"#REF!"},{"$error":"#REF!"},{"$error":"#REF!"},null,{"$error":"#REF!"},{"$error":"#REF!"},{"$error":"#REF!"},{"$error":"#REF!"},{"$error":"#REF!"},{"$error":"#REF!"},{"$error":"#REF!"},{"$error":"#REF!"},{"$error":"#REF!"},{"$error":"#REF!"},null,{"$error":"#REF!"},{"$error":"#REF!"},{"$error":"#REF!"},{"$error":"#REF!"},{"$error":"#REF!"}]
[null,null,null,{"$f":"#REF!","v":{"$error":"#REF!"}},{"$error":"#REF!"},{"$error":"#REF!"},null,{"$error":"#REF!"},{"$error":"#REF!"},{"$error":"#REF!"},{"$error":"#REF!"},{"$error":"#REF!"},null,{"$error":"#REF!"},{"$error":"#REF!"},{"$error":"#REF!"},{"$error":"#REF!"},{"$error":"#REF!"},{"$error":"#REF!"},{"$error":"#REF!"},{"$error":"#REF!"},{"$error":"#REF!"},{"$error":"#REF!"},null,{"$error":"#REF!"},{"$error":"#REF!"},{"$error":"#REF!"},{"$error":"#REF!"},{"$error":"#REF!"}]
[null,null,null,{"$f":"#REF!","v":{"$error":"#REF!"}},{"$error":"#REF!"},{"$error":"#REF!"},null,{"$error":"#REF!"},{"$error":"#REF!"},{"$error":"#REF!"},{"$error":"#REF!"},{"$error":"#REF!"},null,{"$error":"#REF!"},{"$error":"#REF!"},{"$error":"#REF!"},{"$error":"#REF!"},{"$error":"#REF!"},{"$error":"#REF!"},{"$error":"#REF!"},{"$error":"#REF!"},{"$error":"#REF!"},{"$error":"#REF!"},null,{"$error":"#REF!"},{"$error":"#REF!"},{"$error":"#REF!"},{"$error":"#REF!"},{"$error":"#REF!"}]
[null,null,null,{"$f":"#REF!","v":{"$error":"#REF!"}},{"$error":"#REF!"},{"$error":"#REF!"},null,{"$error":"#REF!"},{"$error":"#REF!"},{"$error":"#REF!"},{"$error":"#REF!"},{"$error":"#REF!"},null,{"$error":"#REF!"},{"$error":"#REF!"},{"$error":"#REF!"},{"$error":"#REF!"},{"$error":"#REF!"},{"$error":"#REF!"},{"$error":"#REF!"},{"$error":"#REF!"},{"$error":"#REF!"},{"$error":"#REF!"},null,{"$error":"#REF!"},{"$error":"#REF!"},{"$error":"#REF!"},{"$error":"#REF!"},{"$error":"#REF!"}]
[null,null,null,{"$f":"#REF!","v":{"$error":"#REF!"}},{"$error":"#REF!"},{"$error":"#REF!"},null,{"$error":"#REF!"},{"$error":"#REF!"},{"$error":"#REF!"},{"$error":"#REF!"},{"$error":"#REF!"},null,{"$error":"#REF!"},{"$error":"#REF!"},{"$error":"#REF!"},{"$error":"#REF!"},{"$error":"#REF!"},{"$error":"#REF!"},{"$error":"#REF!"},{"$error":"#REF!"},{"$error":"#REF!"},{"$error":"#REF!"},null,{"$error":"#REF!"},{"$error":"#REF!"},{"$error":"#REF!"},{"$error":"#REF!"},{"$error":"#REF!"}]
[null,null,null,{"$f":"#REF!","v":{"$error":"#REF!"}},{"$error":"#REF!"},{"$error":"#REF!"},null,{"$error":"#REF!"},{"$error":"#REF!"},{"$error":"#REF!"},{"$error":"#REF!"},{"$error":"#REF!"},null,{"$error":"#REF!"},{"$error":"#REF!"},{"$error":"#REF!"},{"$error":"#REF!"},{"$error":"#REF!"},{"$error":"#REF!"},{"$error":"#REF!"},{"$error":"#REF!"},{"$error":"#REF!"},{"$error":"#REF!"},null,{"$error":"#REF!"},{"$error":"#REF!"},{"$error":"#REF!"},{"$error":"#REF!"},{"$error":"#REF!"}]
[null,null,null,{"$f":"#REF!","v":{"$error":"#REF!"}},{"$error":"#REF!"},{"$error":"#REF!"},null,{"$error":"#REF!"},{"$error":"#REF!"},{"$error":"#REF!"},{"$error":"#REF!"},{"$error":"#REF!"},null,{"$error":"#REF!"},{"$error":"#REF!"},{"$error":"#REF!"},{"$error":"#REF!"},{"$error":"#REF!"},{"$error":"#REF!"},{"$error":"#REF!"},{"$error":"#REF!"},{"$error":"#REF!"},{"$error":"#REF!"},null,{"$error":"#REF!"},{"$error":"#REF!"},{"$error":"#REF!"},{"$error":"#REF!"},{"$error":"#REF!"}]
[null,null,null,{"$f":"#REF!","v":{"$error":"#REF!"}},{"$error":"#REF!"},{"$error":"#REF!"},null,{"$error":"#REF!"},{"$error":"#REF!"},{"$error":"#REF!"},{"$error":"#REF!"},{"$error":"#REF!"},null,{"$error":"#REF!"},{"$error":"#REF!"},{"$error":"#REF!"},{"$error":"#REF!"},{"$error":"#REF!"},{"$error":"#REF!"},{"$error":"#REF!"},{"$error":"#REF!"},{"$error":"#REF!"},{"$error":"#REF!"},null,{"$error":"#REF!"},{"$error":"#REF!"},{"$error":"#REF!"},{"$error":"#REF!"},{"$error":"#REF!"}]
[null,null,null,{"$f":"#REF!","v":{"$error":"#REF!"}},{"$error":"#REF!"},{"$error":"#REF!"},null,{"$error":"#REF!"},{"$error":"#REF!"},{"$error":"#REF!"},{"$error":"#REF!"},{"$error":"#REF!"},null,{"$error":"#REF!"},{"$error":"#REF!"},{"$error":"#REF!"},{"$error":"#REF!"},{"$error":"#REF!"},{"$error":"#REF!"},{"$error":"#REF!"},{"$error":"#REF!"},{"$error":"#REF!"},{"$error":"#REF!"},null,{"$error":"#REF!"},{"$error":"#REF!"},{"$error":"#REF!"},{"$error":"#REF!"},{"$error":"#REF!"}]
[null,null,null,{"$f":"#REF!","v":{"$error":"#REF!"}},{"$error":"#REF!"},{"$error":"#REF!"},null,{"$error":"#REF!"},{"$error":"#REF!"},{"$error":"#REF!"},{"$error":"#REF!"},{"$error":"#REF!"},null,{"$error":"#REF!"},{"$error":"#REF!"},{"$error":"#REF!"},{"$error":"#REF!"},{"$error":"#REF!"},{"$error":"#REF!"},{"$error":"#REF!"},{"$error":"#REF!"},{"$error":"#REF!"},{"$error":"#REF!"},null,{"$error":"#REF!"},{"$error":"#REF!"},{"$error":"#REF!"},{"$error":"#REF!"},{"$error":"#REF!"}]
[null,null,null,{"$f":"#REF!","v":{"$error":"#REF!"}},{"$error":"#REF!"},{"$error":"#REF!"},null,{"$error":"#REF!"},{"$error":"#REF!"},{"$error":"#REF!"},{"$error":"#REF!"},{"$error":"#REF!"},null,{"$error":"#REF!"},{"$error":"#REF!"},{"$error":"#REF!"},{"$error":"#REF!"},{"$error":"#REF!"},{"$error":"#REF!"},{"$error":"#REF!"},{"$error":"#REF!"},{"$error":"#REF!"},{"$error":"#REF!"},null,{"$error":"#REF!"},{"$error":"#REF!"},{"$error":"#REF!"},{"$error":"#REF!"},{"$error":"#REF!"}]
[null,null,null,{"$f":"#REF!","v":{"$error":"#REF!"}},{"$error":"#REF!"},{"$error":"#REF!"},null,{"$error":"#REF!"},{"$error":"#REF!"},{"$error":"#REF!"},{"$error":"#REF!"},{"$error":"#REF!"},null,{"$error":"#REF!"},{"$error":"#REF!"},{"$error":"#REF!"},{"$error":"#REF!"},{"$error":"#REF!"},{"$error":"#REF!"},{"$error":"#REF!"},{"$error":"#REF!"},{"$error":"#REF!"},{"$error":"#REF!"},null,{"$error":"#REF!"},{"$error":"#REF!"},{"$error":"#REF!"},{"$error":"#REF!"},{"$error":"#REF!"}]
[null,null,null,{"$f":"#REF!","v":{"$error":"#REF!"}},{"$error":"#REF!"},{"$error":"#REF!"},null,{"$error":"#REF!"},{"$error":"#REF!"},{"$error":"#REF!"},{"$error":"#REF!"},{"$error":"#REF!"},null,{"$error":"#REF!"},{"$error":"#REF!"},{"$error":"#REF!"},{"$error":"#REF!"},{"$error":"#REF!"},{"$error":"#REF!"},{"$error":"#REF!"},{"$error":"#REF!"},{"$error":"#REF!"},{"$error":"#REF!"},null,{"$error":"#REF!"},{"$error":"#REF!"},{"$error":"#REF!"},{"$error":"#REF!"},{"$error":"#REF!"}]
[null,null,null,{"$f":"#REF!","v":{"$error":"#REF!"}},{"$error":"#REF!"},{"$error":"#REF!"},null,{"$error":"#REF!"},{"$error":"#REF!"},{"$error":"#REF!"},{"$error":"#REF!"},{"$error":"#REF!"},null,{"$error":"#REF!"},{"$error":"#REF!"},{"$error":"#REF!"},{"$error":"#REF!"},{"$error":"#REF!"},{"$error":"#REF!"},{"$error":"#REF!"},{"$error":"#REF!"},{"$error":"#REF!"},{"$error":"#REF!"},null,{"$error":"#REF!"},{"$error":"#REF!"},{"$error":"#REF!"},{"$error":"#REF!"},{"$error":"#REF!"}]
[null,null,null,{"$f":"#REF!","v":{"$error":"#REF!"}},{"$error":"#REF!"},{"$error":"#REF!"},null,{"$error":"#REF!"},{"$error":"#REF!"},{"$error":"#REF!"},{"$error":"#REF!"},{"$error":"#REF!"},null,{"$error":"#REF!"},{"$error":"#REF!"},{"$error":"#REF!"},{"$error":"#REF!"},{"$error":"#REF!"},{"$error":"#REF!"},{"$error":"#REF!"},{"$error":"#REF!"},{"$error":"#REF!"},{"$error":"#REF!"},null,{"$error":"#REF!"},{"$error":"#REF!"},{"$error":"#REF!"},{"$error":"#REF!"},{"$error":"#REF!"}]
[null,null,null,{"$f":"#REF!","v":{"$error":"#REF!"}},{"$error":"#REF!"},{"$error":"#REF!"},null,{"$error":"#REF!"},{"$error":"#REF!"},{"$error":"#REF!"},{"$error":"#REF!"},{"$error":"#REF!"},null,{"$error":"#REF!"},{"$error":"#REF!"},{"$error":"#REF!"},{"$error":"#REF!"},{"$error":"#REF!"},{"$error":"#REF!"},{"$error":"#REF!"},{"$error":"#REF!"},{"$error":"#REF!"},{"$error":"#REF!"},null,{"$error":"#REF!"},{"$error":"#REF!"},{"$error":"#REF!"},{"$error":"#REF!"},{"$error":"#REF!"}]
[null,null,null,{"$f":"#REF!","v":{"$error":"#REF!"}},{"$error":"#REF!"},{"$error":"#REF!"},null,{"$error":"#REF!"},{"$error":"#REF!"},{"$error":"#REF!"},{"$error":"#REF!"},{"$error":"#REF!"},null,{"$error":"#REF!"},{"$error":"#REF!"},{"$error":"#REF!"},{"$error":"#REF!"},{"$error":"#REF!"},{"$error":"#REF!"},{"$error":"#REF!"},{"$error":"#REF!"},{"$error":"#REF!"},{"$error":"#REF!"},null,{"$error":"#REF!"},{"$error":"#REF!"},{"$error":"#REF!"},{"$error":"#REF!"},{"$error":"#REF!"}]
[null,null,null,{"$f":"#REF!","v":{"$error":"#REF!"}},{"$error":"#REF!"},{"$error":"#REF!"},null,{"$error":"#REF!"},{"$error":"#REF!"},{"$error":"#REF!"},{"$error":"#REF!"},{"$error":"#REF!"},null,{"$error":"#REF!"},{"$error":"#REF!"},{"$error":"#REF!"},{"$error":"#REF!"},{"$error":"#REF!"},{"$error":"#REF!"},{"$error":"#REF!"},{"$error":"#REF!"},{"$error":"#REF!"},{"$error":"#REF!"},null,{"$error":"#REF!"},{"$error":"#REF!"},{"$error":"#REF!"},{"$error":"#REF!"},{"$error":"#REF!"}]
[null,null,null,{"$f":"#REF!","v":{"$error":"#REF!"}},{"$error":"#REF!"},{"$error":"#REF!"},null,{"$error":"#REF!"},{"$error":"#REF!"},{"$error":"#REF!"},{"$error":"#REF!"},{"$error":"#REF!"},null,{"$error":"#REF!"},{"$error":"#REF!"},{"$error":"#REF!"},{"$error":"#REF!"},{"$error":"#REF!"},{"$error":"#REF!"},{"$error":"#REF!"},{"$error":"#REF!"},{"$error":"#REF!"},{"$error":"#REF!"},null,{"$error":"#REF!"},{"$error":"#REF!"},{"$error":"#REF!"},{"$error":"#REF!"},{"$error":"#REF!"}]
[null,null,null,{"$f":"#REF!","v":{"$error":"#REF!"}},{"$error":"#REF!"},{"$error":"#REF!"},null,{"$error":"#REF!"},{"$error":"#REF!"},{"$error":"#REF!"},{"$error":"#REF!"},{"$error":"#REF!"},null,{"$error":"#REF!"},{"$error":"#REF!"},{"$error":"#REF!"},{"$error":"#REF!"},{"$error":"#REF!"},{"$error":"#REF!"},{"$error":"#REF!"},{"$error":"#REF!"},{"$error":"#REF!"},{"$error":"#REF!"},null,{"$error":"#REF!"},{"$error":"#REF!"},{"$error":"#REF!"},{"$error":"#REF!"},{"$error":"#REF!"}]
[null,null,null,{"$f":"#REF!","v":{"$error":"#REF!"}},{"$error":"#REF!"},{"$error":"#REF!"},null,{"$error":"#REF!"},{"$error":"#REF!"},{"$error":"#REF!"},{"$error":"#REF!"},{"$error":"#REF!"},null,{"$error":"#REF!"},{"$error":"#REF!"},{"$error":"#REF!"},{"$error":"#REF!"},{"$error":"#REF!"},{"$error":"#REF!"},{"$error":"#REF!"},{"$error":"#REF!"},{"$error":"#REF!"},{"$error":"#REF!"},null,{"$error":"#REF!"},{"$error":"#REF!"},{"$error":"#REF!"},{"$error":"#REF!"},{"$error":"#REF!"}]
[null,null,null,{"$f":"#REF!","v":{"$error":"#REF!"}},{"$error":"#REF!"},{"$error":"#REF!"},null,{"$error":"#REF!"},{"$error":"#REF!"},{"$error":"#REF!"},{"$error":"#REF!"},{"$error":"#REF!"},null,{"$error":"#REF!"},{"$error":"#REF!"},{"$error":"#REF!"},{"$error":"#REF!"},{"$error":"#REF!"},{"$error":"#REF!"},{"$error":"#REF!"},{"$error":"#REF!"},{"$error":"#REF!"},{"$error":"#REF!"},null,{"$error":"#REF!"},{"$error":"#REF!"},{"$error":"#REF!"},{"$error":"#REF!"},{"$error":"#REF!"}]
[null,null,null,{"$f":"#REF!","v":{"$error":"#REF!"}},{"$error":"#REF!"},{"$error":"#REF!"},null,{"$error":"#REF!"},{"$error":"#REF!"},{"$error":"#REF!"},{"$error":"#REF!"},{"$error":"#REF!"},null,{"$error":"#REF!"},{"$error":"#REF!"},{"$error":"#REF!"},{"$error":"#REF!"},{"$error":"#REF!"},{"$error":"#REF!"},{"$error":"#REF!"},{"$error":"#REF!"},{"$error":"#REF!"},{"$error":"#REF!"},null,{"$error":"#REF!"},{"$error":"#REF!"},{"$error":"#REF!"},{"$error":"#REF!"},{"$error":"#REF!"}]
[null,null,null,{"$f":"#REF!","v":{"$error":"#REF!"}},{"$error":"#REF!"},{"$error":"#REF!"},null,{"$error":"#REF!"},{"$error":"#REF!"},{"$error":"#REF!"},{"$error":"#REF!"},{"$error":"#REF!"},null,{"$error":"#REF!"},{"$error":"#REF!"},{"$error":"#REF!"},{"$error":"#REF!"},{"$error":"#REF!"},{"$error":"#REF!"},{"$error":"#REF!"},{"$error":"#REF!"},{"$error":"#REF!"},{"$error":"#REF!"},null,{"$error":"#REF!"},{"$error":"#REF!"},{"$error":"#REF!"},{"$error":"#REF!"},{"$error":"#REF!"}]
[null,null,null,{"$f":"#REF!","v":{"$error":"#REF!"}},{"$error":"#REF!"},{"$error":"#REF!"},null,{"$error":"#REF!"},{"$error":"#REF!"},{"$error":"#REF!"},{"$error":"#REF!"},{"$error":"#REF!"},null,{"$error":"#REF!"},{"$error":"#REF!"},{"$error":"#REF!"},{"$error":"#REF!"},{"$error":"#REF!"},{"$error":"#REF!"},{"$error":"#REF!"},{"$error":"#REF!"},{"$error":"#REF!"},{"$error":"#REF!"},null,{"$error":"#REF!"},{"$error":"#REF!"},{"$error":"#REF!"},{"$error":"#REF!"},{"$error":"#REF!"}]
[null,null,null,{"$f":"#REF!","v":{"$error":"#REF!"}},{"$error":"#REF!"},{"$error":"#REF!"},null,{"$error":"#REF!"},{"$error":"#REF!"},{"$error":"#REF!"},{"$error":"#REF!"},{"$error":"#REF!"},null,{"$error":"#REF!"},{"$error":"#REF!"},{"$error":"#REF!"},{"$error":"#REF!"},{"$error":"#REF!"},{"$error":"#REF!"},{"$error":"#REF!"},{"$error":"#REF!"},{"$error":"#REF!"},{"$error":"#REF!"},null,{"$error":"#REF!"},{"$error":"#REF!"},{"$error":"#REF!"},{"$error":"#REF!"},{"$error":"#REF!"}]
[null,null,null,{"$f":"#REF!","v":{"$error":"#REF!"}},{"$error":"#REF!"},{"$error":"#REF!"},null,{"$error":"#REF!"},{"$error":"#REF!"},{"$error":"#REF!"},{"$error":"#REF!"},{"$error":"#REF!"},null,{"$error":"#REF!"},{"$error":"#REF!"},{"$error":"#REF!"},{"$error":"#REF!"},{"$error":"#REF!"},{"$error":"#REF!"},{"$error":"#REF!"},{"$error":"#REF!"},{"$error":"#REF!"},{"$error":"#REF!"},null,{"$error":"#REF!"},{"$error":"#REF!"},{"$error":"#REF!"},{"$error":"#REF!"},{"$error":"#REF!"}]
[null,null,null,{"$f":"#REF!","v":{"$error":"#REF!"}},{"$error":"#REF!"},{"$error":"#REF!"},null,{"$error":"#REF!"},{"$error":"#REF!"},{"$error":"#REF!"},{"$error":"#REF!"},{"$error":"#REF!"},null,{"$error":"#REF!"},{"$error":"#REF!"},{"$error":"#REF!"},{"$error":"#REF!"},{"$error":"#REF!"},{"$error":"#REF!"},{"$error":"#REF!"},{"$error":"#REF!"},{"$error":"#REF!"},{"$error":"#REF!"},null,{"$error":"#REF!"},{"$error":"#REF!"},{"$error":"#REF!"},{"$error":"#REF!"},{"$error":"#REF!"}]
[null,null,null,{"$f":"#REF!","v":{"$error":"#REF!"}},{"$error":"#REF!"},{"$error":"#REF!"},null,{"$error":"#REF!"},{"$error":"#REF!"},{"$error":"#REF!"},{"$error":"#REF!"},{"$error":"#REF!"},null,{"$error":"#REF!"},{"$error":"#REF!"},{"$error":"#REF!"},{"$error":"#REF!"},{"$error":"#REF!"},{"$error":"#REF!"},{"$error":"#REF!"},{"$error":"#REF!"},{"$error":"#REF!"},{"$error":"#REF!"},null,{"$error":"#REF!"},{"$error":"#REF!"},{"$error":"#REF!"},{"$error":"#REF!"},{"$error":"#REF!"}]
[null,null,null,{"$f":"#REF!","v":{"$error":"#REF!"}},{"$error":"#REF!"},{"$error":"#REF!"},null,{"$error":"#REF!"},{"$error":"#REF!"},{"$error":"#REF!"},{"$error":"#REF!"},{"$error":"#REF!"},null,{"$error":"#REF!"},{"$error":"#REF!"},{"$error":"#REF!"},{"$error":"#REF!"},{"$error":"#REF!"},{"$error":"#REF!"},{"$error":"#REF!"},{"$error":"#REF!"},{"$error":"#REF!"},{"$error":"#REF!"},null,{"$error":"#REF!"},{"$error":"#REF!"},{"$error":"#REF!"},{"$error":"#REF!"},{"$error":"#REF!"}]
[null,null,null,{"$f":"#REF!","v":{"$error":"#REF!"}},{"$error":"#REF!"},{"$error":"#REF!"},null,{"$error":"#REF!"},{"$error":"#REF!"},{"$error":"#REF!"},{"$error":"#REF!"},{"$error":"#REF!"},null,{"$error":"#REF!"},{"$error":"#REF!"},{"$error":"#REF!"},{"$error":"#REF!"},{"$error":"#REF!"},{"$error":"#REF!"},{"$error":"#REF!"},{"$error":"#REF!"},{"$error":"#REF!"},{"$error":"#REF!"},null,{"$error":"#REF!"},{"$error":"#REF!"},{"$error":"#REF!"},{"$error":"#REF!"},{"$error":"#REF!"}]
[null,null,null,{"$f":"#REF!","v":{"$error":"#REF!"}},{"$error":"#REF!"},{"$error":"#REF!"},null,{"$error":"#REF!"},{"$error":"#REF!"},{"$error":"#REF!"},{"$error":"#REF!"},{"$error":"#REF!"},null,{"$error":"#REF!"},{"$error":"#REF!"},{"$error":"#REF!"},{"$error":"#REF!"},{"$error":"#REF!"},{"$error":"#REF!"},{"$error":"#REF!"},{"$error":"#REF!"},{"$error":"#REF!"},{"$error":"#REF!"},null,{"$error":"#REF!"},{"$error":"#REF!"},{"$error":"#REF!"},{"$error":"#REF!"},{"$error":"#REF!"}]
[null,null,null,{"$f":"#REF!","v":{"$error":"#REF!"}},{"$error":"#REF!"},{"$error":"#REF!"},null,{"$error":"#REF!"},{"$error":"#REF!"},{"$error":"#REF!"},{"$error":"#REF!"},{"$error":"#REF!"},null,{"$error":"#REF!"},{"$error":"#REF!"},{"$error":"#REF!"},{"$error":"#REF!"},{"$error":"#REF!"},{"$error":"#REF!"},{"$error":"#REF!"},{"$error":"#REF!"},{"$error":"#REF!"},{"$error":"#REF!"},null,{"$error":"#REF!"},{"$error":"#REF!"},{"$error":"#REF!"},{"$error":"#REF!"},{"$error":"#REF!"}]
[null,null,null,{"$f":"#REF!","v":{"$error":"#REF!"}},{"$error":"#REF!"},{"$error":"#REF!"},null,{"$error":"#REF!"},{"$error":"#REF!"},{"$error":"#REF!"},{"$error":"#REF!"},{"$error":"#REF!"},null,{"$error":"#REF!"},{"$error":"#REF!"},{"$error":"#REF!"},{"$error":"#REF!"},{"$error":"#REF!"},{"$error":"#REF!"},{"$error":"#REF!"},{"$error":"#REF!"},{"$error":"#REF!"},{"$error":"#REF!"},null,{"$error":"#REF!"},{"$error":"#REF!"},{"$error":"#REF!"},{"$error":"#REF!"},{"$error":"#REF!"}]
[null,null,null,{"$f":"#REF!","v":{"$error":"#REF!"}},{"$error":"#REF!"},{"$error":"#REF!"},null,{"$error":"#REF!"},{"$error":"#REF!"},{"$error":"#REF!"},{"$error":"#REF!"},{"$error":"#REF!"},null,{"$error":"#REF!"},{"$error":"#REF!"},{"$error":"#REF!"},{"$error":"#REF!"},{"$error":"#REF!"},{"$error":"#REF!"},{"$error":"#REF!"},{"$error":"#REF!"},{"$error":"#REF!"},{"$error":"#REF!"},null,{"$error":"#REF!"},{"$error":"#REF!"},{"$error":"#REF!"},{"$error":"#REF!"},{"$error":"#REF!"}]
[null,null,null,{"$f":"#REF!","v":{"$error":"#REF!"}},{"$error":"#REF!"},{"$error":"#REF!"},null,{"$error":"#REF!"},{"$error":"#REF!"},{"$error":"#REF!"},{"$error":"#REF!"},{"$error":"#REF!"},null,{"$error":"#REF!"},{"$error":"#REF!"},{"$error":"#REF!"},{"$error":"#REF!"},{"$error":"#REF!"},{"$error":"#REF!"},{"$error":"#REF!"},{"$error":"#REF!"},{"$error":"#REF!"},{"$error":"#REF!"},null,{"$error":"#REF!"},{"$error":"#REF!"},{"$error":"#REF!"},{"$error":"#REF!"},{"$error":"#REF!"}]
[null,null,null,{"$f":"#REF!","v":{"$error":"#REF!"}},{"$error":"#REF!"},{"$error":"#REF!"},null,{"$error":"#REF!"},{"$error":"#REF!"},{"$error":"#REF!"},{"$error":"#REF!"},{"$error":"#REF!"},null,{"$error":"#REF!"},{"$error":"#REF!"},{"$error":"#REF!"},{"$error":"#REF!"},{"$error":"#REF!"},{"$error":"#REF!"},{"$error":"#REF!"},{"$error":"#REF!"},{"$error":"#REF!"},{"$error":"#REF!"},null,{"$error":"#REF!"},{"$error":"#REF!"},{"$error":"#REF!"},{"$error":"#REF!"},{"$error":"#REF!"}]
[null,null,null,{"$f":"#REF!","v":{"$error":"#REF!"}},{"$error":"#REF!"},{"$error":"#REF!"},null,{"$error":"#REF!"},{"$error":"#REF!"},{"$error":"#REF!"},{"$error":"#REF!"},{"$error":"#REF!"},null,{"$error":"#REF!"},{"$error":"#REF!"},{"$error":"#REF!"},{"$error":"#REF!"},{"$error":"#REF!"},{"$error":"#REF!"},{"$error":"#REF!"},{"$error":"#REF!"},{"$error":"#REF!"},{"$error":"#REF!"},null,{"$error":"#REF!"},{"$error":"#REF!"},{"$error":"#REF!"},{"$error":"#REF!"},{"$error":"#REF!"}]
[null,null,null,{"$f":"#REF!","v":{"$error":"#REF!"}},{"$error":"#REF!"},{"$error":"#REF!"},null,{"$error":"#REF!"},{"$error":"#REF!"},{"$error":"#REF!"},{"$error":"#REF!"},{"$error":"#REF!"},null,{"$error":"#REF!"},{"$error":"#REF!"},{"$error":"#REF!"},{"$error":"#REF!"},{"$error":"#REF!"},{"$error":"#REF!"},{"$error":"#REF!"},{"$error":"#REF!"},{"$error":"#REF!"},{"$error":"#REF!"},null,{"$error":"#REF!"},{"$error":"#REF!"},{"$error":"#REF!"},{"$error":"#REF!"},{"$error":"#REF!"}]
[null,null,null,{"$f":"#REF!","v":{"$error":"#REF!"}},{"$error":"#REF!"},{"$error":"#REF!"},null,{"$error":"#REF!"},{"$error":"#REF!"},{"$error":"#REF!"},{"$error":"#REF!"},{"$error":"#REF!"},null,{"$error":"#REF!"},{"$error":"#REF!"},{"$error":"#REF!"},{"$error":"#REF!"},{"$error":"#REF!"},{"$error":"#REF!"},{"$error":"#REF!"},{"$error":"#REF!"},{"$error":"#REF!"},{"$error":"#REF!"},null,{"$error":"#REF!"},{"$error":"#REF!"},{"$error":"#REF!"},{"$error":"#REF!"},{"$error":"#REF!"}]
[null,null,null,{"$f":"#REF!","v":{"$error":"#REF!"}},{"$error":"#REF!"},{"$error":"#REF!"},null,{"$error":"#REF!"},{"$error":"#REF!"},{"$error":"#REF!"},{"$error":"#REF!"},{"$error":"#REF!"},null,{"$error":"#REF!"},{"$error":"#REF!"},{"$error":"#REF!"},{"$error":"#REF!"},{"$error":"#REF!"},{"$error":"#REF!"},{"$error":"#REF!"},{"$error":"#REF!"},{"$error":"#REF!"},{"$error":"#REF!"},null,{"$error":"#REF!"},{"$error":"#REF!"},{"$error":"#REF!"},{"$error":"#REF!"},{"$error":"#REF!"}]
[null,null,null,{"$f":"#REF!","v":{"$error":"#REF!"}},{"$error":"#REF!"},{"$error":"#REF!"},null,{"$error":"#REF!"},{"$error":"#REF!"},{"$error":"#REF!"},{"$error":"#REF!"},{"$error":"#REF!"},null,{"$error":"#REF!"},{"$error":"#REF!"},{"$error":"#REF!"},{"$error":"#REF!"},{"$error":"#REF!"},{"$error":"#REF!"},{"$error":"#REF!"},{"$error":"#REF!"},{"$error":"#REF!"},{"$error":"#REF!"},null,{"$error":"#REF!"},{"$error":"#REF!"},{"$error":"#REF!"},{"$error":"#REF!"},{"$error":"#REF!"}]
[null,null,null,{"$f":"#REF!","v":{"$error":"#REF!"}},{"$error":"#REF!"},{"$error":"#REF!"},null,{"$error":"#REF!"},{"$error":"#REF!"},{"$error":"#REF!"},{"$error":"#REF!"},{"$error":"#REF!"},null,{"$error":"#REF!"},{"$error":"#REF!"},{"$error":"#REF!"},{"$error":"#REF!"},{"$error":"#REF!"},{"$error":"#REF!"},{"$error":"#REF!"},{"$error":"#REF!"},{"$error":"#REF!"},{"$error":"#REF!"},null,{"$error":"#REF!"},{"$error":"#REF!"},{"$error":"#REF!"},{"$error":"#REF!"},{"$error":"#REF!"}]
[null,null,null,{"$f":"#REF!","v":{"$error":"#REF!"}},{"$error":"#REF!"},{"$error":"#REF!"},null,{"$error":"#REF!"},{"$error":"#REF!"},{"$error":"#REF!"},{"$error":"#REF!"},{"$error":"#REF!"},null,{"$error":"#REF!"},{"$error":"#REF!"},{"$error":"#REF!"},{"$error":"#REF!"},{"$error":"#REF!"},{"$error":"#REF!"},{"$error":"#REF!"},{"$error":"#REF!"},{"$error":"#REF!"},{"$error":"#REF!"},null,{"$error":"#REF!"},{"$error":"#REF!"},{"$error":"#REF!"},{"$error":"#REF!"},{"$error":"#REF!"}]
[null,null,null,{"$f":"#REF!","v":{"$error":"#REF!"}},{"$error":"#REF!"},{"$error":"#REF!"},null,{"$error":"#REF!"},{"$error":"#REF!"},{"$error":"#REF!"},{"$error":"#REF!"},{"$error":"#REF!"},null,{"$error":"#REF!"},{"$error":"#REF!"},{"$error":"#REF!"},{"$error":"#REF!"},{"$error":"#REF!"},{"$error":"#REF!"},{"$error":"#REF!"},{"$error":"#REF!"},{"$error":"#REF!"},{"$error":"#REF!"},null,{"$error":"#REF!"},{"$error":"#REF!"},{"$error":"#REF!"},{"$error":"#REF!"},{"$error":"#REF!"}]
[null,null,null,{"$f":"#REF!","v":{"$error":"#REF!"}},{"$error":"#REF!"},{"$error":"#REF!"},null,{"$error":"#REF!"},{"$error":"#REF!"},{"$error":"#REF!"},{"$error":"#REF!"},{"$error":"#REF!"},null,{"$error":"#REF!"},{"$error":"#REF!"},{"$error":"#REF!"},{"$error":"#REF!"},{"$error":"#REF!"},{"$error":"#REF!"},{"$error":"#REF!"},{"$error":"#REF!"},{"$error":"#REF!"},{"$error":"#REF!"},null,{"$error":"#REF!"},{"$error":"#REF!"},{"$error":"#REF!"},{"$error":"#REF!"},{"$error":"#REF!"}]
[null,null,null,{"$f":"#REF!","v":{"$error":"#REF!"}},{"$error":"#REF!"},{"$error":"#REF!"},null,{"$error":"#REF!"},{"$error":"#REF!"},{"$error":"#REF!"},{"$error":"#REF!"},{"$error":"#REF!"},null,{"$error":"#REF!"},{"$error":"#REF!"},{"$error":"#REF!"},{"$error":"#REF!"},{"$error":"#REF!"},{"$error":"#REF!"},{"$error":"#REF!"},{"$error":"#REF!"},{"$error":"#REF!"},{"$error":"#REF!"},null,{"$error":"#REF!"},{"$error":"#REF!"},{"$error":"#REF!"},{"$error":"#REF!"},{"$error":"#REF!"}]
[null,null,null,{"$f":"#REF!","v":{"$error":"#REF!"}},{"$error":"#REF!"},{"$error":"#REF!"},null,{"$error":"#REF!"},{"$error":"#REF!"},{"$error":"#REF!"},{"$error":"#REF!"},{"$error":"#REF!"},null,{"$error":"#REF!"},{"$error":"#REF!"},{"$error":"#REF!"},{"$error":"#REF!"},{"$error":"#REF!"},{"$error":"#REF!"},{"$error":"#REF!"},{"$error":"#REF!"},{"$error":"#REF!"},{"$error":"#REF!"},null,{"$error":"#REF!"},{"$error":"#REF!"},{"$error":"#REF!"},{"$error":"#REF!"},{"$error":"#REF!"}]
[null,null,null,{"$f":"#REF!","v":{"$error":"#REF!"}},{"$error":"#REF!"},{"$error":"#REF!"},null,{"$error":"#REF!"},{"$error":"#REF!"},{"$error":"#REF!"},{"$error":"#REF!"},{"$error":"#REF!"},null,{"$error":"#REF!"},{"$error":"#REF!"},{"$error":"#REF!"},{"$error":"#REF!"},{"$error":"#REF!"},{"$error":"#REF!"},{"$error":"#REF!"},{"$error":"#REF!"},{"$error":"#REF!"},{"$error":"#REF!"},null,{"$error":"#REF!"},{"$error":"#REF!"},{"$error":"#REF!"},{"$error":"#REF!"},{"$error":"#REF!"}]
[null,null,null,{"$f":"#REF!","v":{"$error":"#REF!"}},{"$error":"#REF!"},{"$error":"#REF!"},null,{"$error":"#REF!"},{"$error":"#REF!"},{"$error":"#REF!"},{"$error":"#REF!"},{"$error":"#REF!"},null,{"$error":"#REF!"},{"$error":"#REF!"},{"$error":"#REF!"},{"$error":"#REF!"},{"$error":"#REF!"},{"$error":"#REF!"},{"$error":"#REF!"},{"$error":"#REF!"},{"$error":"#REF!"},{"$error":"#REF!"},null,{"$error":"#REF!"},{"$error":"#REF!"},{"$error":"#REF!"},{"$error":"#REF!"},{"$error":"#REF!"}]
[null,null,null,{"$f":"#REF!","v":{"$error":"#REF!"}},{"$error":"#REF!"},{"$error":"#REF!"},null,{"$error":"#REF!"},{"$error":"#REF!"},{"$error":"#REF!"},{"$error":"#REF!"},{"$error":"#REF!"},null,{"$error":"#REF!"},{"$error":"#REF!"},{"$error":"#REF!"},{"$error":"#REF!"},{"$error":"#REF!"},{"$error":"#REF!"},{"$error":"#REF!"},{"$error":"#REF!"},{"$error":"#REF!"},{"$error":"#REF!"},null,{"$error":"#REF!"},{"$error":"#REF!"},{"$error":"#REF!"},{"$error":"#REF!"},{"$error":"#REF!"}]
[null,null,null,{"$f":"#REF!","v":{"$error":"#REF!"}},{"$error":"#REF!"},{"$error":"#REF!"},null,{"$error":"#REF!"},{"$error":"#REF!"},{"$error":"#REF!"},{"$error":"#REF!"},{"$error":"#REF!"},null,{"$error":"#REF!"},{"$error":"#REF!"},{"$error":"#REF!"},{"$error":"#REF!"},{"$error":"#REF!"},{"$error":"#REF!"},{"$error":"#REF!"},{"$error":"#REF!"},{"$error":"#REF!"},{"$error":"#REF!"},null,{"$error":"#REF!"},{"$error":"#REF!"},{"$error":"#REF!"},{"$error":"#REF!"},{"$error":"#REF!"}]
[null,null,null,{"$f":"#REF!","v":{"$error":"#REF!"}},{"$error":"#REF!"},{"$error":"#REF!"},null,{"$error":"#REF!"},{"$error":"#REF!"},{"$error":"#REF!"},{"$error":"#REF!"},{"$error":"#REF!"},null,{"$error":"#REF!"},{"$error":"#REF!"},{"$error":"#REF!"},{"$error":"#REF!"},{"$error":"#REF!"},{"$error":"#REF!"},{"$error":"#REF!"},{"$error":"#REF!"},{"$error":"#REF!"},{"$error":"#REF!"},null,{"$error":"#REF!"},{"$error":"#REF!"},{"$error":"#REF!"},{"$error":"#REF!"},{"$error":"#REF!"}]
[null,null,null,{"$f":"#REF!","v":{"$error":"#REF!"}},{"$error":"#REF!"},{"$error":"#REF!"},null,{"$error":"#REF!"},{"$error":"#REF!"},{"$error":"#REF!"},{"$error":"#REF!"},{"$error":"#REF!"},null,{"$error":"#REF!"},{"$error":"#REF!"},{"$error":"#REF!"},{"$error":"#REF!"},{"$error":"#REF!"},{"$error":"#REF!"},{"$error":"#REF!"},{"$error":"#REF!"},{"$error":"#REF!"},{"$error":"#REF!"},null,{"$error":"#REF!"},{"$error":"#REF!"},{"$error":"#REF!"},{"$error":"#REF!"},{"$error":"#REF!"}]
[null,null,null,{"$f":"#REF!","v":{"$error":"#REF!"}},{"$error":"#REF!"},{"$error":"#REF!"},null,{"$error":"#REF!"},{"$error":"#REF!"},{"$error":"#REF!"},{"$error":"#REF!"},{"$error":"#REF!"},null,{"$error":"#REF!"},{"$error":"#REF!"},{"$error":"#REF!"},{"$error":"#REF!"},{"$error":"#REF!"},{"$error":"#REF!"},{"$error":"#REF!"},{"$error":"#REF!"},{"$error":"#REF!"},{"$error":"#REF!"},null,{"$error":"#REF!"},{"$error":"#REF!"},{"$error":"#REF!"},{"$error":"#REF!"},{"$error":"#REF!"}]
[null,null,null,{"$f":"#REF!","v":{"$error":"#REF!"}},{"$error":"#REF!"},{"$error":"#REF!"},null,{"$error":"#REF!"},{"$error":"#REF!"},{"$error":"#REF!"},{"$error":"#REF!"},{"$error":"#REF!"},null,{"$error":"#REF!"},{"$error":"#REF!"},{"$error":"#REF!"},{"$error":"#REF!"},{"$error":"#REF!"},{"$error":"#REF!"},{"$error":"#REF!"},{"$error":"#REF!"},{"$error":"#REF!"},{"$error":"#REF!"},null,{"$error":"#REF!"},{"$error":"#REF!"},{"$error":"#REF!"},{"$error":"#REF!"},{"$error":"#REF!"}]
[null,null,null,{"$f":"#REF!","v":{"$error":"#REF!"}},{"$error":"#REF!"},{"$error":"#REF!"},null,{"$error":"#REF!"},{"$error":"#REF!"},{"$error":"#REF!"},{"$error":"#REF!"},{"$error":"#REF!"},null,{"$error":"#REF!"},{"$error":"#REF!"},{"$error":"#REF!"},{"$error":"#REF!"},{"$error":"#REF!"},{"$error":"#REF!"},{"$error":"#REF!"},{"$error":"#REF!"},{"$error":"#REF!"},{"$error":"#REF!"},null,{"$error":"#REF!"},{"$error":"#REF!"},{"$error":"#REF!"},{"$error":"#REF!"},{"$error":"#REF!"}]
[null,null,null,{"$f":"#REF!","v":{"$error":"#REF!"}},{"$f":"IF(D70=100,\"4\",IF(D70>80,\"4\",IF(D70>60,\"3\",IF(D70>40,\"2\",IF(D70>20,\"1\",IF(D70>0,0,\" \"))))))","v":{"$error":"#REF!"}},{"$f":"IF(D70=100,20,IF(D70>80,D70-80,IF(D70>60,D70-60,IF(D70>40,D70-40,IF(D70>20,D70-20,IF(D70>0,D70-0))))))","v":{"$error":"#REF!"}},null,{"$f":"IF(F70-0>0,E70+1,E70)","v":{"$error":"#REF!"}},{"$f":"IF(F70-1>0,E70+1,E70)","v":{"$error":"#REF!"}},{"$f":"IF(F70-2>0,E70+1,E70)","v":{"$error":"#REF!"}},{"$f":"IF(F70-13>0,E70+1,E70)","v":{"$error":"#REF!"}},{"$f":"IF(F70-4>0,E70+1,E70)","v":{"$error":"#REF!"}},null,{"$f":"IF(F70-17>0,E70+1,E70)","v":{"$error":"#REF!"}},{"$f":"IF(F70-6>0,E70+1,E70)","v":{"$error":"#REF!"}},{"$f":"IF(F70-7>0,E70+1,E70)","v":{"$error":"#REF!"}},{"$f":"IF(F70-8>0,E70+1,E70)","v":{"$error":"#REF!"}},{"$f":"IF(F70-9>0,E70+1,E70)","v":{"$error":"#REF!"}},{"$f":"IF(F70-10>0,E70+1,E70)","v":{"$error":"#REF!"}},{"$f":"IF(F70-19>0,E70+1,E70)","v":{"$error":"#REF!"}},{"$f":"IF(F70-12>0,E70+1,E70)","v":{"$error":"#REF!"}},{"$f":"IF(F70-3>0,E70+1,E70)","v":{"$error":"#REF!"}},{"$f":"IF(F70-14>0,E70+1,E70)","v":{"$error":"#REF!"}},null,{"$f":"IF(F70-15>0,E70+1,E70)","v":{"$error":"#REF!"}},{"$f":"IF(F70-16>0,E70+1,E70)","v":{"$error":"#REF!"}},{"$f":"IF(F70-5>0,E70+1,E70)","v":{"$error":"#REF!"}},{"$f":"IF(F70-18>0,E70+1,E70)","v":{"$error":"#REF!"}},{"$f":"IF(F70-11>0,E70+1,E70)","v":{"$error":"#REF!"}}]
[null,null,null,{"$f":"#REF!","v":{"$error":"#REF!"}},{"$error":"#REF!"},{"$error":"#REF!"},null,{"$error":"#REF!"},{"$error":"#REF!"},{"$error":"#REF!"},{"$error":"#REF!"},{"$error":"#REF!"},null,{"$error":"#REF!"},{"$error":"#REF!"},{"$error":"#REF!"},{"$error":"#REF!"},{"$error":"#REF!"},{"$error":"#REF!"},{"$error":"#REF!"},{"$error":"#REF!"},{"$error":"#REF!"},{"$error":"#REF!"},null,{"$error":"#REF!"},{"$error":"#REF!"},{"$error":"#REF!"},{"$error":"#REF!"},{"$error":"#REF!"}]
[null,null,null,{"$f":"#REF!","v":{"$error":"#REF!"}},{"$error":"#REF!"},{"$error":"#REF!"},null,{"$error":"#REF!"},{"$error":"#REF!"},{"$error":"#REF!"},{"$error":"#REF!"},{"$error":"#REF!"},null,{"$error":"#REF!"},{"$error":"#REF!"},{"$error":"#REF!"},{"$error":"#REF!"},{"$error":"#REF!"},{"$error":"#REF!"},{"$error":"#REF!"},{"$error":"#REF!"},{"$error":"#REF!"},{"$error":"#REF!"},null,{"$error":"#REF!"},{"$error":"#REF!"},{"$error":"#REF!"},{"$error":"#REF!"},{"$error":"#REF!"}]
[null,null,null,{"$f":"#REF!","v":{"$error":"#REF!"}},{"$error":"#REF!"},{"$error":"#REF!"},null,{"$error":"#REF!"},{"$error":"#REF!"},{"$error":"#REF!"},{"$error":"#REF!"},{"$error":"#REF!"},null,{"$error":"#REF!"},{"$error":"#REF!"},{"$error":"#REF!"},{"$error":"#REF!"},{"$error":"#REF!"},{"$error":"#REF!"},{"$error":"#REF!"},{"$error":"#REF!"},{"$error":"#REF!"},{"$error":"#REF!"},null,{"$error":"#REF!"},{"$error":"#REF!"},{"$error":"#REF!"},{"$error":"#REF!"},{"$error":"#REF!"}]
[null,null,null,{"$f":"#REF!","v":{"$error":"#REF!"}},{"$error":"#REF!"},{"$error":"#REF!"},null,{"$error":"#REF!"},{"$error":"#REF!"},{"$error":"#REF!"},{"$error":"#REF!"},{"$error":"#REF!"},null,{"$error":"#REF!"},{"$error":"#REF!"},{"$error":"#REF!"},{"$error":"#REF!"},{"$error":"#REF!"},{"$error":"#REF!"},{"$error":"#REF!"},{"$error":"#REF!"},{"$error":"#REF!"},{"$error":"#REF!"},null,{"$error":"#REF!"},{"$error":"#REF!"},{"$error":"#REF!"},{"$error":"#REF!"},{"$error":"#REF!"}]
[null,null,null,{"$f":"#REF!","v":{"$error":"#REF!"}},{"$error":"#REF!"},{"$error":"#REF!"},null,{"$error":"#REF!"},{"$error":"#REF!"},{"$error":"#REF!"},{"$error":"#REF!"},{"$error":"#REF!"},null,{"$error":"#REF!"},{"$error":"#REF!"},{"$error":"#REF!"},{"$error":"#REF!"},{"$error":"#REF!"},{"$error":"#REF!"},{"$error":"#REF!"},{"$error":"#REF!"},{"$error":"#REF!"},{"$error":"#REF!"},null,{"$error":"#REF!"},{"$error":"#REF!"},{"$error":"#REF!"},{"$error":"#REF!"},{"$error":"#REF!"}]
[null,null,null,{"$f":"#REF!","v":{"$error":"#REF!"}},{"$error":"#REF!"},{"$error":"#REF!"},null,{"$error":"#REF!"},{"$error":"#REF!"},{"$error":"#REF!"},{"$error":"#REF!"},{"$error":"#REF!"},null,{"$error":"#REF!"},{"$error":"#REF!"},{"$error":"#REF!"},{"$error":"#REF!"},{"$error":"#REF!"},{"$error":"#REF!"},{"$error":"#REF!"},{"$error":"#REF!"},{"$error":"#REF!"},{"$error":"#REF!"},null,{"$error":"#REF!"},{"$error":"#REF!"},{"$error":"#REF!"},{"$error":"#REF!"},{"$error":"#REF!"}]

{"sheet":"Sayfa6","index":1,"n_rows":75,"n_cols":31,"rows_kept":75,"cut":false,"hidden":true,"merged":[]}
[]
[]
[]
[]
[null,null,null,{"$f":"'dersiçiperformans (3)'!Z11","v":0},{"$f":"IF(D5=100,\"4\",IF(D5>80,\"4\",IF(D5>60,\"3\",IF(D5>40,\"2\",IF(D5>20,\"1\",IF(D5>0,0,\" \"))))))","v":" "},{"$f":"IF(D5=100,20,IF(D5>80,D5-80,IF(D5>60,D5-60,IF(D5>40,D5-40,IF(D5>20,D5-20,IF(D5>0,D5-0))))))","v":false},null,{"$f":"IF(F5-0>0,E5+1,E5)","v":" "},{"$f":"IF(F5-1>0,E5+1,E5)","v":" "},{"$f":"IF(F5-2>0,E5+1,E5)","v":" "},{"$f":"IF(F5-13>0,E5+1,E5)","v":" "},{"$f":"IF(F5-4>0,E5+1,E5)","v":" "},null,{"$f":"IF(F5-17>0,E5+1,E5)","v":" "},{"$f":"IF(F5-6>0,E5+1,E5)","v":" "},{"$f":"IF(F5-7>0,E5+1,E5)","v":" "},{"$f":"IF(F5-8>0,E5+1,E5)","v":" "},{"$f":"IF(F5-9>0,E5+1,E5)","v":" "},null,{"$f":"IF(F5-10>0,E5+1,E5)","v":" "},{"$f":"IF(F5-19>0,E5+1,E5)","v":" "},{"$f":"IF(F5-12>0,E5+1,E5)","v":" "},{"$f":"IF(F5-3>0,E5+1,E5)","v":" "},{"$f":"IF(F5-14>0,E5+1,E5)","v":" "},null,{"$f":"IF(F5-15>0,E5+1,E5)","v":" "},{"$f":"IF(F5-16>0,E5+1,E5)","v":" "},null,{"$f":"IF(F5-5>0,E5+1,E5)","v":" "},{"$f":"IF(F5-18>0,E5+1,E5)","v":" "},{"$f":"IF(F5-11>0,E5+1,E5)","v":" "}]
[null,null,null,{"$f":"'dersiçiperformans (3)'!Z12","v":0},{"$f":"IF(D6=100,\"4\",IF(D6>80,\"4\",IF(D6>60,\"3\",IF(D6>40,\"2\",IF(D6>20,\"1\",IF(D6>0,0,\" \"))))))","v":" "},{"$f":"IF(D6=100,20,IF(D6>80,D6-80,IF(D6>60,D6-60,IF(D6>40,D6-40,IF(D6>20,D6-20,IF(D6>0,D6-0))))))","v":false},null,{"$f":"IF(F6-0>0,E6+1,E6)","v":" "},{"$f":"IF(F6-1>0,E6+1,E6)","v":" "},{"$f":"IF(F6-2>0,E6+1,E6)","v":" "},{"$f":"IF(F6-13>0,E6+1,E6)","v":" "},{"$f":"IF(F6-4>0,E6+1,E6)","v":" "},null,{"$f":"IF(F6-17>0,E6+1,E6)","v":" "},{"$f":"IF(F6-6>0,E6+1,E6)","v":" "},{"$f":"IF(F6-7>0,E6+1,E6)","v":" "},{"$f":"IF(F6-8>0,E6+1,E6)","v":" "},{"$f":"IF(F6-9>0,E6+1,E6)","v":" "},null,{"$f":"IF(F6-10>0,E6+1,E6)","v":" "},{"$f":"IF(F6-19>0,E6+1,E6)","v":" "},{"$f":"IF(F6-12>0,E6+1,E6)","v":" "},{"$f":"IF(F6-3>0,E6+1,E6)","v":" "},{"$f":"IF(F6-14>0,E6+1,E6)","v":" "},null,{"$f":"IF(F6-15>0,E6+1,E6)","v":" "},{"$f":"IF(F6-16>0,E6+1,E6)","v":" "},null,{"$f":"IF(F6-5>0,E6+1,E6)","v":" "},{"$f":"IF(F6-18>0,E6+1,E6)","v":" "},{"$f":"IF(F6-11>0,E6+1,E6)","v":" "}]
[null,null,null,{"$f":"'dersiçiperformans (3)'!Z13","v":0}," ",false,null," "," "," "," "," ",null," "," "," "," "," ",null," "," "," "," "," ",null," "," ",null," "," "," "]
[null,null,null,{"$f":"'dersiçiperformans (3)'!Z14","v":0}," ",false,null," "," "," "," "," ",null," "," "," "," "," ",null," "," "," "," "," ",null," "," ",null," "," "," "]
[null,null,null,{"$f":"'dersiçiperformans (3)'!Z15","v":0}," ",false,null," "," "," "," "," ",null," "," "," "," "," ",null," "," "," "," "," ",null," "," ",null," "," "," "]
[null,null,null,{"$f":"'dersiçiperformans (3)'!Z16","v":0}," ",false,null," "," "," "," "," ",null," "," "," "," "," ",null," "," "," "," "," ",null," "," ",null," "," "," "]
[null,null,null,{"$f":"'dersiçiperformans (3)'!Z17","v":0}," ",false,null," "," "," "," "," ",null," "," "," "," "," ",null," "," "," "," "," ",null," "," ",null," "," "," "]
[null,null,null,{"$f":"'dersiçiperformans (3)'!Z18","v":0}," ",false,null," "," "," "," "," ",null," "," "," "," "," ",null," "," "," "," "," ",null," "," ",null," "," "," "]
[null,null,null,{"$f":"'dersiçiperformans (3)'!Z19","v":0}," ",false,null," "," "," "," "," ",null," "," "," "," "," ",null," "," "," "," "," ",null," "," ",null," "," "," "]
[null,null,null,{"$f":"'dersiçiperformans (3)'!Z20","v":0}," ",false,null," "," "," "," "," ",null," "," "," "," "," ",null," "," "," "," "," ",null," "," ",null," "," "," "]
[null,null,null,{"$f":"'dersiçiperformans (3)'!Z21","v":0}," ",false,null," "," "," "," "," ",null," "," "," "," "," ",null," "," "," "," "," ",null," "," ",null," "," "," "]
[null,null,null,{"$f":"'dersiçiperformans (3)'!Z22","v":0}," ",false,null," "," "," "," "," ",null," "," "," "," "," ",null," "," "," "," "," ",null," "," ",null," "," "," "]
[null,null,null,{"$f":"'dersiçiperformans (3)'!Z23","v":0}," ",false,null," "," "," "," "," ",null," "," "," "," "," ",null," "," "," "," "," ",null," "," ",null," "," "," "]
[null,null,null,{"$f":"'dersiçiperformans (3)'!Z24","v":0}," ",false,null," "," "," "," "," ",null," "," "," "," "," ",null," "," "," "," "," ",null," "," ",null," "," "," "]
[null,null,null,{"$f":"'dersiçiperformans (3)'!Z25","v":0}," ",false,null," "," "," "," "," ",null," "," "," "," "," ",null," "," "," "," "," ",null," "," ",null," "," "," "]
[null,null,null,{"$f":"'dersiçiperformans (3)'!Z26","v":0}," ",false,null," "," "," "," "," ",null," "," "," "," "," ",null," "," "," "," "," ",null," "," ",null," "," "," "]
[null,null,null,{"$f":"'dersiçiperformans (3)'!Z27","v":0}," ",false,null," "," "," "," "," ",null," "," "," "," "," ",null," "," "," "," "," ",null," "," ",null," "," "," "]
[null,null,null,{"$f":"'dersiçiperformans (3)'!Z28","v":0}," ",false,null," "," "," "," "," ",null," "," "," "," "," ",null," "," "," "," "," ",null," "," ",null," "," "," "]
[null,null,null,{"$f":"'dersiçiperformans (3)'!Z29","v":0}," ",false,null," "," "," "," "," ",null," "," "," "," "," ",null," "," "," "," "," ",null," "," ",null," "," "," "]
[null,null,null,{"$f":"'dersiçiperformans (3)'!Z30","v":0}," ",false,null," "," "," "," "," ",null," "," "," "," "," ",null," "," "," "," "," ",null," "," ",null," "," "," "]
[null,null,null,{"$f":"'dersiçiperformans (3)'!Z31","v":0}," ",false,null," "," "," "," "," ",null," "," "," "," "," ",null," "," "," "," "," ",null," "," ",null," "," "," "]
[null,null,null,{"$f":"'dersiçiperformans (3)'!Z32","v":0}," ",false,null," "," "," "," "," ",null," "," "," "," "," ",null," "," "," "," "," ",null," "," ",null," "," "," "]
[null,null,null,{"$f":"'dersiçiperformans (3)'!Z33","v":0}," ",false,null," "," "," "," "," ",null," "," "," "," "," ",null," "," "," "," "," ",null," "," ",null," "," "," "]
[null,null,null,{"$f":"'dersiçiperformans (3)'!Z34","v":0}," ",false,null," "," "," "," "," ",null," "," "," "," "," ",null," "," "," "," "," ",null," "," ",null," "," "," "]
[null,null,null,{"$f":"'dersiçiperformans (3)'!Z35","v":0}," ",false,null," "," "," "," "," ",null," "," "," "," "," ",null," "," "," "," "," ",null," "," ",null," "," "," "]
[null,null,null,{"$f":"'dersiçiperformans (3)'!Z36","v":0}," ",false,null," "," "," "," "," ",null," "," "," "," "," ",null," "," "," "," "," ",null," "," ",null," "," "," "]
[null,null,null,{"$f":"'dersiçiperformans (3)'!Z37","v":0}," ",false,null," "," "," "," "," ",null," "," "," "," "," ",null," "," "," "," "," ",null," "," ",null," "," "," "]
[null,null,null,{"$f":"'dersiçiperformans (3)'!Z38","v":0}," ",false,null," "," "," "," "," ",null," "," "," "," "," ",null," "," "," "," "," ",null," "," ",null," "," "," "]
[null,null,null,{"$f":"'dersiçiperformans (3)'!Z39","v":0}," ",false,null," "," "," "," "," ",null," "," "," "," "," ",null," "," "," "," "," ",null," "," ",null," "," "," "]
[null,null,null,{"$f":"'dersiçiperformans (3)'!Z40","v":0}," ",false,null," "," "," "," "," ",null," "," "," "," "," ",null," "," "," "," "," ",null," "," ",null," "," "," "]
[null,null,null,{"$f":"'dersiçiperformans (3)'!Z41","v":0}," ",false,null," "," "," "," "," ",null," "," "," "," "," ",null," "," "," "," "," ",null," "," ",null," "," "," "]
[null,null,null,{"$f":"'dersiçiperformans (3)'!Z42","v":0}," ",false,null," "," "," "," "," ",null," "," "," "," "," ",null," "," "," "," "," ",null," "," ",null," "," "," "]
[null,null,null,{"$f":"'dersiçiperformans (3)'!Z43","v":0}," ",false,null," "," "," "," "," ",null," "," "," "," "," ",null," "," "," "," "," ",null," "," ",null," "," "," "]
[null,null,null,{"$f":"'dersiçiperformans (3)'!Z44","v":0}," ",false,null," "," "," "," "," ",null," "," "," "," "," ",null," "," "," "," "," ",null," "," ",null," "," "," "]
[null,null,null,{"$f":"'dersiçiperformans (3)'!Z45","v":0}," ",false,null," "," "," "," "," ",null," "," "," "," "," ",null," "," "," "," "," ",null," "," ",null," "," "," "]
[null,null,null,{"$f":"'dersiçiperformans (3)'!Z46","v":0}," ",false,null," "," "," "," "," ",null," "," "," "," "," ",null," "," "," "," "," ",null," "," ",null," "," "," "]
[null,null,null,{"$f":"'dersiçiperformans (3)'!Z47","v":0}," ",false,null," "," "," "," "," ",null," "," "," "," "," ",null," "," "," "," "," ",null," "," ",null," "," "," "]
[null,null,null,{"$f":"'dersiçiperformans (3)'!Z48","v":0}," ",false,null," "," "," "," "," ",null," "," "," "," "," ",null," "," "," "," "," ",null," "," ",null," "," "," "]
[null,null,null,{"$f":"'dersiçiperformans (3)'!Z49","v":0}," ",false,null," "," "," "," "," ",null," "," "," "," "," ",null," "," "," "," "," ",null," "," ",null," "," "," "]
[null,null,null,{"$f":"'dersiçiperformans (3)'!Z50","v":0}," ",false,null," "," "," "," "," ",null," "," "," "," "," ",null," "," "," "," "," ",null," "," ",null," "," "," "]
[null,null,null,{"$f":"'dersiçiperformans (3)'!Z51","v":0}," ",false,null," "," "," "," "," ",null," "," "," "," "," ",null," "," "," "," "," ",null," "," ",null," "," "," "]
[null,null,null,{"$f":"'dersiçiperformans (3)'!Z52","v":0}," ",false,null," "," "," "," "," ",null," "," "," "," "," ",null," "," "," "," "," ",null," "," ",null," "," "," "]
[null,null,null,{"$f":"'dersiçiperformans (3)'!Z53","v":0}," ",false,null," "," "," "," "," ",null," "," "," "," "," ",null," "," "," "," "," ",null," "," ",null," "," "," "]
[null,null,null,{"$f":"'dersiçiperformans (3)'!Z54","v":0}," ",false,null," "," "," "," "," ",null," "," "," "," "," ",null," "," "," "," "," ",null," "," ",null," "," "," "]
[null,null,null,{"$f":"'dersiçiperformans (3)'!Z55","v":0}," ",false,null," "," "," "," "," ",null," "," "," "," "," ",null," "," "," "," "," ",null," "," ",null," "," "," "]
[null,null,null,{"$f":"'dersiçiperformans (3)'!Z56","v":0}," ",false,null," "," "," "," "," ",null," "," "," "," "," ",null," "," "," "," "," ",null," "," ",null," "," "," "]
[null,null,null,{"$f":"'dersiçiperformans (3)'!Z57","v":0}," ",false,null," "," "," "," "," ",null," "," "," "," "," ",null," "," "," "," "," ",null," "," ",null," "," "," "]
[null,null,null,{"$f":"'dersiçiperformans (3)'!Z58","v":0}," ",false,null," "," "," "," "," ",null," "," "," "," "," ",null," "," "," "," "," ",null," "," ",null," "," "," "]
[null,null,null,{"$f":"'dersiçiperformans (3)'!Z59","v":0}," ",false,null," "," "," "," "," ",null," "," "," "," "," ",null," "," "," "," "," ",null," "," ",null," "," "," "]
[null,null,null,{"$f":"'dersiçiperformans (3)'!Z60","v":0}," ",false,null," "," "," "," "," ",null," "," "," "," "," ",null," "," "," "," "," ",null," "," ",null," "," "," "]
[null,null,null,{"$f":"'dersiçiperformans (3)'!Z61","v":0}," ",false,null," "," "," "," "," ",null," "," "," "," "," ",null," "," "," "," "," ",null," "," ",null," "," "," "]
[null,null,null,{"$f":"'dersiçiperformans (3)'!Z62","v":0}," ",false,null," "," "," "," "," ",null," "," "," "," "," ",null," "," "," "," "," ",null," "," ",null," "," "," "]
[null,null,null,{"$f":"'dersiçiperformans (3)'!Z63","v":0}," ",false,null," "," "," "," "," ",null," "," "," "," "," ",null," "," "," "," "," ",null," "," ",null," "," "," "]
[null,null,null,{"$f":"'dersiçiperformans (3)'!Z64","v":0}," ",false,null," "," "," "," "," ",null," "," "," "," "," ",null," "," "," "," "," ",null," "," ",null," "," "," "]
[null,null,null,{"$f":"'dersiçiperformans (3)'!Z65","v":0}," ",false,null," "," "," "," "," ",null," "," "," "," "," ",null," "," "," "," "," ",null," "," ",null," "," "," "]
[null,null,null,{"$f":"'dersiçiperformans (3)'!Z66","v":0}," ",false,null," "," "," "," "," ",null," "," "," "," "," ",null," "," "," "," "," ",null," "," ",null," "," "," "]
[null,null,null,{"$f":"'dersiçiperformans (3)'!Z67","v":0}," ",false,null," "," "," "," "," ",null," "," "," "," "," ",null," "," "," "," "," ",null," "," ",null," "," "," "]
[null,null,null,{"$f":"'dersiçiperformans (3)'!Z68","v":0}," ",false,null," "," "," "," "," ",null," "," "," "," "," ",null," "," "," "," "," ",null," "," ",null," "," "," "]
[null,null,null,{"$f":"'dersiçiperformans (3)'!Z69","v":0}," ",false,null," "," "," "," "," ",null," "," "," "," "," ",null," "," "," "," "," ",null," "," ",null," "," "," "]
[null,null,null,{"$f":"'dersiçiperformans (3)'!Z70","v":0}," ",false,null," "," "," "," "," ",null," "," "," "," "," ",null," "," "," "," "," ",null," "," ",null," "," "," "]
[null,null,null,{"$f":"'dersiçiperformans (3)'!Z71","v":0}," ",false,null," "," "," "," "," ",null," "," "," "," "," ",null," "," "," "," "," ",null," "," ",null," "," "," "]
[null,null,null,{"$f":"'dersiçiperformans (3)'!Z72","v":0}," ",false,null," "," "," "," "," ",null," "," "," "," "," ",null," "," "," "," "," ",null," "," ",null," "," "," "]
[null,null,null,{"$f":"'dersiçiperformans (3)'!Z73","v":0}," ",false,null," "," "," "," "," ",null," "," "," "," "," ",null," "," "," "," "," ",null," "," ",null," "," "," "]
[null,null,null,{"$f":"'dersiçiperformans (3)'!Z74","v":0}," ",false,null," "," "," "," "," ",null," "," "," "," "," ",null," "," "," "," "," ",null," "," ",null," "," "," "]
[null,null,null,{"$f":"'dersiçiperformans (3)'!Z75","v":0}," ",false,null," "," "," "," "," ",null," "," "," "," "," ",null," "," "," "," "," ",null," "," ",null," "," "," "]
[null,null,null,{"$f":"'dersiçiperformans (3)'!Z76","v":0},{"$f":"IF(D70=100,\"4\",IF(D70>80,\"4\",IF(D70>60,\"3\",IF(D70>40,\"2\",IF(D70>20,\"1\",IF(D70>0,0,\" \"))))))","v":" "},{"$f":"IF(D70=100,20,IF(D70>80,D70-80,IF(D70>60,D70-60,IF(D70>40,D70-40,IF(D70>20,D70-20,IF(D70>0,D70-0))))))","v":false},null,{"$f":"IF(F70-0>0,E70+1,E70)","v":" "},{"$f":"IF(F70-1>0,E70+1,E70)","v":" "},{"$f":"IF(F70-2>0,E70+1,E70)","v":" "},{"$f":"IF(F70-13>0,E70+1,E70)","v":" "},{"$f":"IF(F70-4>0,E70+1,E70)","v":" "},null,{"$f":"IF(F70-17>0,E70+1,E70)","v":" "},{"$f":"IF(F70-6>0,E70+1,E70)","v":" "},{"$f":"IF(F70-7>0,E70+1,E70)","v":" "},{"$f":"IF(F70-8>0,E70+1,E70)","v":" "},{"$f":"IF(F70-9>0,E70+1,E70)","v":" "},null,{"$f":"IF(F70-10>0,E70+1,E70)","v":" "},{"$f":"IF(F70-19>0,E70+1,E70)","v":" "},{"$f":"IF(F70-12>0,E70+1,E70)","v":" "},{"$f":"IF(F70-3>0,E70+1,E70)","v":" "},{"$f":"IF(F70-14>0,E70+1,E70)","v":" "},null,{"$f":"IF(F70-15>0,E70+1,E70)","v":" "},{"$f":"IF(F70-16>0,E70+1,E70)","v":" "},null,{"$f":"IF(F70-5>0,E70+1,E70)","v":" "},{"$f":"IF(F70-18>0,E70+1,E70)","v":" "},{"$f":"IF(F70-11>0,E70+1,E70)","v":" "}]
[null,null,null,{"$f":"'dersiçiperformans (3)'!Z77","v":0}," ",false,null," "," "," "," "," ",null," "," "," "," "," ",null," "," "," "," "," ",null," "," ",null," "," "," "]
[null,null,null,{"$f":"'dersiçiperformans (3)'!Z78","v":0}," ",false,null," "," "," "," "," ",null," "," "," "," "," ",null," "," "," "," "," ",null," "," ",null," "," "," "]
[null,null,null,{"$f":"'dersiçiperformans (3)'!Z79","v":0}," ",false,null," "," "," "," "," ",null," "," "," "," "," ",null," "," "," "," "," ",null," "," ",null," "," "," "]
[null,null,null,{"$f":"'dersiçiperformans (3)'!Z80","v":0}," ",false,null," "," "," "," "," ",null," "," "," "," "," ",null," "," "," "," "," ",null," "," ",null," "," "," "]
[null,null,null,{"$f":"'dersiçiperformans (3)'!Z81","v":0}," ",false,null," "," "," "," "," ",null," "," "," "," "," ",null," "," "," "," "," ",null," "," ",null," "," "," "]

{"sheet":"Sayfa5","index":2,"n_rows":75,"n_cols":31,"rows_kept":75,"cut":false,"hidden":true,"merged":[]}
[]
[]
[]
[]
[null,null,null,{"$f":"'dersiçiperformans (2)'!Z11","v":0},{"$f":"IF(D5=100,\"4\",IF(D5>80,\"4\",IF(D5>60,\"3\",IF(D5>40,\"2\",IF(D5>20,\"1\",IF(D5>0,0,\" \"))))))","v":" "},{"$f":"IF(D5=100,20,IF(D5>80,D5-80,IF(D5>60,D5-60,IF(D5>40,D5-40,IF(D5>20,D5-20,IF(D5>0,D5-0))))))","v":false},null,{"$f":"IF(F5-0>0,E5+1,E5)","v":" "},{"$f":"IF(F5-1>0,E5+1,E5)","v":" "},{"$f":"IF(F5-2>0,E5+1,E5)","v":" "},{"$f":"IF(F5-13>0,E5+1,E5)","v":" "},{"$f":"IF(F5-4>0,E5+1,E5)","v":" "},null,{"$f":"IF(F5-17>0,E5+1,E5)","v":" "},{"$f":"IF(F5-6>0,E5+1,E5)","v":" "},{"$f":"IF(F5-7>0,E5+1,E5)","v":" "},{"$f":"IF(F5-8>0,E5+1,E5)","v":" "},{"$f":"IF(F5-9>0,E5+1,E5)","v":" "},null,{"$f":"IF(F5-10>0,E5+1,E5)","v":" "},{"$f":"IF(F5-19>0,E5+1,E5)","v":" "},{"$f":"IF(F5-12>0,E5+1,E5)","v":" "},{"$f":"IF(F5-3>0,E5+1,E5)","v":" "},{"$f":"IF(F5-14>0,E5+1,E5)","v":" "},null,{"$f":"IF(F5-15>0,E5+1,E5)","v":" "},{"$f":"IF(F5-16>0,E5+1,E5)","v":" "},null,{"$f":"IF(F5-5>0,E5+1,E5)","v":" "},{"$f":"IF(F5-18>0,E5+1,E5)","v":" "},{"$f":"IF(F5-11>0,E5+1,E5)","v":" "}]
[null,null,null,{"$f":"'dersiçiperformans (2)'!Z12","v":0},{"$f":"IF(D6=100,\"4\",IF(D6>80,\"4\",IF(D6>60,\"3\",IF(D6>40,\"2\",IF(D6>20,\"1\",IF(D6>0,0,\" \"))))))","v":" "},{"$f":"IF(D6=100,20,IF(D6>80,D6-80,IF(D6>60,D6-60,IF(D6>40,D6-40,IF(D6>20,D6-20,IF(D6>0,D6-0))))))","v":false},null,{"$f":"IF(F6-0>0,E6+1,E6)","v":" "},{"$f":"IF(F6-1>0,E6+1,E6)","v":" "},{"$f":"IF(F6-2>0,E6+1,E6)","v":" "},{"$f":"IF(F6-13>0,E6+1,E6)","v":" "},{"$f":"IF(F6-4>0,E6+1,E6)","v":" "},null,{"$f":"IF(F6-17>0,E6+1,E6)","v":" "},{"$f":"IF(F6-6>0,E6+1,E6)","v":" "},{"$f":"IF(F6-7>0,E6+1,E6)","v":" "},{"$f":"IF(F6-8>0,E6+1,E6)","v":" "},{"$f":"IF(F6-9>0,E6+1,E6)","v":" "},null,{"$f":"IF(F6-10>0,E6+1,E6)","v":" "},{"$f":"IF(F6-19>0,E6+1,E6)","v":" "},{"$f":"IF(F6-12>0,E6+1,E6)","v":" "},{"$f":"IF(F6-3>0,E6+1,E6)","v":" "},{"$f":"IF(F6-14>0,E6+1,E6)","v":" "},null,{"$f":"IF(F6-15>0,E6+1,E6)","v":" "},{"$f":"IF(F6-16>0,E6+1,E6)","v":" "},null,{"$f":"IF(F6-5>0,E6+1,E6)","v":" "},{"$f":"IF(F6-18>0,E6+1,E6)","v":" "},{"$f":"IF(F6-11>0,E6+1,E6)","v":" "}]
[null,null,null,{"$f":"'dersiçiperformans (2)'!Z13","v":0}," ",false,null," "," "," "," "," ",null," "," "," "," "," ",null," "," "," "," "," ",null," "," ",null," "," "," "]
[null,null,null,{"$f":"'dersiçiperformans (2)'!Z14","v":0}," ",false,null," "," "," "," "," ",null," "," "," "," "," ",null," "," "," "," "," ",null," "," ",null," "," "," "]
[null,null,null,{"$f":"'dersiçiperformans (2)'!Z15","v":0}," ",false,null," "," "," "," "," ",null," "," "," "," "," ",null," "," "," "," "," ",null," "," ",null," "," "," "]
[null,null,null,{"$f":"'dersiçiperformans (2)'!Z16","v":0}," ",false,null," "," "," "," "," ",null," "," "," "," "," ",null," "," "," "," "," ",null," "," ",null," "," "," "]
[null,null,null,{"$f":"'dersiçiperformans (2)'!Z17","v":0}," ",false,null," "," "," "," "," ",null," "," "," "," "," ",null," "," "," "," "," ",null," "," ",null," "," "," "]
[null,null,null,{"$f":"'dersiçiperformans (2)'!Z18","v":0}," ",false,null," "," "," "," "," ",null," "," "," "," "," ",null," "," "," "," "," ",null," "," ",null," "," "," "]
[null,null,null,{"$f":"'dersiçiperformans (2)'!Z19","v":0}," ",false,null," "," "," "," "," ",null," "," "," "," "," ",null," "," "," "," "," ",null," "," ",null," "," "," "]
[null,null,null,{"$f":"'dersiçiperformans (2)'!Z20","v":0}," ",false,null," "," "," "," "," ",null," "," "," "," "," ",null," "," "," "," "," ",null," "," ",null," "," "," "]
[null,null,null,{"$f":"'dersiçiperformans (2)'!Z21","v":0}," ",false,null," "," "," "," "," ",null," "," "," "," "," ",null," "," "," "," "," ",null," "," ",null," "," "," "]
[null,null,null,{"$f":"'dersiçiperformans (2)'!Z22","v":0}," ",false,null," "," "," "," "," ",null," "," "," "," "," ",null," "," "," "," "," ",null," "," ",null," "," "," "]
[null,null,null,{"$f":"'dersiçiperformans (2)'!Z23","v":0}," ",false,null," "," "," "," "," ",null," "," "," "," "," ",null," "," "," "," "," ",null," "," ",null," "," "," "]
[null,null,null,{"$f":"'dersiçiperformans (2)'!Z24","v":0}," ",false,null," "," "," "," "," ",null," "," "," "," "," ",null," "," "," "," "," ",null," "," ",null," "," "," "]
[null,null,null,{"$f":"'dersiçiperformans (2)'!Z25","v":0}," ",false,null," "," "," "," "," ",null," "," "," "," "," ",null," "," "," "," "," ",null," "," ",null," "," "," "]
[null,null,null,{"$f":"'dersiçiperformans (2)'!Z26","v":0}," ",false,null," "," "," "," "," ",null," "," "," "," "," ",null," "," "," "," "," ",null," "," ",null," "," "," "]
[null,null,null,{"$f":"'dersiçiperformans (2)'!Z27","v":0}," ",false,null," "," "," "," "," ",null," "," "," "," "," ",null," "," "," "," "," ",null," "," ",null," "," "," "]
[null,null,null,{"$f":"'dersiçiperformans (2)'!Z28","v":0}," ",false,null," "," "," "," "," ",null," "," "," "," "," ",null," "," "," "," "," ",null," "," ",null," "," "," "]
[null,null,null,{"$f":"'dersiçiperformans (2)'!Z29","v":0}," ",false,null," "," "," "," "," ",null," "," "," "," "," ",null," "," "," "," "," ",null," "," ",null," "," "," "]
[null,null,null,{"$f":"'dersiçiperformans (2)'!Z30","v":0}," ",false,null," "," "," "," "," ",null," "," "," "," "," ",null," "," "," "," "," ",null," "," ",null," "," "," "]
[null,null,null,{"$f":"'dersiçiperformans (2)'!Z31","v":0}," ",false,null," "," "," "," "," ",null," "," "," "," "," ",null," "," "," "," "," ",null," "," ",null," "," "," "]
[null,null,null,{"$f":"'dersiçiperformans (2)'!Z32","v":0}," ",false,null," "," "," "," "," ",null," "," "," "," "," ",null," "," "," "," "," ",null," "," ",null," "," "," "]
[null,null,null,{"$f":"'dersiçiperformans (2)'!Z33","v":0}," ",false,null," "," "," "," "," ",null," "," "," "," "," ",null," "," "," "," "," ",null," "," ",null," "," "," "]
[null,null,null,{"$f":"'dersiçiperformans (2)'!Z34","v":0}," ",false,null," "," "," "," "," ",null," "," "," "," "," ",null," "," "," "," "," ",null," "," ",null," "," "," "]
[null,null,null,{"$f":"'dersiçiperformans (2)'!Z35","v":0}," ",false,null," "," "," "," "," ",null," "," "," "," "," ",null," "," "," "," "," ",null," "," ",null," "," "," "]
[null,null,null,{"$f":"'dersiçiperformans (2)'!Z36","v":0}," ",false,null," "," "," "," "," ",null," "," "," "," "," ",null," "," "," "," "," ",null," "," ",null," "," "," "]
[null,null,null,{"$f":"'dersiçiperformans (2)'!Z37","v":0}," ",false,null," "," "," "," "," ",null," "," "," "," "," ",null," "," "," "," "," ",null," "," ",null," "," "," "]
[null,null,null,{"$f":"'dersiçiperformans (2)'!Z38","v":0}," ",false,null," "," "," "," "," ",null," "," "," "," "," ",null," "," "," "," "," ",null," "," ",null," "," "," "]
[null,null,null,{"$f":"'dersiçiperformans (2)'!Z39","v":0}," ",false,null," "," "," "," "," ",null," "," "," "," "," ",null," "," "," "," "," ",null," "," ",null," "," "," "]
[null,null,null,{"$f":"'dersiçiperformans (2)'!Z40","v":0}," ",false,null," "," "," "," "," ",null," "," "," "," "," ",null," "," "," "," "," ",null," "," ",null," "," "," "]
[null,null,null,{"$f":"'dersiçiperformans (2)'!Z41","v":0}," ",false,null," "," "," "," "," ",null," "," "," "," "," ",null," "," "," "," "," ",null," "," ",null," "," "," "]
[null,null,null,{"$f":"'dersiçiperformans (2)'!Z42","v":0}," ",false,null," "," "," "," "," ",null," "," "," "," "," ",null," "," "," "," "," ",null," "," ",null," "," "," "]
[null,null,null,{"$f":"'dersiçiperformans (2)'!Z43","v":0}," ",false,null," "," "," "," "," ",null," "," "," "," "," ",null," "," "," "," "," ",null," "," ",null," "," "," "]
[null,null,null,{"$f":"'dersiçiperformans (2)'!Z44","v":0}," ",false,null," "," "," "," "," ",null," "," "," "," "," ",null," "," "," "," "," ",null," "," ",null," "," "," "]
[null,null,null,{"$f":"'dersiçiperformans (2)'!Z45","v":0}," ",false,null," "," "," "," "," ",null," "," "," "," "," ",null," "," "," "," "," ",null," "," ",null," "," "," "]
[null,null,null,{"$f":"'dersiçiperformans (2)'!Z46","v":0}," ",false,null," "," "," "," "," ",null," "," "," "," "," ",null," "," "," "," "," ",null," "," ",null," "," "," "]
[null,null,null,{"$f":"'dersiçiperformans (2)'!Z47","v":0}," ",false,null," "," "," "," "," ",null," "," "," "," "," ",null," "," "," "," "," ",null," "," ",null," "," "," "]
[null,null,null,{"$f":"'dersiçiperformans (2)'!Z48","v":0}," ",false,null," "," "," "," "," ",null," "," "," "," "," ",null," "," "," "," "," ",null," "," ",null," "," "," "]
[null,null,null,{"$f":"'dersiçiperformans (2)'!Z49","v":0}," ",false,null," "," "," "," "," ",null," "," "," "," "," ",null," "," "," "," "," ",null," "," ",null," "," "," "]
[null,null,null,{"$f":"'dersiçiperformans (2)'!Z50","v":0}," ",false,null," "," "," "," "," ",null," "," "," "," "," ",null," "," "," "," "," ",null," "," ",null," "," "," "]
[null,null,null,{"$f":"'dersiçiperformans (2)'!Z51","v":0}," ",false,null," "," "," "," "," ",null," "," "," "," "," ",null," "," "," "," "," ",null," "," ",null," "," "," "]
[null,null,null,{"$f":"'dersiçiperformans (2)'!Z52","v":0}," ",false,null," "," "," "," "," ",null," "," "," "," "," ",null," "," "," "," "," ",null," "," ",null," "," "," "]
[null,null,null,{"$f":"'dersiçiperformans (2)'!Z53","v":0}," ",false,null," "," "," "," "," ",null," "," "," "," "," ",null," "," "," "," "," ",null," "," ",null," "," "," "]
[null,null,null,{"$f":"'dersiçiperformans (2)'!Z54","v":0}," ",false,null," "," "," "," "," ",null," "," "," "," "," ",null," "," "," "," "," ",null," "," ",null," "," "," "]
[null,null,null,{"$f":"'dersiçiperformans (2)'!Z55","v":0}," ",false,null," "," "," "," "," ",null," "," "," "," "," ",null," "," "," "," "," ",null," "," ",null," "," "," "]
[null,null,null,{"$f":"'dersiçiperformans (2)'!Z56","v":0}," ",false,null," "," "," "," "," ",null," "," "," "," "," ",null," "," "," "," "," ",null," "," ",null," "," "," "]
[null,null,null,{"$f":"'dersiçiperformans (2)'!Z57","v":0}," ",false,null," "," "," "," "," ",null," "," "," "," "," ",null," "," "," "," "," ",null," "," ",null," "," "," "]
[null,null,null,{"$f":"'dersiçiperformans (2)'!Z58","v":0}," ",false,null," "," "," "," "," ",null," "," "," "," "," ",null," "," "," "," "," ",null," "," ",null," "," "," "]
[null,null,null,{"$f":"'dersiçiperformans (2)'!Z59","v":0}," ",false,null," "," "," "," "," ",null," "," "," "," "," ",null," "," "," "," "," ",null," "," ",null," "," "," "]
[null,null,null,{"$f":"'dersiçiperformans (2)'!Z60","v":0}," ",false,null," "," "," "," "," ",null," "," "," "," "," ",null," "," "," "," "," ",null," "," ",null," "," "," "]
[null,null,null,{"$f":"'dersiçiperformans (2)'!Z61","v":0}," ",false,null," "," "," "," "," ",null," "," "," "," "," ",null," "," "," "," "," ",null," "," ",null," "," "," "]
[null,null,null,{"$f":"'dersiçiperformans (2)'!Z62","v":0}," ",false,null," "," "," "," "," ",null," "," "," "," "," ",null," "," "," "," "," ",null," "," ",null," "," "," "]
[null,null,null,{"$f":"'dersiçiperformans (2)'!Z63","v":0}," ",false,null," "," "," "," "," ",null," "," "," "," "," ",null," "," "," "," "," ",null," "," ",null," "," "," "]
[null,null,null,{"$f":"'dersiçiperformans (2)'!Z64","v":0}," ",false,null," "," "," "," "," ",null," "," "," "," "," ",null," "," "," "," "," ",null," "," ",null," "," "," "]
[null,null,null,{"$f":"'dersiçiperformans (2)'!Z65","v":0}," ",false,null," "," "," "," "," ",null," "," "," "," "," ",null," "," "," "," "," ",null," "," ",null," "," "," "]
[null,null,null,{"$f":"'dersiçiperformans (2)'!Z66","v":0}," ",false,null," "," "," "," "," ",null," "," "," "," "," ",null," "," "," "," "," ",null," "," ",null," "," "," "]
[null,null,null,{"$f":"'dersiçiperformans (2)'!Z67","v":0}," ",false,null," "," "," "," "," ",null," "," "," "," "," ",null," "," "," "," "," ",null," "," ",null," "," "," "]
[null,null,null,{"$f":"'dersiçiperformans (2)'!Z68","v":0}," ",false,null," "," "," "," "," ",null," "," "," "," "," ",null," "," "," "," "," ",null," "," ",null," "," "," "]
[null,null,null,{"$f":"'dersiçiperformans (2)'!Z69","v":0}," ",false,null," "," "," "," "," ",null," "," "," "," "," ",null," "," "," "," "," ",null," "," ",null," "," "," "]
[null,null,null,{"$f":"'dersiçiperformans (2)'!Z70","v":0}," ",false,null," "," "," "," "," ",null," "," "," "," "," ",null," "," "," "," "," ",null," "," ",null," "," "," "]
[null,null,null,{"$f":"'dersiçiperformans (2)'!Z71","v":0}," ",false,null," "," "," "," "," ",null," "," "," "," "," ",null," "," "," "," "," ",null," "," ",null," "," "," "]
[null,null,null,{"$f":"'dersiçiperformans (2)'!Z72","v":0}," ",false,null," "," "," "," "," ",null," "," "," "," "," ",null," "," "," "," "," ",null," "," ",null," "," "," "]
[null,null,null,{"$f":"'dersiçiperformans (2)'!Z73","v":0}," ",false,null," "," "," "," "," ",null," "," "," "," "," ",null," "," "," "," "," ",null," "," ",null," "," "," "]
[null,null,null,{"$f":"'dersiçiperformans (2)'!Z74","v":0}," ",false,null," "," "," "," "," ",null," "," "," "," "," ",null," "," "," "," "," ",null," "," ",null," "," "," "]
[null,null,null,{"$f":"'dersiçiperformans (2)'!Z75","v":0}," ",false,null," "," "," "," "," ",null," "," "," "," "," ",null," "," "," "," "," ",null," "," ",null," "," "," "]
[null,null,null,{"$f":"'dersiçiperformans (2)'!Z76","v":0},{"$f":"IF(D70=100,\"4\",IF(D70>80,\"4\",IF(D70>60,\"3\",IF(D70>40,\"2\",IF(D70>20,\"1\",IF(D70>0,0,\" \"))))))","v":" "},{"$f":"IF(D70=100,20,IF(D70>80,D70-80,IF(D70>60,D70-60,IF(D70>40,D70-40,IF(D70>20,D70-20,IF(D70>0,D70-0))))))","v":false},null,{"$f":"IF(F70-0>0,E70+1,E70)","v":" "},{"$f":"IF(F70-1>0,E70+1,E70)","v":" "},{"$f":"IF(F70-2>0,E70+1,E70)","v":" "},{"$f":"IF(F70-13>0,E70+1,E70)","v":" "},{"$f":"IF(F70-4>0,E70+1,E70)","v":" "},null,{"$f":"IF(F70-17>0,E70+1,E70)","v":" "},{"$f":"IF(F70-6>0,E70+1,E70)","v":" "},{"$f":"IF(F70-7>0,E70+1,E70)","v":" "},{"$f":"IF(F70-8>0,E70+1,E70)","v":" "},{"$f":"IF(F70-9>0,E70+1,E70)","v":" "},null,{"$f":"IF(F70-10>0,E70+1,E70)","v":" "},{"$f":"IF(F70-19>0,E70+1,E70)","v":" "},{"$f":"IF(F70-12>0,E70+1,E70)","v":" "},{"$f":"IF(F70-3>0,E70+1,E70)","v":" "},{"$f":"IF(F70-14>0,E70+1,E70)","v":" "},null,{"$f":"IF(F70-15>0,E70+1,E70)","v":" "},{"$f":"IF(F70-16>0,E70+1,E70)","v":" "},null,{"$f":"IF(F70-5>0,E70+1,E70)","v":" "},{"$f":"IF(F70-18>0,E70+1,E70)","v":" "},{"$f":"IF(F70-11>0,E70+1,E70)","v":" "}]
[null,null,null,{"$f":"'dersiçiperformans (2)'!Z77","v":0}," ",false,null," "," "," "," "," ",null," "," "," "," "," ",null," "," "," "," "," ",null," "," ",null," "," "," "]
[null,null,null,{"$f":"'dersiçiperformans (2)'!Z78","v":0}," ",false,null," "," "," "," "," ",null," "," "," "," "," ",null," "," "," "," "," ",null," "," ",null," "," "," "]
[null,null,null,{"$f":"'dersiçiperformans (2)'!Z79","v":0}," ",false,null," "," "," "," "," ",null," "," "," "," "," ",null," "," "," "," "," ",null," "," ",null," "," "," "]
[null,null,null,{"$f":"'dersiçiperformans (2)'!Z80","v":0}," ",false,null," "," "," "," "," ",null," "," "," "," "," ",null," "," "," "," "," ",null," "," ",null," "," "," "]
[null,null,null,{"$f":"'dersiçiperformans (2)'!Z81","v":0}," ",false,null," "," "," "," "," ",null," "," "," "," "," ",null," "," "," "," "," ",null," "," ",null," "," "," "]

{"sheet":"Sayfa2","index":3,"n_rows":75,"n_cols":31,"rows_kept":75,"cut":false,"hidden":true,"merged":[]}
[]
[]
[]
[]
[null,null,null,{"$f":"dersiçiperformans!Z11","v":0},{"$f":"IF(D5=100,\"4\",IF(D5>80,\"4\",IF(D5>60,\"3\",IF(D5>40,\"2\",IF(D5>20,\"1\",IF(D5>0,0,\" \"))))))","v":" "},{"$f":"IF(D5=100,20,IF(D5>80,D5-80,IF(D5>60,D5-60,IF(D5>40,D5-40,IF(D5>20,D5-20,IF(D5>0,D5-0))))))","v":false},null,{"$f":"IF(F5-0>0,E5+1,E5)","v":" "},{"$f":"IF(F5-1>0,E5+1,E5)","v":" "},{"$f":"IF(F5-2>0,E5+1,E5)","v":" "},{"$f":"IF(F5-13>0,E5+1,E5)","v":" "},{"$f":"IF(F5-4>0,E5+1,E5)","v":" "},null,{"$f":"IF(F5-17>0,E5+1,E5)","v":" "},{"$f":"IF(F5-6>0,E5+1,E5)","v":" "},{"$f":"IF(F5-7>0,E5+1,E5)","v":" "},{"$f":"IF(F5-8>0,E5+1,E5)","v":" "},{"$f":"IF(F5-9>0,E5+1,E5)","v":" "},null,{"$f":"IF(F5-10>0,E5+1,E5)","v":" "},{"$f":"IF(F5-19>0,E5+1,E5)","v":" "},{"$f":"IF(F5-12>0,E5+1,E5)","v":" "},{"$f":"IF(F5-3>0,E5+1,E5)","v":" "},{"$f":"IF(F5-14>0,E5+1,E5)","v":" "},null,{"$f":"IF(F5-15>0,E5+1,E5)","v":" "},{"$f":"IF(F5-16>0,E5+1,E5)","v":" "},null,{"$f":"IF(F5-5>0,E5+1,E5)","v":" "},{"$f":"IF(F5-18>0,E5+1,E5)","v":" "},{"$f":"IF(F5-11>0,E5+1,E5)","v":" "}]
[null,null,null,{"$f":"dersiçiperformans!Z12","v":0},{"$f":"IF(D6=100,\"4\",IF(D6>80,\"4\",IF(D6>60,\"3\",IF(D6>40,\"2\",IF(D6>20,\"1\",IF(D6>0,0,\" \"))))))","v":" "},{"$f":"IF(D6=100,20,IF(D6>80,D6-80,IF(D6>60,D6-60,IF(D6>40,D6-40,IF(D6>20,D6-20,IF(D6>0,D6-0))))))","v":false},null,{"$f":"IF(F6-0>0,E6+1,E6)","v":" "},{"$f":"IF(F6-1>0,E6+1,E6)","v":" "},{"$f":"IF(F6-2>0,E6+1,E6)","v":" "},{"$f":"IF(F6-13>0,E6+1,E6)","v":" "},{"$f":"IF(F6-4>0,E6+1,E6)","v":" "},null,{"$f":"IF(F6-17>0,E6+1,E6)","v":" "},{"$f":"IF(F6-6>0,E6+1,E6)","v":" "},{"$f":"IF(F6-7>0,E6+1,E6)","v":" "},{"$f":"IF(F6-8>0,E6+1,E6)","v":" "},{"$f":"IF(F6-9>0,E6+1,E6)","v":" "},null,{"$f":"IF(F6-10>0,E6+1,E6)","v":" "},{"$f":"IF(F6-19>0,E6+1,E6)","v":" "},{"$f":"IF(F6-12>0,E6+1,E6)","v":" "},{"$f":"IF(F6-3>0,E6+1,E6)","v":" "},{"$f":"IF(F6-14>0,E6+1,E6)","v":" "},null,{"$f":"IF(F6-15>0,E6+1,E6)","v":" "},{"$f":"IF(F6-16>0,E6+1,E6)","v":" "},null,{"$f":"IF(F6-5>0,E6+1,E6)","v":" "},{"$f":"IF(F6-18>0,E6+1,E6)","v":" "},{"$f":"IF(F6-11>0,E6+1,E6)","v":" "}]
[null,null,null,{"$f":"dersiçiperformans!Z13","v":0}," ",false,null," "," "," "," "," ",null," "," "," "," "," ",null," "," "," "," "," ",null," "," ",null," "," "," "]
[null,null,null,{"$f":"dersiçiperformans!Z14","v":0}," ",false,null," "," "," "," "," ",null," "," "," "," "," ",null," "," "," "," "," ",null," "," ",null," "," "," "]
[null,null,null,{"$f":"dersiçiperformans!Z15","v":0}," ",false,null," "," "," "," "," ",null," "," "," "," "," ",null," "," "," "," "," ",null," "," ",null," "," "," "]
[null,null,null,{"$f":"dersiçiperformans!Z16","v":0}," ",false,null," "," "," "," "," ",null," "," "," "," "," ",null," "," "," "," "," ",null," "," ",null," "," "," "]
[null,null,null,{"$f":"dersiçiperformans!Z17","v":0}," ",false,null," "," "," "," "," ",null," "," "," "," "," ",null," "," "," "," "," ",null," "," ",null," "," "," "]
[null,null,null,{"$f":"dersiçiperformans!Z18","v":0}," ",false,null," "," "," "," "," ",null," "," "," "," "," ",null," "," "," "," "," ",null," "," ",null," "," "," "]
[null,null,null,{"$f":"dersiçiperformans!Z19","v":0}," ",false,null," "," "," "," "," ",null," "," "," "," "," ",null," "," "," "," "," ",null," "," ",null," "," "," "]
[null,null,null,{"$f":"dersiçiperformans!Z20","v":0}," ",false,null," "," "," "," "," ",null," "," "," "," "," ",null," "," "," "," "," ",null," "," ",null," "," "," "]
[null,null,null,{"$f":"dersiçiperformans!Z21","v":0}," ",false,null," "," "," "," "," ",null," "," "," "," "," ",null," "," "," "," "," ",null," "," ",null," "," "," "]
[null,null,null,{"$f":"dersiçiperformans!Z22","v":0}," ",false,null," "," "," "," "," ",null," "," "," "," "," ",null," "," "," "," "," ",null," "," ",null," "," "," "]
[null,null,null,{"$f":"dersiçiperformans!Z23","v":0}," ",false,null," "," "," "," "," ",null," "," "," "," "," ",null," "," "," "," "," ",null," "," ",null," "," "," "]
[null,null,null,{"$f":"dersiçiperformans!Z24","v":0}," ",false,null," "," "," "," "," ",null," "," "," "," "," ",null," "," "," "," "," ",null," "," ",null," "," "," "]
[null,null,null,{"$f":"dersiçiperformans!Z25","v":0}," ",false,null," "," "," "," "," ",null," "," "," "," "," ",null," "," "," "," "," ",null," "," ",null," "," "," "]
[null,null,null,{"$f":"dersiçiperformans!Z26","v":0}," ",false,null," "," "," "," "," ",null," "," "," "," "," ",null," "," "," "," "," ",null," "," ",null," "," "," "]
[null,null,null,{"$f":"dersiçiperformans!Z27","v":0}," ",false,null," "," "," "," "," ",null," "," "," "," "," ",null," "," "," "," "," ",null," "," ",null," "," "," "]
[null,null,null,{"$f":"dersiçiperformans!Z28","v":0}," ",false,null," "," "," "," "," ",null," "," "," "," "," ",null," "," "," "," "," ",null," "," ",null," "," "," "]
[null,null,null,{"$f":"dersiçiperformans!Z29","v":0}," ",false,null," "," "," "," "," ",null," "," "," "," "," ",null," "," "," "," "," ",null," "," ",null," "," "," "]
[null,null,null,{"$f":"dersiçiperformans!Z30","v":0}," ",false,null," "," "," "," "," ",null," "," "," "," "," ",null," "," "," "," "," ",null," "," ",null," "," "," "]
[null,null,null,{"$f":"dersiçiperformans!Z31","v":0}," ",false,null," "," "," "," "," ",null," "," "," "," "," ",null," "," "," "," "," ",null," "," ",null," "," "," "]
[null,null,null,{"$f":"dersiçiperformans!Z32","v":0}," ",false,null," "," "," "," "," ",null," "," "," "," "," ",null," "," "," "," "," ",null," "," ",null," "," "," "]
[null,null,null,{"$f":"dersiçiperformans!Z33","v":0}," ",false,null," "," "," "," "," ",null," "," "," "," "," ",null," "," "," "," "," ",null," "," ",null," "," "," "]
[null,null,null,{"$f":"dersiçiperformans!Z34","v":0}," ",false,null," "," "," "," "," ",null," "," "," "," "," ",null," "," "," "," "," ",null," "," ",null," "," "," "]
[null,null,null,{"$f":"dersiçiperformans!Z35","v":0}," ",false,null," "," "," "," "," ",null," "," "," "," "," ",null," "," "," "," "," ",null," "," ",null," "," "," "]
[null,null,null,{"$f":"dersiçiperformans!Z36","v":0}," ",false,null," "," "," "," "," ",null," "," "," "," "," ",null," "," "," "," "," ",null," "," ",null," "," "," "]
[null,null,null,{"$f":"dersiçiperformans!Z37","v":0}," ",false,null," "," "," "," "," ",null," "," "," "," "," ",null," "," "," "," "," ",null," "," ",null," "," "," "]
[null,null,null,{"$f":"dersiçiperformans!Z38","v":0}," ",false,null," "," "," "," "," ",null," "," "," "," "," ",null," "," "," "," "," ",null," "," ",null," "," "," "]
[null,null,null,{"$f":"dersiçiperformans!Z39","v":0}," ",false,null," "," "," "," "," ",null," "," "," "," "," ",null," "," "," "," "," ",null," "," ",null," "," "," "]
[null,null,null,{"$f":"dersiçiperformans!Z40","v":0}," ",false,null," "," "," "," "," ",null," "," "," "," "," ",null," "," "," "," "," ",null," "," ",null," "," "," "]
[null,null,null,{"$f":"dersiçiperformans!Z41","v":0}," ",false,null," "," "," "," "," ",null," "," "," "," "," ",null," "," "," "," "," ",null," "," ",null," "," "," "]
[null,null,null,{"$f":"dersiçiperformans!Z42","v":0}," ",false,null," "," "," "," "," ",null," "," "," "," "," ",null," "," "," "," "," ",null," "," ",null," "," "," "]
[null,null,null,{"$f":"dersiçiperformans!Z43","v":0}," ",false,null," "," "," "," "," ",null," "," "," "," "," ",null," "," "," "," "," ",null," "," ",null," "," "," "]
[null,null,null,{"$f":"dersiçiperformans!Z44","v":0}," ",false,null," "," "," "," "," ",null," "," "," "," "," ",null," "," "," "," "," ",null," "," ",null," "," "," "]
[null,null,null,{"$f":"dersiçiperformans!Z45","v":0}," ",false,null," "," "," "," "," ",null," "," "," "," "," ",null," "," "," "," "," ",null," "," ",null," "," "," "]
[null,null,null,{"$f":"dersiçiperformans!Z46","v":0}," ",false,null," "," "," "," "," ",null," "," "," "," "," ",null," "," "," "," "," ",null," "," ",null," "," "," "]
[null,null,null,{"$f":"dersiçiperformans!Z47","v":0}," ",false,null," "," "," "," "," ",null," "," "," "," "," ",null," "," "," "," "," ",null," "," ",null," "," "," "]
[null,null,null,{"$f":"dersiçiperformans!Z48","v":0}," ",false,null," "," "," "," "," ",null," "," "," "," "," ",null," "," "," "," "," ",null," "," ",null," "," "," "]
[null,null,null,{"$f":"dersiçiperformans!Z49","v":0}," ",false,null," "," "," "," "," ",null," "," "," "," "," ",null," "," "," "," "," ",null," "," ",null," "," "," "]
[null,null,null,{"$f":"dersiçiperformans!Z50","v":0}," ",false,null," "," "," "," "," ",null," "," "," "," "," ",null," "," "," "," "," ",null," "," ",null," "," "," "]
[null,null,null,{"$f":"dersiçiperformans!#REF!","v":{"$error":"#REF!"}},{"$error":"#REF!"},{"$error":"#REF!"},null,{"$error":"#REF!"},{"$error":"#REF!"},{"$error":"#REF!"},{"$error":"#REF!"},{"$error":"#REF!"},null,{"$error":"#REF!"},{"$error":"#REF!"},{"$error":"#REF!"},{"$error":"#REF!"},{"$error":"#REF!"},null,{"$error":"#REF!"},{"$error":"#REF!"},{"$error":"#REF!"},{"$error":"#REF!"},{"$error":"#REF!"},null,{"$error":"#REF!"},{"$error":"#REF!"},null,{"$error":"#REF!"},{"$error":"#REF!"},{"$error":"#REF!"}]
[null,null,null,{"$f":"dersiçiperformans!#REF!","v":{"$error":"#REF!"}},{"$error":"#REF!"},{"$error":"#REF!"},null,{"$error":"#REF!"},{"$error":"#REF!"},{"$error":"#REF!"},{"$error":"#REF!"},{"$error":"#REF!"},null,{"$error":"#REF!"},{"$error":"#REF!"},{"$error":"#REF!"},{"$error":"#REF!"},{"$error":"#REF!"},null,{"$error":"#REF!"},{"$error":"#REF!"},{"$error":"#REF!"},{"$error":"#REF!"},{"$error":"#REF!"},null,{"$error":"#REF!"},{"$error":"#REF!"},null,{"$error":"#REF!"},{"$error":"#REF!"},{"$error":"#REF!"}]
[null,null,null,{"$f":"dersiçiperformans!#REF!","v":{"$error":"#REF!"}},{"$error":"#REF!"},{"$error":"#REF!"},null,{"$error":"#REF!"},{"$error":"#REF!"},{"$error":"#REF!"},{"$error":"#REF!"},{"$error":"#REF!"},null,{"$error":"#REF!"},{"$error":"#REF!"},{"$error":"#REF!"},{"$error":"#REF!"},{"$error":"#REF!"},null,{"$error":"#REF!"},{"$error":"#REF!"},{"$error":"#REF!"},{"$error":"#REF!"},{"$error":"#REF!"},null,{"$error":"#REF!"},{"$error":"#REF!"},null,{"$error":"#REF!"},{"$error":"#REF!"},{"$error":"#REF!"}]
[null,null,null,{"$f":"dersiçiperformans!#REF!","v":{"$error":"#REF!"}},{"$error":"#REF!"},{"$error":"#REF!"},null,{"$error":"#REF!"},{"$error":"#REF!"},{"$error":"#REF!"},{"$error":"#REF!"},{"$error":"#REF!"},null,{"$error":"#REF!"},{"$error":"#REF!"},{"$error":"#REF!"},{"$error":"#REF!"},{"$error":"#REF!"},null,{"$error":"#REF!"},{"$error":"#REF!"},{"$error":"#REF!"},{"$error":"#REF!"},{"$error":"#REF!"},null,{"$error":"#REF!"},{"$error":"#REF!"},null,{"$error":"#REF!"},{"$error":"#REF!"},{"$error":"#REF!"}]
[null,null,null,{"$f":"dersiçiperformans!#REF!","v":{"$error":"#REF!"}},{"$error":"#REF!"},{"$error":"#REF!"},null,{"$error":"#REF!"},{"$error":"#REF!"},{"$error":"#REF!"},{"$error":"#REF!"},{"$error":"#REF!"},null,{"$error":"#REF!"},{"$error":"#REF!"},{"$error":"#REF!"},{"$error":"#REF!"},{"$error":"#REF!"},null,{"$error":"#REF!"},{"$error":"#REF!"},{"$error":"#REF!"},{"$error":"#REF!"},{"$error":"#REF!"},null,{"$error":"#REF!"},{"$error":"#REF!"},null,{"$error":"#REF!"},{"$error":"#REF!"},{"$error":"#REF!"}]
[null,null,null,{"$f":"dersiçiperformans!#REF!","v":{"$error":"#REF!"}},{"$error":"#REF!"},{"$error":"#REF!"},null,{"$error":"#REF!"},{"$error":"#REF!"},{"$error":"#REF!"},{"$error":"#REF!"},{"$error":"#REF!"},null,{"$error":"#REF!"},{"$error":"#REF!"},{"$error":"#REF!"},{"$error":"#REF!"},{"$error":"#REF!"},null,{"$error":"#REF!"},{"$error":"#REF!"},{"$error":"#REF!"},{"$error":"#REF!"},{"$error":"#REF!"},null,{"$error":"#REF!"},{"$error":"#REF!"},null,{"$error":"#REF!"},{"$error":"#REF!"},{"$error":"#REF!"}]
[null,null,null,{"$f":"dersiçiperformans!#REF!","v":{"$error":"#REF!"}},{"$error":"#REF!"},{"$error":"#REF!"},null,{"$error":"#REF!"},{"$error":"#REF!"},{"$error":"#REF!"},{"$error":"#REF!"},{"$error":"#REF!"},null,{"$error":"#REF!"},{"$error":"#REF!"},{"$error":"#REF!"},{"$error":"#REF!"},{"$error":"#REF!"},null,{"$error":"#REF!"},{"$error":"#REF!"},{"$error":"#REF!"},{"$error":"#REF!"},{"$error":"#REF!"},null,{"$error":"#REF!"},{"$error":"#REF!"},null,{"$error":"#REF!"},{"$error":"#REF!"},{"$error":"#REF!"}]
[null,null,null,{"$f":"dersiçiperformans!#REF!","v":{"$error":"#REF!"}},{"$error":"#REF!"},{"$error":"#REF!"},null,{"$error":"#REF!"},{"$error":"#REF!"},{"$error":"#REF!"},{"$error":"#REF!"},{"$error":"#REF!"},null,{"$error":"#REF!"},{"$error":"#REF!"},{"$error":"#REF!"},{"$error":"#REF!"},{"$error":"#REF!"},null,{"$error":"#REF!"},{"$error":"#REF!"},{"$error":"#REF!"},{"$error":"#REF!"},{"$error":"#REF!"},null,{"$error":"#REF!"},{"$error":"#REF!"},null,{"$error":"#REF!"},{"$error":"#REF!"},{"$error":"#REF!"}]
[null,null,null,{"$f":"dersiçiperformans!#REF!","v":{"$error":"#REF!"}},{"$error":"#REF!"},{"$error":"#REF!"},null,{"$error":"#REF!"},{"$error":"#REF!"},{"$error":"#REF!"},{"$error":"#REF!"},{"$error":"#REF!"},null,{"$error":"#REF!"},{"$error":"#REF!"},{"$error":"#REF!"},{"$error":"#REF!"},{"$error":"#REF!"},null,{"$error":"#REF!"},{"$error":"#REF!"},{"$error":"#REF!"},{"$error":"#REF!"},{"$error":"#REF!"},null,{"$error":"#REF!"},{"$error":"#REF!"},null,{"$error":"#REF!"},{"$error":"#REF!"},{"$error":"#REF!"}]
[null,null,null,{"$f":"dersiçiperformans!#REF!","v":{"$error":"#REF!"}},{"$error":"#REF!"},{"$error":"#REF!"},null,{"$error":"#REF!"},{"$error":"#REF!"},{"$error":"#REF!"},{"$error":"#REF!"},{"$error":"#REF!"},null,{"$error":"#REF!"},{"$error":"#REF!"},{"$error":"#REF!"},{"$error":"#REF!"},{"$error":"#REF!"},null,{"$error":"#REF!"},{"$error":"#REF!"},{"$error":"#REF!"},{"$error":"#REF!"},{"$error":"#REF!"},null,{"$error":"#REF!"},{"$error":"#REF!"},null,{"$error":"#REF!"},{"$error":"#REF!"},{"$error":"#REF!"}]
[null,null,null,{"$f":"dersiçiperformans!#REF!","v":{"$error":"#REF!"}},{"$error":"#REF!"},{"$error":"#REF!"},null,{"$error":"#REF!"},{"$error":"#REF!"},{"$error":"#REF!"},{"$error":"#REF!"},{"$error":"#REF!"},null,{"$error":"#REF!"},{"$error":"#REF!"},{"$error":"#REF!"},{"$error":"#REF!"},{"$error":"#REF!"},null,{"$error":"#REF!"},{"$error":"#REF!"},{"$error":"#REF!"},{"$error":"#REF!"},{"$error":"#REF!"},null,{"$error":"#REF!"},{"$error":"#REF!"},null,{"$error":"#REF!"},{"$error":"#REF!"},{"$error":"#REF!"}]
[null,null,null,{"$f":"dersiçiperformans!#REF!","v":{"$error":"#REF!"}},{"$error":"#REF!"},{"$error":"#REF!"},null,{"$error":"#REF!"},{"$error":"#REF!"},{"$error":"#REF!"},{"$error":"#REF!"},{"$error":"#REF!"},null,{"$error":"#REF!"},{"$error":"#REF!"},{"$error":"#REF!"},{"$error":"#REF!"},{"$error":"#REF!"},null,{"$error":"#REF!"},{"$error":"#REF!"},{"$error":"#REF!"},{"$error":"#REF!"},{"$error":"#REF!"},null,{"$error":"#REF!"},{"$error":"#REF!"},null,{"$error":"#REF!"},{"$error":"#REF!"},{"$error":"#REF!"}]
[null,null,null,{"$f":"dersiçiperformans!#REF!","v":{"$error":"#REF!"}},{"$error":"#REF!"},{"$error":"#REF!"},null,{"$error":"#REF!"},{"$error":"#REF!"},{"$error":"#REF!"},{"$error":"#REF!"},{"$error":"#REF!"},null,{"$error":"#REF!"},{"$error":"#REF!"},{"$error":"#REF!"},{"$error":"#REF!"},{"$error":"#REF!"},null,{"$error":"#REF!"},{"$error":"#REF!"},{"$error":"#REF!"},{"$error":"#REF!"},{"$error":"#REF!"},null,{"$error":"#REF!"},{"$error":"#REF!"},null,{"$error":"#REF!"},{"$error":"#REF!"},{"$error":"#REF!"}]
[null,null,null,{"$f":"dersiçiperformans!Z51","v":0}," ",false,null," "," "," "," "," ",null," "," "," "," "," ",null," "," "," "," "," ",null," "," ",null," "," "," "]
[null,null,null,{"$f":"dersiçiperformans!Z52","v":0}," ",false,null," "," "," "," "," ",null," "," "," "," "," ",null," "," "," "," "," ",null," "," ",null," "," "," "]
[null,null,null,{"$f":"dersiçiperformans!Z53","v":0}," ",false,null," "," "," "," "," ",null," "," "," "," "," ",null," "," "," "," "," ",null," "," ",null," "," "," "]
[null,null,null,{"$f":"dersiçiperformans!Z54","v":0}," ",false,null," "," "," "," "," ",null," "," "," "," "," ",null," "," "," "," "," ",null," "," ",null," "," "," "]
[null,null,null,{"$f":"dersiçiperformans!Z55","v":0}," ",false,null," "," "," "," "," ",null," "," "," "," "," ",null," "," "," "," "," ",null," "," ",null," "," "," "]
[null,null,null,{"$f":"dersiçiperformans!Z56","v":0}," ",false,null," "," "," "," "," ",null," "," "," "," "," ",null," "," "," "," "," ",null," "," ",null," "," "," "]
[null,null,null,{"$f":"dersiçiperformans!Z57","v":0}," ",false,null," "," "," "," "," ",null," "," "," "," "," ",null," "," "," "," "," ",null," "," ",null," "," "," "]
[null,null,null,{"$f":"dersiçiperformans!Z58","v":0}," ",false,null," "," "," "," "," ",null," "," "," "," "," ",null," "," "," "," "," ",null," "," ",null," "," "," "]
[null,null,null,{"$f":"dersiçiperformans!Z59","v":0}," ",false,null," "," "," "," "," ",null," "," "," "," "," ",null," "," "," "," "," ",null," "," ",null," "," "," "]
[null,null,null,{"$f":"dersiçiperformans!Z60","v":0}," ",false,null," "," "," "," "," ",null," "," "," "," "," ",null," "," "," "," "," ",null," "," ",null," "," "," "]
[null,null,null,{"$f":"dersiçiperformans!Z61","v":0}," ",false,null," "," "," "," "," ",null," "," "," "," "," ",null," "," "," "," "," ",null," "," ",null," "," "," "]
[null,null,null,{"$f":"dersiçiperformans!Z62","v":0}," ",false,null," "," "," "," "," ",null," "," "," "," "," ",null," "," "," "," "," ",null," "," ",null," "," "," "]
[null,null,null,{"$f":"dersiçiperformans!Z63","v":0},{"$f":"IF(D70=100,\"4\",IF(D70>80,\"4\",IF(D70>60,\"3\",IF(D70>40,\"2\",IF(D70>20,\"1\",IF(D70>0,0,\" \"))))))","v":" "},{"$f":"IF(D70=100,20,IF(D70>80,D70-80,IF(D70>60,D70-60,IF(D70>40,D70-40,IF(D70>20,D70-20,IF(D70>0,D70-0))))))","v":false},null,{"$f":"IF(F70-0>0,E70+1,E70)","v":" "},{"$f":"IF(F70-1>0,E70+1,E70)","v":" "},{"$f":"IF(F70-2>0,E70+1,E70)","v":" "},{"$f":"IF(F70-13>0,E70+1,E70)","v":" "},{"$f":"IF(F70-4>0,E70+1,E70)","v":" "},null,{"$f":"IF(F70-17>0,E70+1,E70)","v":" "},{"$f":"IF(F70-6>0,E70+1,E70)","v":" "},{"$f":"IF(F70-7>0,E70+1,E70)","v":" "},{"$f":"IF(F70-8>0,E70+1,E70)","v":" "},{"$f":"IF(F70-9>0,E70+1,E70)","v":" "},null,{"$f":"IF(F70-10>0,E70+1,E70)","v":" "},{"$f":"IF(F70-19>0,E70+1,E70)","v":" "},{"$f":"IF(F70-12>0,E70+1,E70)","v":" "},{"$f":"IF(F70-3>0,E70+1,E70)","v":" "},{"$f":"IF(F70-14>0,E70+1,E70)","v":" "},null,{"$f":"IF(F70-15>0,E70+1,E70)","v":" "},{"$f":"IF(F70-16>0,E70+1,E70)","v":" "},null,{"$f":"IF(F70-5>0,E70+1,E70)","v":" "},{"$f":"IF(F70-18>0,E70+1,E70)","v":" "},{"$f":"IF(F70-11>0,E70+1,E70)","v":" "}]
[null,null,null,{"$f":"dersiçiperformans!Z64","v":0}," ",false,null," "," "," "," "," ",null," "," "," "," "," ",null," "," "," "," "," ",null," "," ",null," "," "," "]
[null,null,null,{"$f":"dersiçiperformans!Z65","v":0}," ",false,null," "," "," "," "," ",null," "," "," "," "," ",null," "," "," "," "," ",null," "," ",null," "," "," "]
[null,null,null,{"$f":"dersiçiperformans!Z66","v":0}," ",false,null," "," "," "," "," ",null," "," "," "," "," ",null," "," "," "," "," ",null," "," ",null," "," "," "]
[null,null,null,{"$f":"dersiçiperformans!Z67","v":0}," ",false,null," "," "," "," "," ",null," "," "," "," "," ",null," "," "," "," "," ",null," "," ",null," "," "," "]
[null,null,null,{"$f":"dersiçiperformans!Z68","v":0}," ",false,null," "," "," "," "," ",null," "," "," "," "," ",null," "," "," "," "," ",null," "," ",null," "," "," "]

{"sheet":"ANASAYFA","index":4,"n_rows":11,"n_cols":6,"rows_kept":11,"cut":false,"hidden":false,"merged":[[3,5,16,12],[3,2,3,3],[2,5,2,12]]}
[]
[]
[null,null,null,null,null,"AÇIKLAMA"]
[null,null,"ANA BİLGİLER",null,null,"1-İLK BAŞTA YAN TARAFTAKİ ANA BİLGİLER KISMINI DOLDURUNUZ.                                 2-E-OKULDAN DERSİNİZLE İLGİLİ YERDEN HIZLI NOT GİRİŞİ MENÜSÜNE GİRİNİZ.                                                                                                                                                    3-HIZLI NOT GİRİŞİNDEN İLK SIRADAKİ ÖĞRENCİ NUMARASINDAN SAĞ ALT KÖŞEYE(DEFTER SEMBOLÜNE KADAR) SEÇİP KOPYALAYINIZ.                                                  4-KOPYALADIĞINIZ BİLGİLERİ EXCEL SAYFASINDA BULUNAN \"EOKUL\" SEKMESİNİN A2 HÜCRESİNE YAPIŞTIRINIZ.                                                                                                                5-BU İŞLEMİ YAPTIKTAN SONRA TÜM PROJE VE DERS İÇİ KATILIM NOT ÖLÇEKLERİNİZ OTAMATİK OLARAK HAZIRLANACAKTIR.                                                         6-SON OLARAK YAZDIRMAK İSTEDİĞİNİZÖLÇEĞE GİDEREK HİÇ BİRŞEYE DOKUNMADAN DİREK YAZDIRABİLİRSİNİZ.                                                    NOT:ÖLÇEKLER 40 ÖĞRENCİ İÇİN HAZIRLANMIŞTIR.FARKLI SINIFLAR İÇİN KULLANIRKEN İLK BAŞTA EOKUL SEKMESİNDEKİ ÖĞRENCİ İSİMLERİNİ TEMİZLEMEYİ UNUTMAYINIZ."]
[null,null,"OKUL ADI","Ş.P.E.KADİR ÇAVUŞOĞLU ORTAOKULU"]
[null,null,"DERS ADI","TÜRKÇE"]
[null,null,"ÖĞRETMEN AD SOYAD","SEFA AVCILAR"]
[null,null,"BRANŞ","TÜRKÇE ÖĞRETMENİ"]
[null,null,"OKUL MÜDÜRÜ AD SOYAD","ÜMİT YEGEN"]
[null,null,"UNVAN","OKUL MÜDÜRÜ"]
[null,null,"SINIF/ŞUBE"]

{"sheet":"eokul","index":5,"n_rows":1,"n_cols":10,"rows_kept":1,"cut":false,"hidden":false,"merged":[]}
["Okul No","Adı Soyadı","1.Sınav","2.Sınav","1.Ders Et.Kat.","2.Ders Et.Kat.","3.Ders Et.Kat.","4.Ders Et.Kat.","5.Ders Et.Kat.","Puanı"]

{"sheet":"dersiçiperformans","index":6,"n_rows":60,"n_cols":26,"rows_kept":60,"cut":false,"hidden":false,"merged":[[7,8,9,8],[6,4,6,8],[7,13,9,13],[7,23,9,23],[7,24,9,24],[6,14,6,18],[6,19,6,20],[6,21,6,23],[7,15,9,15],[7,16,9,16],[7,25,9,25],[7,17,9,17],[7,18,9,18],[7,19,9,19],[7,21,9,21],[7,22,9,22],[7,20,9,20],[4,1,4,25],[58,3,58,4],[59,3,59,4],[58,16,58,20],[59,16,59,20],[7,1,8,1],[7,4,9,4],[7,5,9,5],[7,6,9,6],[7,7,9,7],[7,14,9,14],[7,9,9,9],[7,10,9,10],[7,11,9,11],[7,12,9,12],[6,9,6,13]]}
[]
[]
[]
[]
[null,{"$f":"CONCATENATE(ANASAYFA!D5,\"  \",ANASAYFA!D11,\"  \",\"SINIFI\",  ANASAYFA!D6,\"  \",\"DERSİ DERS ETKİNLİKLERİNE KATILIM 1. NOTU DEĞERLENDİRME ÖLÇEĞİ\")","v":"Ş.P.E.KADİR ÇAVUŞOĞLU ORTAOKULU    SINIFITÜRKÇE  DERSİ DERS ETKİNLİKLERİNE KATILIM 1. NOTU DEĞERLENDİRME ÖLÇEĞİ"}]
[]
[null,null,null,null,"I. Derse Hazırlık",null,null,null,null,"II. Etkinliklere Katılım",null,null,null,null,"III. İnceleme – Araştırma – Gözlem",null,null,null,null,"III.Sunum",null,"V. Bilim Uygulamaları"]
[null,"DEĞERLENDİRME ÖLÇEĞİ"," 2: Kabul Edilebilir","5:Çok iyi                               ","1.Hangi kaynaklara başvurup hazırlanacağı hakkında bilgi ister","2. Bilgi kaynaklarını kendisi bulur.","3. Bilgiyi nereden edineceğini bildiğini söyler.","4.Derse değişik yardımcı kaynaklarla gelir.","5.Derse hazırlıklı gelir.","1.Kendiliğinden söz alarak görüşünü söyler.","2.Kendisine görüşü sorulduğunda konuşur.","3.Belirttiği görüşler ve verdiği örnekler özgündür","4.Yeni ve özgün sorular sorar.","5.Dersi iyi dinlediği izlenimi veren sorular sorar","1.Bilgi toplamak için çeşitli kaynaklara başvurur","2.Kendisine verilen kaynaklarla yetinmeyip başka kaynaklar araştırır.","3.İnceleme ve araştırma ödevlerini özenerek yapar.","4.Gözlemleri sonucunda mantıksal çıkarımlarda bulunur","5.Araştırma ve incelemeleri sonucunda genellemeler yapar","1.Verilenlerden grafik ve çizelgeler oluşturur","2.Yönteme uygun deney yapar","1. Derslere zamanında girer","2. Dersin akışını bozmaz","3. Ödevlerini zamanında hazırlayarak  sunar.",null,"PERFORMANS GÖREV PUANI"]
[null,null,"1: Zayıf           ","     3:Orta         4:İyi "]
[null,"SIRA ","ÖĞ NO","AD SOYAD "]
[null,1,{"$f":"eokul!$A2","v":0},{"$f":"eokul!B2","v":0},{"$f":"Sayfa2!H5","v":" "},{"$f":"Sayfa2!I5","v":" "},{"$f":"Sayfa2!J5","v":" "},{"$f":"Sayfa2!K5","v":" "},{"$f":"Sayfa2!L5","v":" "},{"$f":"Sayfa2!N5","v":" "},{"$f":"Sayfa2!O5","v":" "},{"$f":"Sayfa2!P5","v":" "},{"$f":"Sayfa2!Q5","v":" "},{"$f":"Sayfa2!R5","v":" "},{"$f":"Sayfa2!T5","v":" "},{"$f":"Sayfa2!U5","v":" "},{"$f":"Sayfa2!V5","v":" "},{"$f":"Sayfa2!W5","v":" "},{"$f":"Sayfa2!X5","v":" "},{"$f":"Sayfa2!Z5","v":" "},{"$f":"Sayfa2!AA5","v":" "},{"$f":"Sayfa2!AC5","v":" "},{"$f":"Sayfa2!AD5","v":" "},{"$f":"Sayfa2!AE5","v":" "},null,{"$f":"eokul!$E2","v":0}]
[null,2,{"$f":"eokul!$A3","v":0},{"$f":"eokul!B3","v":0},{"$f":"Sayfa2!H6","v":" "},{"$f":"Sayfa2!I6","v":" "},{"$f":"Sayfa2!J6","v":" "},{"$f":"Sayfa2!K6","v":" "},{"$f":"Sayfa2!L6","v":" "},{"$f":"Sayfa2!N6","v":" "},{"$f":"Sayfa2!O6","v":" "},{"$f":"Sayfa2!P6","v":" "},{"$f":"Sayfa2!Q6","v":" "},{"$f":"Sayfa2!R6","v":" "},{"$f":"Sayfa2!T6","v":" "},{"$f":"Sayfa2!U6","v":" "},{"$f":"Sayfa2!V6","v":" "},{"$f":"Sayfa2!W6","v":" "},{"$f":"Sayfa2!X6","v":" "},{"$f":"Sayfa2!Z6","v":" "},{"$f":"Sayfa2!AA6","v":" "},{"$f":"Sayfa2!AC6","v":" "},{"$f":"Sayfa2!AD6","v":" "},{"$f":"Sayfa2!AE6","v":" "},null,{"$f":"eokul!$E3","v":0}]
[null,3,{"$f":"eokul!$A4","v":0},{"$f":"eokul!B4","v":0},{"$f":"Sayfa2!H7","v":" "},{"$f":"Sayfa2!I7","v":" "},{"$f":"Sayfa2!J7","v":" "},{"$f":"Sayfa2!K7","v":" "},{"$f":"Sayfa2!L7","v":" "},{"$f":"Sayfa2!N7","v":" "},{"$f":"Sayfa2!O7","v":" "},{"$f":"Sayfa2!P7","v":" "},{"$f":"Sayfa2!Q7","v":" "},{"$f":"Sayfa2!R7","v":" "},{"$f":"Sayfa2!T7","v":" "},{"$f":"Sayfa2!U7","v":" "},{"$f":"Sayfa2!V7","v":" "},{"$f":"Sayfa2!W7","v":" "},{"$f":"Sayfa2!X7","v":" "},{"$f":"Sayfa2!Z7","v":" "},{"$f":"Sayfa2!AA7","v":" "},{"$f":"Sayfa2!AC7","v":" "},{"$f":"Sayfa2!AD7","v":" "},{"$f":"Sayfa2!AE7","v":" "},null,{"$f":"eokul!$E4","v":0}]
[null,4,{"$f":"eokul!$A5","v":0},{"$f":"eokul!B5","v":0},{"$f":"Sayfa2!H8","v":" "},{"$f":"Sayfa2!I8","v":" "},{"$f":"Sayfa2!J8","v":" "},{"$f":"Sayfa2!K8","v":" "},{"$f":"Sayfa2!L8","v":" "},{"$f":"Sayfa2!N8","v":" "},{"$f":"Sayfa2!O8","v":" "},{"$f":"Sayfa2!P8","v":" "},{"$f":"Sayfa2!Q8","v":" "},{"$f":"Sayfa2!R8","v":" "},{"$f":"Sayfa2!T8","v":" "},{"$f":"Sayfa2!U8","v":" "},{"$f":"Sayfa2!V8","v":" "},{"$f":"Sayfa2!W8","v":" "},{"$f":"Sayfa2!X8","v":" "},{"$f":"Sayfa2!Z8","v":" "},{"$f":"Sayfa2!AA8","v":" "},{"$f":"Sayfa2!AC8","v":" "},{"$f":"Sayfa2!AD8","v":" "},{"$f":"Sayfa2!AE8","v":" "},null,{"$f":"eokul!$E5","v":0}]
[null,5,{"$f":"eokul!$A6","v":0},{"$f":"eokul!B6","v":0},{"$f":"Sayfa2!H9","v":" "},{"$f":"Sayfa2!I9","v":" "},{"$f":"Sayfa2!J9","v":" "},{"$f":"Sayfa2!K9","v":" "},{"$f":"Sayfa2!L9","v":" "},{"$f":"Sayfa2!N9","v":" "},{"$f":"Sayfa2!O9","v":" "},{"$f":"Sayfa2!P9","v":" "},{"$f":"Sayfa2!Q9","v":" "},{"$f":"Sayfa2!R9","v":" "},{"$f":"Sayfa2!T9","v":" "},{"$f":"Sayfa2!U9","v":" "},{"$f":"Sayfa2!V9","v":" "},{"$f":"Sayfa2!W9","v":" "},{"$f":"Sayfa2!X9","v":" "},{"$f":"Sayfa2!Z9","v":" "},{"$f":"Sayfa2!AA9","v":" "},{"$f":"Sayfa2!AC9","v":" "},{"$f":"Sayfa2!AD9","v":" "},{"$f":"Sayfa2!AE9","v":" "},null,{"$f":"eokul!$E6","v":0}]
[null,6,{"$f":"eokul!$A7","v":0},{"$f":"eokul!B7","v":0},{"$f":"Sayfa2!H10","v":" "},{"$f":"Sayfa2!I10","v":" "},{"$f":"Sayfa2!J10","v":" "},{"$f":"Sayfa2!K10","v":" "},{"$f":"Sayfa2!L10","v":" "},{"$f":"Sayfa2!N10","v":" "},{"$f":"Sayfa2!O10","v":" "},{"$f":"Sayfa2!P10","v":" "},{"$f":"Sayfa2!Q10","v":" "},{"$f":"Sayfa2!R10","v":" "},{"$f":"Sayfa2!T10","v":" "},{"$f":"Sayfa2!U10","v":" "},{"$f":"Sayfa2!V10","v":" "},{"$f":"Sayfa2!W10","v":" "},{"$f":"Sayfa2!X10","v":" "},{"$f":"Sayfa2!Z10","v":" "},{"$f":"Sayfa2!AA10","v":" "},{"$f":"Sayfa2!AC10","v":" "},{"$f":"Sayfa2!AD10","v":" "},{"$f":"Sayfa2!AE10","v":" "},null,{"$f":"eokul!$E7","v":0}]
[null,7,{"$f":"eokul!$A8","v":0},{"$f":"eokul!B8","v":0},{"$f":"Sayfa2!H11","v":" "},{"$f":"Sayfa2!I11","v":" "},{"$f":"Sayfa2!J11","v":" "},{"$f":"Sayfa2!K11","v":" "},{"$f":"Sayfa2!L11","v":" "},{"$f":"Sayfa2!N11","v":" "},{"$f":"Sayfa2!O11","v":" "},{"$f":"Sayfa2!P11","v":" "},{"$f":"Sayfa2!Q11","v":" "},{"$f":"Sayfa2!R11","v":" "},{"$f":"Sayfa2!T11","v":" "},{"$f":"Sayfa2!U11","v":" "},{"$f":"Sayfa2!V11","v":" "},{"$f":"Sayfa2!W11","v":" "},{"$f":"Sayfa2!X11","v":" "},{"$f":"Sayfa2!Z11","v":" "},{"$f":"Sayfa2!AA11","v":" "},{"$f":"Sayfa2!AC11","v":" "},{"$f":"Sayfa2!AD11","v":" "},{"$f":"Sayfa2!AE11","v":" "},null,{"$f":"eokul!$E8","v":0}]
[null,8,{"$f":"eokul!$A9","v":0},{"$f":"eokul!B9","v":0},{"$f":"Sayfa2!H12","v":" "},{"$f":"Sayfa2!I12","v":" "},{"$f":"Sayfa2!J12","v":" "},{"$f":"Sayfa2!K12","v":" "},{"$f":"Sayfa2!L12","v":" "},{"$f":"Sayfa2!N12","v":" "},{"$f":"Sayfa2!O12","v":" "},{"$f":"Sayfa2!P12","v":" "},{"$f":"Sayfa2!Q12","v":" "},{"$f":"Sayfa2!R12","v":" "},{"$f":"Sayfa2!T12","v":" "},{"$f":"Sayfa2!U12","v":" "},{"$f":"Sayfa2!V12","v":" "},{"$f":"Sayfa2!W12","v":" "},{"$f":"Sayfa2!X12","v":" "},{"$f":"Sayfa2!Z12","v":" "},{"$f":"Sayfa2!AA12","v":" "},{"$f":"Sayfa2!AC12","v":" "},{"$f":"Sayfa2!AD12","v":" "},{"$f":"Sayfa2!AE12","v":" "},null,{"$f":"eokul!$E9","v":0}]
[null,9,{"$f":"eokul!$A10","v":0},{"$f":"eokul!B10","v":0},{"$f":"Sayfa2!H13","v":" "},{"$f":"Sayfa2!I13","v":" "},{"$f":"Sayfa2!J13","v":" "},{"$f":"Sayfa2!K13","v":" "},{"$f":"Sayfa2!L13","v":" "},{"$f":"Sayfa2!N13","v":" "},{"$f":"Sayfa2!O13","v":" "},{"$f":"Sayfa2!P13","v":" "},{"$f":"Sayfa2!Q13","v":" "},{"$f":"Sayfa2!R13","v":" "},{"$f":"Sayfa2!T13","v":" "},{"$f":"Sayfa2!U13","v":" "},{"$f":"Sayfa2!V13","v":" "},{"$f":"Sayfa2!W13","v":" "},{"$f":"Sayfa2!X13","v":" "},{"$f":"Sayfa2!Z13","v":" "},{"$f":"Sayfa2!AA13","v":" "},{"$f":"Sayfa2!AC13","v":" "},{"$f":"Sayfa2!AD13","v":" "},{"$f":"Sayfa2!AE13","v":" "},null,{"$f":"eokul!$E10","v":0}]
[null,10,{"$f":"eokul!$A11","v":0},{"$f":"eokul!B11","v":0},{"$f":"Sayfa2!H14","v":" "},{"$f":"Sayfa2!I14","v":" "},{"$f":"Sayfa2!J14","v":" "},{"$f":"Sayfa2!K14","v":" "},{"$f":"Sayfa2!L14","v":" "},{"$f":"Sayfa2!N14","v":" "},{"$f":"Sayfa2!O14","v":" "},{"$f":"Sayfa2!P14","v":" "},{"$f":"Sayfa2!Q14","v":" "},{"$f":"Sayfa2!R14","v":" "},{"$f":"Sayfa2!T14","v":" "},{"$f":"Sayfa2!U14","v":" "},{"$f":"Sayfa2!V14","v":" "},{"$f":"Sayfa2!W14","v":" "},{"$f":"Sayfa2!X14","v":" "},{"$f":"Sayfa2!Z14","v":" "},{"$f":"Sayfa2!AA14","v":" "},{"$f":"Sayfa2!AC14","v":" "},{"$f":"Sayfa2!AD14","v":" "},{"$f":"Sayfa2!AE14","v":" "},null,{"$f":"eokul!$E11","v":0}]
[null,11,{"$f":"eokul!$A12","v":0},{"$f":"eokul!B12","v":0},{"$f":"Sayfa2!H15","v":" "},{"$f":"Sayfa2!I15","v":" "},{"$f":"Sayfa2!J15","v":" "},{"$f":"Sayfa2!K15","v":" "},{"$f":"Sayfa2!L15","v":" "},{"$f":"Sayfa2!N15","v":" "},{"$f":"Sayfa2!O15","v":" "},{"$f":"Sayfa2!P15","v":" "},{"$f":"Sayfa2!Q15","v":" "},{"$f":"Sayfa2!R15","v":" "},{"$f":"Sayfa2!T15","v":" "},{"$f":"Sayfa2!U15","v":" "},{"$f":"Sayfa2!V15","v":" "},{"$f":"Sayfa2!W15","v":" "},{"$f":"Sayfa2!X15","v":" "},{"$f":"Sayfa2!Z15","v":" "},{"$f":"Sayfa2!AA15","v":" "},{"$f":"Sayfa2!AC15","v":" "},{"$f":"Sayfa2!AD15","v":" "},{"$f":"Sayfa2!AE15","v":" "},null,{"$f":"eokul!$E12","v":0}]
[null,12,{"$f":"eokul!$A13","v":0},{"$f":"eokul!B13","v":0},{"$f":"Sayfa2!H16","v":" "},{"$f":"Sayfa2!I16","v":" "},{"$f":"Sayfa2!J16","v":" "},{"$f":"Sayfa2!K16","v":" "},{"$f":"Sayfa2!L16","v":" "},{"$f":"Sayfa2!N16","v":" "},{"$f":"Sayfa2!O16","v":" "},{"$f":"Sayfa2!P16","v":" "},{"$f":"Sayfa2!Q16","v":" "},{"$f":"Sayfa2!R16","v":" "},{"$f":"Sayfa2!T16","v":" "},{"$f":"Sayfa2!U16","v":" "},{"$f":"Sayfa2!V16","v":" "},{"$f":"Sayfa2!W16","v":" "},{"$f":"Sayfa2!X16","v":" "},{"$f":"Sayfa2!Z16","v":" "},{"$f":"Sayfa2!AA16","v":" "},{"$f":"Sayfa2!AC16","v":" "},{"$f":"Sayfa2!AD16","v":" "},{"$f":"Sayfa2!AE16","v":" "},null,{"$f":"eokul!$E13","v":0}]
[null,13,{"$f":"eokul!$A14","v":0},{"$f":"eokul!B14","v":0},{"$f":"Sayfa2!H17","v":" "},{"$f":"Sayfa2!I17","v":" "},{"$f":"Sayfa2!J17","v":" "},{"$f":"Sayfa2!K17","v":" "},{"$f":"Sayfa2!L17","v":" "},{"$f":"Sayfa2!N17","v":" "},{"$f":"Sayfa2!O17","v":" "},{"$f":"Sayfa2!P17","v":" "},{"$f":"Sayfa2!Q17","v":" "},{"$f":"Sayfa2!R17","v":" "},{"$f":"Sayfa2!T17","v":" "},{"$f":"Sayfa2!U17","v":" "},{"$f":"Sayfa2!V17","v":" "},{"$f":"Sayfa2!W17","v":" "},{"$f":"Sayfa2!X17","v":" "},{"$f":"Sayfa2!Z17","v":" "},{"$f":"Sayfa2!AA17","v":" "},{"$f":"Sayfa2!AC17","v":" "},{"$f":"Sayfa2!AD17","v":" "},{"$f":"Sayfa2!AE17","v":" "},null,{"$f":"eokul!$E14","v":0}]
[null,14,{"$f":"eokul!$A15","v":0},{"$f":"eokul!B15","v":0},{"$f":"Sayfa2!H18","v":" "},{"$f":"Sayfa2!I18","v":" "},{"$f":"Sayfa2!J18","v":" "},{"$f":"Sayfa2!K18","v":" "},{"$f":"Sayfa2!L18","v":" "},{"$f":"Sayfa2!N18","v":" "},{"$f":"Sayfa2!O18","v":" "},{"$f":"Sayfa2!P18","v":" "},{"$f":"Sayfa2!Q18","v":" "},{"$f":"Sayfa2!R18","v":" "},{"$f":"Sayfa2!T18","v":" "},{"$f":"Sayfa2!U18","v":" "},{"$f":"Sayfa2!V18","v":" "},{"$f":"Sayfa2!W18","v":" "},{"$f":"Sayfa2!X18","v":" "},{"$f":"Sayfa2!Z18","v":" "},{"$f":"Sayfa2!AA18","v":" "},{"$f":"Sayfa2!AC18","v":" "},{"$f":"Sayfa2!AD18","v":" "},{"$f":"Sayfa2!AE18","v":" "},null,{"$f":"eokul!$E15","v":0}]
[null,15,{"$f":"eokul!$A16","v":0},{"$f":"eokul!B16","v":0},{"$f":"Sayfa2!H19","v":" "},{"$f":"Sayfa2!I19","v":" "},{"$f":"Sayfa2!J19","v":" "},{"$f":"Sayfa2!K19","v":" "},{"$f":"Sayfa2!L19","v":" "},{"$f":"Sayfa2!N19","v":" "},{"$f":"Sayfa2!O19","v":" "},{"$f":"Sayfa2!P19","v":" "},{"$f":"Sayfa2!Q19","v":" "},{"$f":"Sayfa2!R19","v":" "},{"$f":"Sayfa2!T19","v":" "},{"$f":"Sayfa2!U19","v":" "},{"$f":"Sayfa2!V19","v":" "},{"$f":"Sayfa2!W19","v":" "},{"$f":"Sayfa2!X19","v":" "},{"$f":"Sayfa2!Z19","v":" "},{"$f":"Sayfa2!AA19","v":" "},{"$f":"Sayfa2!AC19","v":" "},{"$f":"Sayfa2!AD19","v":" "},{"$f":"Sayfa2!AE19","v":" "},null,{"$f":"eokul!$E16","v":0}]
[null,16,{"$f":"eokul!$A17","v":0},{"$f":"eokul!B17","v":0},{"$f":"Sayfa2!H20","v":" "},{"$f":"Sayfa2!I20","v":" "},{"$f":"Sayfa2!J20","v":" "},{"$f":"Sayfa2!K20","v":" "},{"$f":"Sayfa2!L20","v":" "},{"$f":"Sayfa2!N20","v":" "},{"$f":"Sayfa2!O20","v":" "},{"$f":"Sayfa2!P20","v":" "},{"$f":"Sayfa2!Q20","v":" "},{"$f":"Sayfa2!R20","v":" "},{"$f":"Sayfa2!T20","v":" "},{"$f":"Sayfa2!U20","v":" "},{"$f":"Sayfa2!V20","v":" "},{"$f":"Sayfa2!W20","v":" "},{"$f":"Sayfa2!X20","v":" "},{"$f":"Sayfa2!Z20","v":" "},{"$f":"Sayfa2!AA20","v":" "},{"$f":"Sayfa2!AC20","v":" "},{"$f":"Sayfa2!AD20","v":" "},{"$f":"Sayfa2!AE20","v":" "},null,{"$f":"eokul!$E17","v":0}]
[null,17,{"$f":"eokul!$A18","v":0},{"$f":"eokul!B18","v":0},{"$f":"Sayfa2!H21","v":" "},{"$f":"Sayfa2!I21","v":" "},{"$f":"Sayfa2!J21","v":" "},{"$f":"Sayfa2!K21","v":" "},{"$f":"Sayfa2!L21","v":" "},{"$f":"Sayfa2!N21","v":" "},{"$f":"Sayfa2!O21","v":" "},{"$f":"Sayfa2!P21","v":" "},{"$f":"Sayfa2!Q21","v":" "},{"$f":"Sayfa2!R21","v":" "},{"$f":"Sayfa2!T21","v":" "},{"$f":"Sayfa2!U21","v":" "},{"$f":"Sayfa2!V21","v":" "},{"$f":"Sayfa2!W21","v":" "},{"$f":"Sayfa2!X21","v":" "},{"$f":"Sayfa2!Z21","v":" "},{"$f":"Sayfa2!AA21","v":" "},{"$f":"Sayfa2!AC21","v":" "},{"$f":"Sayfa2!AD21","v":" "},{"$f":"Sayfa2!AE21","v":" "},null,{"$f":"eokul!$E18","v":0}]
[null,18,{"$f":"eokul!$A19","v":0},{"$f":"eokul!B19","v":0},{"$f":"Sayfa2!H22","v":" "},{"$f":"Sayfa2!I22","v":" "},{"$f":"Sayfa2!J22","v":" "},{"$f":"Sayfa2!K22","v":" "},{"$f":"Sayfa2!L22","v":" "},{"$f":"Sayfa2!N22","v":" "},{"$f":"Sayfa2!O22","v":" "},{"$f":"Sayfa2!P22","v":" "},{"$f":"Sayfa2!Q22","v":" "},{"$f":"Sayfa2!R22","v":" "},{"$f":"Sayfa2!T22","v":" "},{"$f":"Sayfa2!U22","v":" "},{"$f":"Sayfa2!V22","v":" "},{"$f":"Sayfa2!W22","v":" "},{"$f":"Sayfa2!X22","v":" "},{"$f":"Sayfa2!Z22","v":" "},{"$f":"Sayfa2!AA22","v":" "},{"$f":"Sayfa2!AC22","v":" "},{"$f":"Sayfa2!AD22","v":" "},{"$f":"Sayfa2!AE22","v":" "},null,{"$f":"eokul!$E19","v":0}]
[null,19,{"$f":"eokul!$A20","v":0},{"$f":"eokul!B20","v":0},{"$f":"Sayfa2!H23","v":" "},{"$f":"Sayfa2!I23","v":" "},{"$f":"Sayfa2!J23","v":" "},{"$f":"Sayfa2!K23","v":" "},{"$f":"Sayfa2!L23","v":" "},{"$f":"Sayfa2!N23","v":" "},{"$f":"Sayfa2!O23","v":" "},{"$f":"Sayfa2!P23","v":" "},{"$f":"Sayfa2!Q23","v":" "},{"$f":"Sayfa2!R23","v":" "},{"$f":"Sayfa2!T23","v":" "},{"$f":"Sayfa2!U23","v":" "},{"$f":"Sayfa2!V23","v":" "},{"$f":"Sayfa2!W23","v":" "},{"$f":"Sayfa2!X23","v":" "},{"$f":"Sayfa2!Z23","v":" "},{"$f":"Sayfa2!AA23","v":" "},{"$f":"Sayfa2!AC23","v":" "},{"$f":"Sayfa2!AD23","v":" "},{"$f":"Sayfa2!AE23","v":" "},null,{"$f":"eokul!$E20","v":0}]
[null,20,{"$f":"eokul!$A21","v":0},{"$f":"eokul!B21","v":0},{"$f":"Sayfa2!H24","v":" "},{"$f":"Sayfa2!I24","v":" "},{"$f":"Sayfa2!J24","v":" "},{"$f":"Sayfa2!K24","v":" "},{"$f":"Sayfa2!L24","v":" "},{"$f":"Sayfa2!N24","v":" "},{"$f":"Sayfa2!O24","v":" "},{"$f":"Sayfa2!P24","v":" "},{"$f":"Sayfa2!Q24","v":" "},{"$f":"Sayfa2!R24","v":" "},{"$f":"Sayfa2!T24","v":" "},{"$f":"Sayfa2!U24","v":" "},{"$f":"Sayfa2!V24","v":" "},{"$f":"Sayfa2!W24","v":" "},{"$f":"Sayfa2!X24","v":" "},{"$f":"Sayfa2!Z24","v":" "},{"$f":"Sayfa2!AA24","v":" "},{"$f":"Sayfa2!AC24","v":" "},{"$f":"Sayfa2!AD24","v":" "},{"$f":"Sayfa2!AE24","v":" "},null,{"$f":"eokul!$E21","v":0}]
[null,21,{"$f":"eokul!$A22","v":0},{"$f":"eokul!B22","v":0},{"$f":"Sayfa2!H25","v":" "},{"$f":"Sayfa2!I25","v":" "},{"$f":"Sayfa2!J25","v":" "},{"$f":"Sayfa2!K25","v":" "},{"$f":"Sayfa2!L25","v":" "},{"$f":"Sayfa2!N25","v":" "},{"$f":"Sayfa2!O25","v":" "},{"$f":"Sayfa2!P25","v":" "},{"$f":"Sayfa2!Q25","v":" "},{"$f":"Sayfa2!R25","v":" "},{"$f":"Sayfa2!T25","v":" "},{"$f":"Sayfa2!U25","v":" "},{"$f":"Sayfa2!V25","v":" "},{"$f":"Sayfa2!W25","v":" "},{"$f":"Sayfa2!X25","v":" "},{"$f":"Sayfa2!Z25","v":" "},{"$f":"Sayfa2!AA25","v":" "},{"$f":"Sayfa2!AC25","v":" "},{"$f":"Sayfa2!AD25","v":" "},{"$f":"Sayfa2!AE25","v":" "},null,{"$f":"eokul!$E22","v":0}]
[null,22,{"$f":"eokul!$A23","v":0},{"$f":"eokul!B23","v":0},{"$f":"Sayfa2!H26","v":" "},{"$f":"Sayfa2!I26","v":" "},{"$f":"Sayfa2!J26","v":" "},{"$f":"Sayfa2!K26","v":" "},{"$f":"Sayfa2!L26","v":" "},{"$f":"Sayfa2!N26","v":" "},{"$f":"Sayfa2!O26","v":" "},{"$f":"Sayfa2!P26","v":" "},{"$f":"Sayfa2!Q26","v":" "},{"$f":"Sayfa2!R26","v":" "},{"$f":"Sayfa2!T26","v":" "},{"$f":"Sayfa2!U26","v":" "},{"$f":"Sayfa2!V26","v":" "},{"$f":"Sayfa2!W26","v":" "},{"$f":"Sayfa2!X26","v":" "},{"$f":"Sayfa2!Z26","v":" "},{"$f":"Sayfa2!AA26","v":" "},{"$f":"Sayfa2!AC26","v":" "},{"$f":"Sayfa2!AD26","v":" "},{"$f":"Sayfa2!AE26","v":" "},null,{"$f":"eokul!$E23","v":0}]
[null,23,{"$f":"eokul!$A24","v":0},{"$f":"eokul!B24","v":0},{"$f":"Sayfa2!H27","v":" "},{"$f":"Sayfa2!I27","v":" "},{"$f":"Sayfa2!J27","v":" "},{"$f":"Sayfa2!K27","v":" "},{"$f":"Sayfa2!L27","v":" "},{"$f":"Sayfa2!N27","v":" "},{"$f":"Sayfa2!O27","v":" "},{"$f":"Sayfa2!P27","v":" "},{"$f":"Sayfa2!Q27","v":" "},{"$f":"Sayfa2!R27","v":" "},{"$f":"Sayfa2!T27","v":" "},{"$f":"Sayfa2!U27","v":" "},{"$f":"Sayfa2!V27","v":" "},{"$f":"Sayfa2!W27","v":" "},{"$f":"Sayfa2!X27","v":" "},{"$f":"Sayfa2!Z27","v":" "},{"$f":"Sayfa2!AA27","v":" "},{"$f":"Sayfa2!AC27","v":" "},{"$f":"Sayfa2!AD27","v":" "},{"$f":"Sayfa2!AE27","v":" "},null,{"$f":"eokul!$E24","v":0}]
[null,24,{"$f":"eokul!$A25","v":0},{"$f":"eokul!B25","v":0},{"$f":"Sayfa2!H28","v":" "},{"$f":"Sayfa2!I28","v":" "},{"$f":"Sayfa2!J28","v":" "},{"$f":"Sayfa2!K28","v":" "},{"$f":"Sayfa2!L28","v":" "},{"$f":"Sayfa2!N28","v":" "},{"$f":"Sayfa2!O28","v":" "},{"$f":"Sayfa2!P28","v":" "},{"$f":"Sayfa2!Q28","v":" "},{"$f":"Sayfa2!R28","v":" "},{"$f":"Sayfa2!T28","v":" "},{"$f":"Sayfa2!U28","v":" "},{"$f":"Sayfa2!V28","v":" "},{"$f":"Sayfa2!W28","v":" "},{"$f":"Sayfa2!X28","v":" "},{"$f":"Sayfa2!Z28","v":" "},{"$f":"Sayfa2!AA28","v":" "},{"$f":"Sayfa2!AC28","v":" "},{"$f":"Sayfa2!AD28","v":" "},{"$f":"Sayfa2!AE28","v":" "},null,{"$f":"eokul!$E25","v":0}]
[null,25,{"$f":"eokul!$A26","v":0},{"$f":"eokul!B26","v":0},{"$f":"Sayfa2!H29","v":" "},{"$f":"Sayfa2!I29","v":" "},{"$f":"Sayfa2!J29","v":" "},{"$f":"Sayfa2!K29","v":" "},{"$f":"Sayfa2!L29","v":" "},{"$f":"Sayfa2!N29","v":" "},{"$f":"Sayfa2!O29","v":" "},{"$f":"Sayfa2!P29","v":" "},{"$f":"Sayfa2!Q29","v":" "},{"$f":"Sayfa2!R29","v":" "},{"$f":"Sayfa2!T29","v":" "},{"$f":"Sayfa2!U29","v":" "},{"$f":"Sayfa2!V29","v":" "},{"$f":"Sayfa2!W29","v":" "},{"$f":"Sayfa2!X29","v":" "},{"$f":"Sayfa2!Z29","v":" "},{"$f":"Sayfa2!AA29","v":" "},{"$f":"Sayfa2!AC29","v":" "},{"$f":"Sayfa2!AD29","v":" "},{"$f":"Sayfa2!AE29","v":" "},null,{"$f":"eokul!$E26","v":0}]
[null,26,{"$f":"eokul!$A27","v":0},{"$f":"eokul!B27","v":0},{"$f":"Sayfa2!H30","v":" "},{"$f":"Sayfa2!I30","v":" "},{"$f":"Sayfa2!J30","v":" "},{"$f":"Sayfa2!K30","v":" "},{"$f":"Sayfa2!L30","v":" "},{"$f":"Sayfa2!N30","v":" "},{"$f":"Sayfa2!O30","v":" "},{"$f":"Sayfa2!P30","v":" "},{"$f":"Sayfa2!Q30","v":" "},{"$f":"Sayfa2!R30","v":" "},{"$f":"Sayfa2!T30","v":" "},{"$f":"Sayfa2!U30","v":" "},{"$f":"Sayfa2!V30","v":" "},{"$f":"Sayfa2!W30","v":" "},{"$f":"Sayfa2!X30","v":" "},{"$f":"Sayfa2!Z30","v":" "},{"$f":"Sayfa2!AA30","v":" "},{"$f":"Sayfa2!AC30","v":" "},{"$f":"Sayfa2!AD30","v":" "},{"$f":"Sayfa2!AE30","v":" "},null,{"$f":"eokul!$E27","v":0}]
[null,27,{"$f":"eokul!$A28","v":0},{"$f":"eokul!B28","v":0},{"$f":"Sayfa2!H31","v":" "},{"$f":"Sayfa2!I31","v":" "},{"$f":"Sayfa2!J31","v":" "},{"$f":"Sayfa2!K31","v":" "},{"$f":"Sayfa2!L31","v":" "},{"$f":"Sayfa2!N31","v":" "},{"$f":"Sayfa2!O31","v":" "},{"$f":"Sayfa2!P31","v":" "},{"$f":"Sayfa2!Q31","v":" "},{"$f":"Sayfa2!R31","v":" "},{"$f":"Sayfa2!T31","v":" "},{"$f":"Sayfa2!U31","v":" "},{"$f":"Sayfa2!V31","v":" "},{"$f":"Sayfa2!W31","v":" "},{"$f":"Sayfa2!X31","v":" "},{"$f":"Sayfa2!Z31","v":" "},{"$f":"Sayfa2!AA31","v":" "},{"$f":"Sayfa2!AC31","v":" "},{"$f":"Sayfa2!AD31","v":" "},{"$f":"Sayfa2!AE31","v":" "},null,{"$f":"eokul!$E28","v":0}]
[null,28,{"$f":"eokul!$A29","v":0},{"$f":"eokul!B29","v":0},{"$f":"Sayfa2!H32","v":" "},{"$f":"Sayfa2!I32","v":" "},{"$f":"Sayfa2!J32","v":" "},{"$f":"Sayfa2!K32","v":" "},{"$f":"Sayfa2!L32","v":" "},{"$f":"Sayfa2!N32","v":" "},{"$f":"Sayfa2!O32","v":" "},{"$f":"Sayfa2!P32","v":" "},{"$f":"Sayfa2!Q32","v":" "},{"$f":"Sayfa2!R32","v":" "},{"$f":"Sayfa2!T32","v":" "},{"$f":"Sayfa2!U32","v":" "},{"$f":"Sayfa2!V32","v":" "},{"$f":"Sayfa2!W32","v":" "},{"$f":"Sayfa2!X32","v":" "},{"$f":"Sayfa2!Z32","v":" "},{"$f":"Sayfa2!AA32","v":" "},{"$f":"Sayfa2!AC32","v":" "},{"$f":"Sayfa2!AD32","v":" "},{"$f":"Sayfa2!AE32","v":" "},null,{"$f":"eokul!$E29","v":0}]
[null,29,{"$f":"eokul!$A30","v":0},{"$f":"eokul!B30","v":0},{"$f":"Sayfa2!H33","v":" "},{"$f":"Sayfa2!I33","v":" "},{"$f":"Sayfa2!J33","v":" "},{"$f":"Sayfa2!K33","v":" "},{"$f":"Sayfa2!L33","v":" "},{"$f":"Sayfa2!N33","v":" "},{"$f":"Sayfa2!O33","v":" "},{"$f":"Sayfa2!P33","v":" "},{"$f":"Sayfa2!Q33","v":" "},{"$f":"Sayfa2!R33","v":" "},{"$f":"Sayfa2!T33","v":" "},{"$f":"Sayfa2!U33","v":" "},{"$f":"Sayfa2!V33","v":" "},{"$f":"Sayfa2!W33","v":" "},{"$f":"Sayfa2!X33","v":" "},{"$f":"Sayfa2!Z33","v":" "},{"$f":"Sayfa2!AA33","v":" "},{"$f":"Sayfa2!AC33","v":" "},{"$f":"Sayfa2!AD33","v":" "},{"$f":"Sayfa2!AE33","v":" "},null,{"$f":"eokul!$E30","v":0}]
[null,30,{"$f":"eokul!$A31","v":0},{"$f":"eokul!B31","v":0},{"$f":"Sayfa2!H34","v":" "},{"$f":"Sayfa2!I34","v":" "},{"$f":"Sayfa2!J34","v":" "},{"$f":"Sayfa2!K34","v":" "},{"$f":"Sayfa2!L34","v":" "},{"$f":"Sayfa2!N34","v":" "},{"$f":"Sayfa2!O34","v":" "},{"$f":"Sayfa2!P34","v":" "},{"$f":"Sayfa2!Q34","v":" "},{"$f":"Sayfa2!R34","v":" "},{"$f":"Sayfa2!T34","v":" "},{"$f":"Sayfa2!U34","v":" "},{"$f":"Sayfa2!V34","v":" "},{"$f":"Sayfa2!W34","v":" "},{"$f":"Sayfa2!X34","v":" "},{"$f":"Sayfa2!Z34","v":" "},{"$f":"Sayfa2!AA34","v":" "},{"$f":"Sayfa2!AC34","v":" "},{"$f":"Sayfa2!AD34","v":" "},{"$f":"Sayfa2!AE34","v":" "},null,{"$f":"eokul!$E31","v":0}]
[null,31,{"$f":"eokul!$A32","v":0},{"$f":"eokul!B32","v":0},{"$f":"Sayfa2!H35","v":" "},{"$f":"Sayfa2!I35","v":" "},{"$f":"Sayfa2!J35","v":" "},{"$f":"Sayfa2!K35","v":" "},{"$f":"Sayfa2!L35","v":" "},{"$f":"Sayfa2!N35","v":" "},{"$f":"Sayfa2!O35","v":" "},{"$f":"Sayfa2!P35","v":" "},{"$f":"Sayfa2!Q35","v":" "},{"$f":"Sayfa2!R35","v":" "},{"$f":"Sayfa2!T35","v":" "},{"$f":"Sayfa2!U35","v":" "},{"$f":"Sayfa2!V35","v":" "},{"$f":"Sayfa2!W35","v":" "},{"$f":"Sayfa2!X35","v":" "},{"$f":"Sayfa2!Z35","v":" "},{"$f":"Sayfa2!AA35","v":" "},{"$f":"Sayfa2!AC35","v":" "},{"$f":"Sayfa2!AD35","v":" "},{"$f":"Sayfa2!AE35","v":" "},null,{"$f":"eokul!$E32","v":0}]
[null,32,{"$f":"eokul!$A33","v":0},{"$f":"eokul!B33","v":0},{"$f":"Sayfa2!H36","v":" "},{"$f":"Sayfa2!I36","v":" "},{"$f":"Sayfa2!J36","v":" "},{"$f":"Sayfa2!K36","v":" "},{"$f":"Sayfa2!L36","v":" "},{"$f":"Sayfa2!N36","v":" "},{"$f":"Sayfa2!O36","v":" "},{"$f":"Sayfa2!P36","v":" "},{"$f":"Sayfa2!Q36","v":" "},{"$f":"Sayfa2!R36","v":" "},{"$f":"Sayfa2!T36","v":" "},{"$f":"Sayfa2!U36","v":" "},{"$f":"Sayfa2!V36","v":" "},{"$f":"Sayfa2!W36","v":" "},{"$f":"Sayfa2!X36","v":" "},{"$f":"Sayfa2!Z36","v":" "},{"$f":"Sayfa2!AA36","v":" "},{"$f":"Sayfa2!AC36","v":" "},{"$f":"Sayfa2!AD36","v":" "},{"$f":"Sayfa2!AE36","v":" "},null,{"$f":"eokul!$E33","v":0}]
[null,33,{"$f":"eokul!$A34","v":0},{"$f":"eokul!B34","v":0},{"$f":"Sayfa2!H37","v":" "},{"$f":"Sayfa2!I37","v":" "},{"$f":"Sayfa2!J37","v":" "},{"$f":"Sayfa2!K37","v":" "},{"$f":"Sayfa2!L37","v":" "},{"$f":"Sayfa2!N37","v":" "},{"$f":"Sayfa2!O37","v":" "},{"$f":"Sayfa2!P37","v":" "},{"$f":"Sayfa2!Q37","v":" "},{"$f":"Sayfa2!R37","v":" "},{"$f":"Sayfa2!T37","v":" "},{"$f":"Sayfa2!U37","v":" "},{"$f":"Sayfa2!V37","v":" "},{"$f":"Sayfa2!W37","v":" "},{"$f":"Sayfa2!X37","v":" "},{"$f":"Sayfa2!Z37","v":" "},{"$f":"Sayfa2!AA37","v":" "},{"$f":"Sayfa2!AC37","v":" "},{"$f":"Sayfa2!AD37","v":" "},{"$f":"Sayfa2!AE37","v":" "},null,{"$f":"eokul!$E34","v":0}]
[null,34,{"$f":"eokul!$A35","v":0},{"$f":"eokul!B35","v":0},{"$f":"Sayfa2!H38","v":" "},{"$f":"Sayfa2!I38","v":" "},{"$f":"Sayfa2!J38","v":" "},{"$f":"Sayfa2!K38","v":" "},{"$f":"Sayfa2!L38","v":" "},{"$f":"Sayfa2!N38","v":" "},{"$f":"Sayfa2!O38","v":" "},{"$f":"Sayfa2!P38","v":" "},{"$f":"Sayfa2!Q38","v":" "},{"$f":"Sayfa2!R38","v":" "},{"$f":"Sayfa2!T38","v":" "},{"$f":"Sayfa2!U38","v":" "},{"$f":"Sayfa2!V38","v":" "},{"$f":"Sayfa2!W38","v":" "},{"$f":"Sayfa2!X38","v":" "},{"$f":"Sayfa2!Z38","v":" "},{"$f":"Sayfa2!AA38","v":" "},{"$f":"Sayfa2!AC38","v":" "},{"$f":"Sayfa2!AD38","v":" "},{"$f":"Sayfa2!AE38","v":" "},null,{"$f":"eokul!$E35","v":0}]
[null,35,{"$f":"eokul!$A36","v":0},{"$f":"eokul!B36","v":0},{"$f":"Sayfa2!H39","v":" "},{"$f":"Sayfa2!I39","v":" "},{"$f":"Sayfa2!J39","v":" "},{"$f":"Sayfa2!K39","v":" "},{"$f":"Sayfa2!L39","v":" "},{"$f":"Sayfa2!N39","v":" "},{"$f":"Sayfa2!O39","v":" "},{"$f":"Sayfa2!P39","v":" "},{"$f":"Sayfa2!Q39","v":" "},{"$f":"Sayfa2!R39","v":" "},{"$f":"Sayfa2!T39","v":" "},{"$f":"Sayfa2!U39","v":" "},{"$f":"Sayfa2!V39","v":" "},{"$f":"Sayfa2!W39","v":" "},{"$f":"Sayfa2!X39","v":" "},{"$f":"Sayfa2!Z39","v":" "},{"$f":"Sayfa2!AA39","v":" "},{"$f":"Sayfa2!AC39","v":" "},{"$f":"Sayfa2!AD39","v":" "},{"$f":"Sayfa2!AE39","v":" "},null,{"$f":"eokul!$E36","v":0}]
[null,36,{"$f":"eokul!$A37","v":0},{"$f":"eokul!B37","v":0},{"$f":"Sayfa2!H40","v":" "},{"$f":"Sayfa2!I40","v":" "},{"$f":"Sayfa2!J40","v":" "},{"$f":"Sayfa2!K40","v":" "},{"$f":"Sayfa2!L40","v":" "},{"$f":"Sayfa2!N40","v":" "},{"$f":"Sayfa2!O40","v":" "},{"$f":"Sayfa2!P40","v":" "},{"$f":"Sayfa2!Q40","v":" "},{"$f":"Sayfa2!R40","v":" "},{"$f":"Sayfa2!T40","v":" "},{"$f":"Sayfa2!U40","v":" "},{"$f":"Sayfa2!V40","v":" "},{"$f":"Sayfa2!W40","v":" "},{"$f":"Sayfa2!X40","v":" "},{"$f":"Sayfa2!Z40","v":" "},{"$f":"Sayfa2!AA40","v":" "},{"$f":"Sayfa2!AC40","v":" "},{"$f":"Sayfa2!AD40","v":" "},{"$f":"Sayfa2!AE40","v":" "},null,{"$f":"eokul!$E37","v":0}]
[null,37,{"$f":"eokul!$A38","v":0},{"$f":"eokul!B38","v":0},{"$f":"Sayfa2!H41","v":" "},{"$f":"Sayfa2!I41","v":" "},{"$f":"Sayfa2!J41","v":" "},{"$f":"Sayfa2!K41","v":" "},{"$f":"Sayfa2!L41","v":" "},{"$f":"Sayfa2!N41","v":" "},{"$f":"Sayfa2!O41","v":" "},{"$f":"Sayfa2!P41","v":" "},{"$f":"Sayfa2!Q41","v":" "},{"$f":"Sayfa2!R41","v":" "},{"$f":"Sayfa2!T41","v":" "},{"$f":"Sayfa2!U41","v":" "},{"$f":"Sayfa2!V41","v":" "},{"$f":"Sayfa2!W41","v":" "},{"$f":"Sayfa2!X41","v":" "},{"$f":"Sayfa2!Z41","v":" "},{"$f":"Sayfa2!AA41","v":" "},{"$f":"Sayfa2!AC41","v":" "},{"$f":"Sayfa2!AD41","v":" "},{"$f":"Sayfa2!AE41","v":" "},null,{"$f":"eokul!$E38","v":0}]
[null,38,{"$f":"eokul!$A39","v":0},{"$f":"eokul!B39","v":0},{"$f":"Sayfa2!H42","v":" "},{"$f":"Sayfa2!I42","v":" "},{"$f":"Sayfa2!J42","v":" "},{"$f":"Sayfa2!K42","v":" "},{"$f":"Sayfa2!L42","v":" "},{"$f":"Sayfa2!N42","v":" "},{"$f":"Sayfa2!O42","v":" "},{"$f":"Sayfa2!P42","v":" "},{"$f":"Sayfa2!Q42","v":" "},{"$f":"Sayfa2!R42","v":" "},{"$f":"Sayfa2!T42","v":" "},{"$f":"Sayfa2!U42","v":" "},{"$f":"Sayfa2!V42","v":" "},{"$f":"Sayfa2!W42","v":" "},{"$f":"Sayfa2!X42","v":" "},{"$f":"Sayfa2!Z42","v":" "},{"$f":"Sayfa2!AA42","v":" "},{"$f":"Sayfa2!AC42","v":" "},{"$f":"Sayfa2!AD42","v":" "},{"$f":"Sayfa2!AE42","v":" "},null,{"$f":"eokul!$E39","v":0}]
[null,39,{"$f":"eokul!$A40","v":0},{"$f":"eokul!B40","v":0},{"$f":"Sayfa2!H43","v":" "},{"$f":"Sayfa2!I43","v":" "},{"$f":"Sayfa2!J43","v":" "},{"$f":"Sayfa2!K43","v":" "},{"$f":"Sayfa2!L43","v":" "},{"$f":"Sayfa2!N43","v":" "},{"$f":"Sayfa2!O43","v":" "},{"$f":"Sayfa2!P43","v":" "},{"$f":"Sayfa2!Q43","v":" "},{"$f":"Sayfa2!R43","v":" "},{"$f":"Sayfa2!T43","v":" "},{"$f":"Sayfa2!U43","v":" "},{"$f":"Sayfa2!V43","v":" "},{"$f":"Sayfa2!W43","v":" "},{"$f":"Sayfa2!X43","v":" "},{"$f":"Sayfa2!Z43","v":" "},{"$f":"Sayfa2!AA43","v":" "},{"$f":"Sayfa2!AC43","v":" "},{"$f":"Sayfa2!AD43","v":" "},{"$f":"Sayfa2!AE43","v":" "},null,{"$f":"eokul!$E40","v":0}]
[null,40,{"$f":"eokul!$A41","v":0},{"$f":"eokul!B41","v":0},{"$f":"Sayfa2!H44","v":" "},{"$f":"Sayfa2!I44","v":" "},{"$f":"Sayfa2!J44","v":" "},{"$f":"Sayfa2!K44","v":" "},{"$f":"Sayfa2!L44","v":" "},{"$f":"Sayfa2!N44","v":" "},{"$f":"Sayfa2!O44","v":" "},{"$f":"Sayfa2!P44","v":" "},{"$f":"Sayfa2!Q44","v":" "},{"$f":"Sayfa2!R44","v":" "},{"$f":"Sayfa2!T44","v":" "},{"$f":"Sayfa2!U44","v":" "},{"$f":"Sayfa2!V44","v":" "},{"$f":"Sayfa2!W44","v":" "},{"$f":"Sayfa2!X44","v":" "},{"$f":"Sayfa2!Z44","v":" "},{"$f":"Sayfa2!AA44","v":" "},{"$f":"Sayfa2!AC44","v":" "},{"$f":"Sayfa2!AD44","v":" "},{"$f":"Sayfa2!AE44","v":" "},null,{"$f":"eokul!$E41","v":0}]
[]
[]
[]
[]
[]
[]
[]
[]
[null,null,null,{"$f":"ANASAYFA!D7","v":"SEFA AVCILAR"},null,null,null,null,null,null,null,null,null,null,null,null,{"$f":"ANASAYFA!D9","v":"ÜMİT YEGEN"}]
[null,null,null,{"$f":"ANASAYFA!D8","v":"TÜRKÇE ÖĞRETMENİ"},null,null,null,null,null,null,null,null,null,null,null,null,{"$f":"ANASAYFA!D10","v":"OKUL MÜDÜRÜ"}]

{"sheet":"dersiçiperformans (2)","index":7,"n_rows":60,"n_cols":26,"rows_kept":60,"cut":false,"hidden":false,"merged":[[4,1,4,25],[6,4,6,8],[6,9,6,13],[6,14,6,18],[6,19,6,20],[6,21,6,23],[7,1,8,1],[7,4,9,4],[7,5,9,5],[7,6,9,6],[7,7,9,7],[7,24,9,24],[7,25,9,25],[58,3,58,4],[58,16,58,20],[7,15,9,15],[7,16,9,16],[7,17,9,17],[7,18,9,18],[7,19,9,19],[7,20,9,20],[7,9,9,9],[7,10,9,10],[7,11,9,11],[7,12,9,12],[7,13,9,13],[7,14,9,14],[59,3,59,4],[59,16,59,20],[7,21,9,21],[7,22,9,22],[7,23,9,23],[7,8,9,8]]}
[]
[]
[]
[]
[null,{"$f":"CONCATENATE(ANASAYFA!D5,\"  \",ANASAYFA!D11,\"  \",\"SINIFI\",\"  \",ANASAYFA!D6,\"  \",\"DERSİ DERS ETKİNLİKLERİNE KATILIM 2. NOTU DEĞERLENDİRME ÖLÇEĞİ\")","v":"Ş.P.E.KADİR ÇAVUŞOĞLU ORTAOKULU    SINIFI  TÜRKÇE  DERSİ DERS ETKİNLİKLERİNE KATILIM 2. NOTU DEĞERLENDİRME ÖLÇEĞİ"}]
[]
[null,null,null,null,"I. Derse Hazırlık",null,null,null,null,"II. Etkinliklere Katılım",null,null,null,null,"III. İnceleme – Araştırma – Gözlem",null,null,null,null,"III.Sunum",null,"V. Bilim Uygulamaları"]
[null,"DEĞERLENDİRME ÖLÇEĞİ"," 2: Kabul Edilebilir","5:Çok iyi                               ","1.Hangi kaynaklara başvurup hazırlanacağı hakkında bilgi ister","2. Bilgi kaynaklarını kendisi bulur.","3. Bilgiyi nereden edineceğini bildiğini söyler.","4.Derse değişik yardımcı kaynaklarla gelir.","5.Derse hazırlıklı gelir.","1.Kendiliğinden söz alarak görüşünü söyler.","2.Kendisine görüşü sorulduğunda konuşur.","3.Belirttiği görüşler ve verdiği örnekler özgündür","4.Yeni ve özgün sorular sorar.","5.Dersi iyi dinlediği izlenimi veren sorular sorar","1.Bilgi toplamak için çeşitli kaynaklara başvurur","2.Kendisine verilen kaynaklarla yetinmeyip başka kaynaklar araştırır.","3.İnceleme ve araştırma ödevlerini özenerek yapar.","4.Gözlemleri sonucunda mantıksal çıkarımlarda bulunur","5.Araştırma ve incelemeleri sonucunda genellemeler yapar","1.Verilenlerden grafik ve çizelgeler oluşturur","2.Yönteme uygun deney yapar","1. Derslere zamanında girer","2. Dersin akışını bozmaz","3. Ödevlerini zamanında hazırlayarak  sunar.",null,"PERFORMANS GÖREV PUANI"]
[null,null,"1: Zayıf           ","     3:Orta         4:İyi "]
[null,"SIRA ","ÖĞ NO","AD SOYAD "]
[null,1,{"$f":"eokul!$A2","v":0},{"$f":"eokul!B2","v":0},{"$f":"Sayfa5!H5","v":" "},{"$f":"Sayfa5!I5","v":" "},{"$f":"Sayfa5!J5","v":" "},{"$f":"Sayfa5!K5","v":" "},{"$f":"Sayfa5!L5","v":" "},{"$f":"Sayfa5!N5","v":" "},{"$f":"Sayfa5!O5","v":" "},{"$f":"Sayfa5!P5","v":" "},{"$f":"Sayfa5!Q5","v":" "},{"$f":"Sayfa5!R5","v":" "},{"$f":"Sayfa5!T5","v":" "},{"$f":"Sayfa5!U5","v":" "},{"$f":"Sayfa5!V5","v":" "},{"$f":"Sayfa5!W5","v":" "},{"$f":"Sayfa5!X5","v":" "},{"$f":"Sayfa5!Z5","v":" "},{"$f":"Sayfa5!AA5","v":" "},{"$f":"Sayfa5!AC5","v":" "},{"$f":"Sayfa5!AD5","v":" "},{"$f":"Sayfa5!AE5","v":" "},null,{"$f":"eokul!$F2","v":0}]
[null,2,{"$f":"eokul!$A3","v":0},{"$f":"eokul!B3","v":0},{"$f":"Sayfa5!H6","v":" "},{"$f":"Sayfa5!I6","v":" "},{"$f":"Sayfa5!J6","v":" "},{"$f":"Sayfa5!K6","v":" "},{"$f":"Sayfa5!L6","v":" "},{"$f":"Sayfa5!N6","v":" "},{"$f":"Sayfa5!O6","v":" "},{"$f":"Sayfa5!P6","v":" "},{"$f":"Sayfa5!Q6","v":" "},{"$f":"Sayfa5!R6","v":" "},{"$f":"Sayfa5!T6","v":" "},{"$f":"Sayfa5!U6","v":" "},{"$f":"Sayfa5!V6","v":" "},{"$f":"Sayfa5!W6","v":" "},{"$f":"Sayfa5!X6","v":" "},{"$f":"Sayfa5!Z6","v":" "},{"$f":"Sayfa5!AA6","v":" "},{"$f":"Sayfa5!AC6","v":" "},{"$f":"Sayfa5!AD6","v":" "},{"$f":"Sayfa5!AE6","v":" "},null,{"$f":"eokul!$F3","v":0}]
[null,3,{"$f":"eokul!$A4","v":0},{"$f":"eokul!B4","v":0},{"$f":"Sayfa5!H7","v":" "},{"$f":"Sayfa5!I7","v":" "},{"$f":"Sayfa5!J7","v":" "},{"$f":"Sayfa5!K7","v":" "},{"$f":"Sayfa5!L7","v":" "},{"$f":"Sayfa5!N7","v":" "},{"$f":"Sayfa5!O7","v":" "},{"$f":"Sayfa5!P7","v":" "},{"$f":"Sayfa5!Q7","v":" "},{"$f":"Sayfa5!R7","v":" "},{"$f":"Sayfa5!T7","v":" "},{"$f":"Sayfa5!U7","v":" "},{"$f":"Sayfa5!V7","v":" "},{"$f":"Sayfa5!W7","v":" "},{"$f":"Sayfa5!X7","v":" "},{"$f":"Sayfa5!Z7","v":" "},{"$f":"Sayfa5!AA7","v":" "},{"$f":"Sayfa5!AC7","v":" "},{"$f":"Sayfa5!AD7","v":" "},{"$f":"Sayfa5!AE7","v":" "},null,{"$f":"eokul!$F4","v":0}]
[null,4,{"$f":"eokul!$A5","v":0},{"$f":"eokul!B5","v":0},{"$f":"Sayfa5!H8","v":" "},{"$f":"Sayfa5!I8","v":" "},{"$f":"Sayfa5!J8","v":" "},{"$f":"Sayfa5!K8","v":" "},{"$f":"Sayfa5!L8","v":" "},{"$f":"Sayfa5!N8","v":" "},{"$f":"Sayfa5!O8","v":" "},{"$f":"Sayfa5!P8","v":" "},{"$f":"Sayfa5!Q8","v":" "},{"$f":"Sayfa5!R8","v":" "},{"$f":"Sayfa5!T8","v":" "},{"$f":"Sayfa5!U8","v":" "},{"$f":"Sayfa5!V8","v":" "},{"$f":"Sayfa5!W8","v":" "},{"$f":"Sayfa5!X8","v":" "},{"$f":"Sayfa5!Z8","v":" "},{"$f":"Sayfa5!AA8","v":" "},{"$f":"Sayfa5!AC8","v":" "},{"$f":"Sayfa5!AD8","v":" "},{"$f":"Sayfa5!AE8","v":" "},null,{"$f":"eokul!$F5","v":0}]
[null,5,{"$f":"eokul!$A6","v":0},{"$f":"eokul!B6","v":0},{"$f":"Sayfa5!H9","v":" "},{"$f":"Sayfa5!I9","v":" "},{"$f":"Sayfa5!J9","v":" "},{"$f":"Sayfa5!K9","v":" "},{"$f":"Sayfa5!L9","v":" "},{"$f":"Sayfa5!N9","v":" "},{"$f":"Sayfa5!O9","v":" "},{"$f":"Sayfa5!P9","v":" "},{"$f":"Sayfa5!Q9","v":" "},{"$f":"Sayfa5!R9","v":" "},{"$f":"Sayfa5!T9","v":" "},{"$f":"Sayfa5!U9","v":" "},{"$f":"Sayfa5!V9","v":" "},{"$f":"Sayfa5!W9","v":" "},{"$f":"Sayfa5!X9","v":" "},{"$f":"Sayfa5!Z9","v":" "},{"$f":"Sayfa5!AA9","v":" "},{"$f":"Sayfa5!AC9","v":" "},{"$f":"Sayfa5!AD9","v":" "},{"$f":"Sayfa5!AE9","v":" "},null,{"$f":"eokul!$F6","v":0}]
[null,6,{"$f":"eokul!$A7","v":0},{"$f":"eokul!B7","v":0},{"$f":"Sayfa5!H10","v":" "},{"$f":"Sayfa5!I10","v":" "},{"$f":"Sayfa5!J10","v":" "},{"$f":"Sayfa5!K10","v":" "},{"$f":"Sayfa5!L10","v":" "},{"$f":"Sayfa5!N10","v":" "},{"$f":"Sayfa5!O10","v":" "},{"$f":"Sayfa5!P10","v":" "},{"$f":"Sayfa5!Q10","v":" "},{"$f":"Sayfa5!R10","v":" "},{"$f":"Sayfa5!T10","v":" "},{"$f":"Sayfa5!U10","v":" "},{"$f":"Sayfa5!V10","v":" "},{"$f":"Sayfa5!W10","v":" "},{"$f":"Sayfa5!X10","v":" "},{"$f":"Sayfa5!Z10","v":" "},{"$f":"Sayfa5!AA10","v":" "},{"$f":"Sayfa5!AC10","v":" "},{"$f":"Sayfa5!AD10","v":" "},{"$f":"Sayfa5!AE10","v":" "},null,{"$f":"eokul!$F7","v":0}]
[null,7,{"$f":"eokul!$A8","v":0},{"$f":"eokul!B8","v":0},{"$f":"Sayfa5!H11","v":" "},{"$f":"Sayfa5!I11","v":" "},{"$f":"Sayfa5!J11","v":" "},{"$f":"Sayfa5!K11","v":" "},{"$f":"Sayfa5!L11","v":" "},{"$f":"Sayfa5!N11","v":" "},{"$f":"Sayfa5!O11","v":" "},{"$f":"Sayfa5!P11","v":" "},{"$f":"Sayfa5!Q11","v":" "},{"$f":"Sayfa5!R11","v":" "},{"$f":"Sayfa5!T11","v":" "},{"$f":"Sayfa5!U11","v":" "},{"$f":"Sayfa5!V11","v":" "},{"$f":"Sayfa5!W11","v":" "},{"$f":"Sayfa5!X11","v":" "},{"$f":"Sayfa5!Z11","v":" "},{"$f":"Sayfa5!AA11","v":" "},{"$f":"Sayfa5!AC11","v":" "},{"$f":"Sayfa5!AD11","v":" "},{"$f":"Sayfa5!AE11","v":" "},null,{"$f":"eokul!$F8","v":0}]
[null,8,{"$f":"eokul!$A9","v":0},{"$f":"eokul!B9","v":0},{"$f":"Sayfa5!H12","v":" "},{"$f":"Sayfa5!I12","v":" "},{"$f":"Sayfa5!J12","v":" "},{"$f":"Sayfa5!K12","v":" "},{"$f":"Sayfa5!L12","v":" "},{"$f":"Sayfa5!N12","v":" "},{"$f":"Sayfa5!O12","v":" "},{"$f":"Sayfa5!P12","v":" "},{"$f":"Sayfa5!Q12","v":" "},{"$f":"Sayfa5!R12","v":" "},{"$f":"Sayfa5!T12","v":" "},{"$f":"Sayfa5!U12","v":" "},{"$f":"Sayfa5!V12","v":" "},{"$f":"Sayfa5!W12","v":" "},{"$f":"Sayfa5!X12","v":" "},{"$f":"Sayfa5!Z12","v":" "},{"$f":"Sayfa5!AA12","v":" "},{"$f":"Sayfa5!AC12","v":" "},{"$f":"Sayfa5!AD12","v":" "},{"$f":"Sayfa5!AE12","v":" "},null,{"$f":"eokul!$F9","v":0}]
[null,9,{"$f":"eokul!$A10","v":0},{"$f":"eokul!B10","v":0},{"$f":"Sayfa5!H13","v":" "},{"$f":"Sayfa5!I13","v":" "},{"$f":"Sayfa5!J13","v":" "},{"$f":"Sayfa5!K13","v":" "},{"$f":"Sayfa5!L13","v":" "},{"$f":"Sayfa5!N13","v":" "},{"$f":"Sayfa5!O13","v":" "},{"$f":"Sayfa5!P13","v":" "},{"$f":"Sayfa5!Q13","v":" "},{"$f":"Sayfa5!R13","v":" "},{"$f":"Sayfa5!T13","v":" "},{"$f":"Sayfa5!U13","v":" "},{"$f":"Sayfa5!V13","v":" "},{"$f":"Sayfa5!W13","v":" "},{"$f":"Sayfa5!X13","v":" "},{"$f":"Sayfa5!Z13","v":" "},{"$f":"Sayfa5!AA13","v":" "},{"$f":"Sayfa5!AC13","v":" "},{"$f":"Sayfa5!AD13","v":" "},{"$f":"Sayfa5!AE13","v":" "},null,{"$f":"eokul!$F10","v":0}]
[null,10,{"$f":"eokul!$A11","v":0},{"$f":"eokul!B11","v":0},{"$f":"Sayfa5!H14","v":" "},{"$f":"Sayfa5!I14","v":" "},{"$f":"Sayfa5!J14","v":" "},{"$f":"Sayfa5!K14","v":" "},{"$f":"Sayfa5!L14","v":" "},{"$f":"Sayfa5!N14","v":" "},{"$f":"Sayfa5!O14","v":" "},{"$f":"Sayfa5!P14","v":" "},{"$f":"Sayfa5!Q14","v":" "},{"$f":"Sayfa5!R14","v":" "},{"$f":"Sayfa5!T14","v":" "},{"$f":"Sayfa5!U14","v":" "},{"$f":"Sayfa5!V14","v":" "},{"$f":"Sayfa5!W14","v":" "},{"$f":"Sayfa5!X14","v":" "},{"$f":"Sayfa5!Z14","v":" "},{"$f":"Sayfa5!AA14","v":" "},{"$f":"Sayfa5!AC14","v":" "},{"$f":"Sayfa5!AD14","v":" "},{"$f":"Sayfa5!AE14","v":" "},null,{"$f":"eokul!$F11","v":0}]
[null,11,{"$f":"eokul!$A12","v":0},{"$f":"eokul!B12","v":0},{"$f":"Sayfa5!H15","v":" "},{"$f":"Sayfa5!I15","v":" "},{"$f":"Sayfa5!J15","v":" "},{"$f":"Sayfa5!K15","v":" "},{"$f":"Sayfa5!L15","v":" "},{"$f":"Sayfa5!N15","v":" "},{"$f":"Sayfa5!O15","v":" "},{"$f":"Sayfa5!P15","v":" "},{"$f":"Sayfa5!Q15","v":" "},{"$f":"Sayfa5!R15","v":" "},{"$f":"Sayfa5!T15","v":" "},{"$f":"Sayfa5!U15","v":" "},{"$f":"Sayfa5!V15","v":" "},{"$f":"Sayfa5!W15","v":" "},{"$f":"Sayfa5!X15","v":" "},{"$f":"Sayfa5!Z15","v":" "},{"$f":"Sayfa5!AA15","v":" "},{"$f":"Sayfa5!AC15","v":" "},{"$f":"Sayfa5!AD15","v":" "},{"$f":"Sayfa5!AE15","v":" "},null,{"$f":"eokul!$F12","v":0}]
[null,12,{"$f":"eokul!$A13","v":0},{"$f":"eokul!B13","v":0},{"$f":"Sayfa5!H16","v":" "},{"$f":"Sayfa5!I16","v":" "},{"$f":"Sayfa5!J16","v":" "},{"$f":"Sayfa5!K16","v":" "},{"$f":"Sayfa5!L16","v":" "},{"$f":"Sayfa5!N16","v":" "},{"$f":"Sayfa5!O16","v":" "},{"$f":"Sayfa5!P16","v":" "},{"$f":"Sayfa5!Q16","v":" "},{"$f":"Sayfa5!R16","v":" "},{"$f":"Sayfa5!T16","v":" "},{"$f":"Sayfa5!U16","v":" "},{"$f":"Sayfa5!V16","v":" "},{"$f":"Sayfa5!W16","v":" "},{"$f":"Sayfa5!X16","v":" "},{"$f":"Sayfa5!Z16","v":" "},{"$f":"Sayfa5!AA16","v":" "},{"$f":"Sayfa5!AC16","v":" "},{"$f":"Sayfa5!AD16","v":" "},{"$f":"Sayfa5!AE16","v":" "},null,{"$f":"eokul!$F13","v":0}]
[null,13,{"$f":"eokul!$A14","v":0},{"$f":"eokul!B14","v":0},{"$f":"Sayfa5!H17","v":" "},{"$f":"Sayfa5!I17","v":" "},{"$f":"Sayfa5!J17","v":" "},{"$f":"Sayfa5!K17","v":" "},{"$f":"Sayfa5!L17","v":" "},{"$f":"Sayfa5!N17","v":" "},{"$f":"Sayfa5!O17","v":" "},{"$f":"Sayfa5!P17","v":" "},{"$f":"Sayfa5!Q17","v":" "},{"$f":"Sayfa5!R17","v":" "},{"$f":"Sayfa5!T17","v":" "},{"$f":"Sayfa5!U17","v":" "},{"$f":"Sayfa5!V17","v":" "},{"$f":"Sayfa5!W17","v":" "},{"$f":"Sayfa5!X17","v":" "},{"$f":"Sayfa5!Z17","v":" "},{"$f":"Sayfa5!AA17","v":" "},{"$f":"Sayfa5!AC17","v":" "},{"$f":"Sayfa5!AD17","v":" "},{"$f":"Sayfa5!AE17","v":" "},null,{"$f":"eokul!$F14","v":0}]
[null,14,{"$f":"eokul!$A15","v":0},{"$f":"eokul!B15","v":0},{"$f":"Sayfa5!H18","v":" "},{"$f":"Sayfa5!I18","v":" "},{"$f":"Sayfa5!J18","v":" "},{"$f":"Sayfa5!K18","v":" "},{"$f":"Sayfa5!L18","v":" "},{"$f":"Sayfa5!N18","v":" "},{"$f":"Sayfa5!O18","v":" "},{"$f":"Sayfa5!P18","v":" "},{"$f":"Sayfa5!Q18","v":" "},{"$f":"Sayfa5!R18","v":" "},{"$f":"Sayfa5!T18","v":" "},{"$f":"Sayfa5!U18","v":" "},{"$f":"Sayfa5!V18","v":" "},{"$f":"Sayfa5!W18","v":" "},{"$f":"Sayfa5!X18","v":" "},{"$f":"Sayfa5!Z18","v":" "},{"$f":"Sayfa5!AA18","v":" "},{"$f":"Sayfa5!AC18","v":" "},{"$f":"Sayfa5!AD18","v":" "},{"$f":"Sayfa5!AE18","v":" "},null,{"$f":"eokul!$F15","v":0}]
[null,15,{"$f":"eokul!$A16","v":0},{"$f":"eokul!B16","v":0},{"$f":"Sayfa5!H19","v":" "},{"$f":"Sayfa5!I19","v":" "},{"$f":"Sayfa5!J19","v":" "},{"$f":"Sayfa5!K19","v":" "},{"$f":"Sayfa5!L19","v":" "},{"$f":"Sayfa5!N19","v":" "},{"$f":"Sayfa5!O19","v":" "},{"$f":"Sayfa5!P19","v":" "},{"$f":"Sayfa5!Q19","v":" "},{"$f":"Sayfa5!R19","v":" "},{"$f":"Sayfa5!T19","v":" "},{"$f":"Sayfa5!U19","v":" "},{"$f":"Sayfa5!V19","v":" "},{"$f":"Sayfa5!W19","v":" "},{"$f":"Sayfa5!X19","v":" "},{"$f":"Sayfa5!Z19","v":" "},{"$f":"Sayfa5!AA19","v":" "},{"$f":"Sayfa5!AC19","v":" "},{"$f":"Sayfa5!AD19","v":" "},{"$f":"Sayfa5!AE19","v":" "},null,{"$f":"eokul!$F16","v":0}]
[null,16,{"$f":"eokul!$A17","v":0},{"$f":"eokul!B17","v":0},{"$f":"Sayfa5!H20","v":" "},{"$f":"Sayfa5!I20","v":" "},{"$f":"Sayfa5!J20","v":" "},{"$f":"Sayfa5!K20","v":" "},{"$f":"Sayfa5!L20","v":" "},{"$f":"Sayfa5!N20","v":" "},{"$f":"Sayfa5!O20","v":" "},{"$f":"Sayfa5!P20","v":" "},{"$f":"Sayfa5!Q20","v":" "},{"$f":"Sayfa5!R20","v":" "},{"$f":"Sayfa5!T20","v":" "},{"$f":"Sayfa5!U20","v":" "},{"$f":"Sayfa5!V20","v":" "},{"$f":"Sayfa5!W20","v":" "},{"$f":"Sayfa5!X20","v":" "},{"$f":"Sayfa5!Z20","v":" "},{"$f":"Sayfa5!AA20","v":" "},{"$f":"Sayfa5!AC20","v":" "},{"$f":"Sayfa5!AD20","v":" "},{"$f":"Sayfa5!AE20","v":" "},null,{"$f":"eokul!$F17","v":0}]
[null,17,{"$f":"eokul!$A18","v":0},{"$f":"eokul!B18","v":0},{"$f":"Sayfa5!H21","v":" "},{"$f":"Sayfa5!I21","v":" "},{"$f":"Sayfa5!J21","v":" "},{"$f":"Sayfa5!K21","v":" "},{"$f":"Sayfa5!L21","v":" "},{"$f":"Sayfa5!N21","v":" "},{"$f":"Sayfa5!O21","v":" "},{"$f":"Sayfa5!P21","v":" "},{"$f":"Sayfa5!Q21","v":" "},{"$f":"Sayfa5!R21","v":" "},{"$f":"Sayfa5!T21","v":" "},{"$f":"Sayfa5!U21","v":" "},{"$f":"Sayfa5!V21","v":" "},{"$f":"Sayfa5!W21","v":" "},{"$f":"Sayfa5!X21","v":" "},{"$f":"Sayfa5!Z21","v":" "},{"$f":"Sayfa5!AA21","v":" "},{"$f":"Sayfa5!AC21","v":" "},{"$f":"Sayfa5!AD21","v":" "},{"$f":"Sayfa5!AE21","v":" "},null,{"$f":"eokul!$F18","v":0}]
[null,18,{"$f":"eokul!$A19","v":0},{"$f":"eokul!B19","v":0},{"$f":"Sayfa5!H22","v":" "},{"$f":"Sayfa5!I22","v":" "},{"$f":"Sayfa5!J22","v":" "},{"$f":"Sayfa5!K22","v":" "},{"$f":"Sayfa5!L22","v":" "},{"$f":"Sayfa5!N22","v":" "},{"$f":"Sayfa5!O22","v":" "},{"$f":"Sayfa5!P22","v":" "},{"$f":"Sayfa5!Q22","v":" "},{"$f":"Sayfa5!R22","v":" "},{"$f":"Sayfa5!T22","v":" "},{"$f":"Sayfa5!U22","v":" "},{"$f":"Sayfa5!V22","v":" "},{"$f":"Sayfa5!W22","v":" "},{"$f":"Sayfa5!X22","v":" "},{"$f":"Sayfa5!Z22","v":" "},{"$f":"Sayfa5!AA22","v":" "},{"$f":"Sayfa5!AC22","v":" "},{"$f":"Sayfa5!AD22","v":" "},{"$f":"Sayfa5!AE22","v":" "},null,{"$f":"eokul!$F19","v":0}]
[null,19,{"$f":"eokul!$A20","v":0},{"$f":"eokul!B20","v":0},{"$f":"Sayfa5!H23","v":" "},{"$f":"Sayfa5!I23","v":" "},{"$f":"Sayfa5!J23","v":" "},{"$f":"Sayfa5!K23","v":" "},{"$f":"Sayfa5!L23","v":" "},{"$f":"Sayfa5!N23","v":" "},{"$f":"Sayfa5!O23","v":" "},{"$f":"Sayfa5!P23","v":" "},{"$f":"Sayfa5!Q23","v":" "},{"$f":"Sayfa5!R23","v":" "},{"$f":"Sayfa5!T23","v":" "},{"$f":"Sayfa5!U23","v":" "},{"$f":"Sayfa5!V23","v":" "},{"$f":"Sayfa5!W23","v":" "},{"$f":"Sayfa5!X23","v":" "},{"$f":"Sayfa5!Z23","v":" "},{"$f":"Sayfa5!AA23","v":" "},{"$f":"Sayfa5!AC23","v":" "},{"$f":"Sayfa5!AD23","v":" "},{"$f":"Sayfa5!AE23","v":" "},null,{"$f":"eokul!$F20","v":0}]
[null,20,{"$f":"eokul!$A21","v":0},{"$f":"eokul!B21","v":0},{"$f":"Sayfa5!H24","v":" "},{"$f":"Sayfa5!I24","v":" "},{"$f":"Sayfa5!J24","v":" "},{"$f":"Sayfa5!K24","v":" "},{"$f":"Sayfa5!L24","v":" "},{"$f":"Sayfa5!N24","v":" "},{"$f":"Sayfa5!O24","v":" "},{"$f":"Sayfa5!P24","v":" "},{"$f":"Sayfa5!Q24","v":" "},{"$f":"Sayfa5!R24","v":" "},{"$f":"Sayfa5!T24","v":" "},{"$f":"Sayfa5!U24","v":" "},{"$f":"Sayfa5!V24","v":" "},{"$f":"Sayfa5!W24","v":" "},{"$f":"Sayfa5!X24","v":" "},{"$f":"Sayfa5!Z24","v":" "},{"$f":"Sayfa5!AA24","v":" "},{"$f":"Sayfa5!AC24","v":" "},{"$f":"Sayfa5!AD24","v":" "},{"$f":"Sayfa5!AE24","v":" "},null,{"$f":"eokul!$F21","v":0}]
[null,21,{"$f":"eokul!$A22","v":0},{"$f":"eokul!B22","v":0},{"$f":"Sayfa5!H25","v":" "},{"$f":"Sayfa5!I25","v":" "},{"$f":"Sayfa5!J25","v":" "},{"$f":"Sayfa5!K25","v":" "},{"$f":"Sayfa5!L25","v":" "},{"$f":"Sayfa5!N25","v":" "},{"$f":"Sayfa5!O25","v":" "},{"$f":"Sayfa5!P25","v":" "},{"$f":"Sayfa5!Q25","v":" "},{"$f":"Sayfa5!R25","v":" "},{"$f":"Sayfa5!T25","v":" "},{"$f":"Sayfa5!U25","v":" "},{"$f":"Sayfa5!V25","v":" "},{"$f":"Sayfa5!W25","v":" "},{"$f":"Sayfa5!X25","v":" "},{"$f":"Sayfa5!Z25","v":" "},{"$f":"Sayfa5!AA25","v":" "},{"$f":"Sayfa5!AC25","v":" "},{"$f":"Sayfa5!AD25","v":" "},{"$f":"Sayfa5!AE25","v":" "},null,{"$f":"eokul!$F22","v":0}]
[null,22,{"$f":"eokul!$A23","v":0},{"$f":"eokul!B23","v":0},{"$f":"Sayfa5!H26","v":" "},{"$f":"Sayfa5!I26","v":" "},{"$f":"Sayfa5!J26","v":" "},{"$f":"Sayfa5!K26","v":" "},{"$f":"Sayfa5!L26","v":" "},{"$f":"Sayfa5!N26","v":" "},{"$f":"Sayfa5!O26","v":" "},{"$f":"Sayfa5!P26","v":" "},{"$f":"Sayfa5!Q26","v":" "},{"$f":"Sayfa5!R26","v":" "},{"$f":"Sayfa5!T26","v":" "},{"$f":"Sayfa5!U26","v":" "},{"$f":"Sayfa5!V26","v":" "},{"$f":"Sayfa5!W26","v":" "},{"$f":"Sayfa5!X26","v":" "},{"$f":"Sayfa5!Z26","v":" "},{"$f":"Sayfa5!AA26","v":" "},{"$f":"Sayfa5!AC26","v":" "},{"$f":"Sayfa5!AD26","v":" "},{"$f":"Sayfa5!AE26","v":" "},null,{"$f":"eokul!$F23","v":0}]
[null,23,{"$f":"eokul!$A24","v":0},{"$f":"eokul!B24","v":0},{"$f":"Sayfa5!H27","v":" "},{"$f":"Sayfa5!I27","v":" "},{"$f":"Sayfa5!J27","v":" "},{"$f":"Sayfa5!K27","v":" "},{"$f":"Sayfa5!L27","v":" "},{"$f":"Sayfa5!N27","v":" "},{"$f":"Sayfa5!O27","v":" "},{"$f":"Sayfa5!P27","v":" "},{"$f":"Sayfa5!Q27","v":" "},{"$f":"Sayfa5!R27","v":" "},{"$f":"Sayfa5!T27","v":" "},{"$f":"Sayfa5!U27","v":" "},{"$f":"Sayfa5!V27","v":" "},{"$f":"Sayfa5!W27","v":" "},{"$f":"Sayfa5!X27","v":" "},{"$f":"Sayfa5!Z27","v":" "},{"$f":"Sayfa5!AA27","v":" "},{"$f":"Sayfa5!AC27","v":" "},{"$f":"Sayfa5!AD27","v":" "},{"$f":"Sayfa5!AE27","v":" "},null,{"$f":"eokul!$F24","v":0}]
[null,24,{"$f":"eokul!$A25","v":0},{"$f":"eokul!B25","v":0},{"$f":"Sayfa5!H28","v":" "},{"$f":"Sayfa5!I28","v":" "},{"$f":"Sayfa5!J28","v":" "},{"$f":"Sayfa5!K28","v":" "},{"$f":"Sayfa5!L28","v":" "},{"$f":"Sayfa5!N28","v":" "},{"$f":"Sayfa5!O28","v":" "},{"$f":"Sayfa5!P28","v":" "},{"$f":"Sayfa5!Q28","v":" "},{"$f":"Sayfa5!R28","v":" "},{"$f":"Sayfa5!T28","v":" "},{"$f":"Sayfa5!U28","v":" "},{"$f":"Sayfa5!V28","v":" "},{"$f":"Sayfa5!W28","v":" "},{"$f":"Sayfa5!X28","v":" "},{"$f":"Sayfa5!Z28","v":" "},{"$f":"Sayfa5!AA28","v":" "},{"$f":"Sayfa5!AC28","v":" "},{"$f":"Sayfa5!AD28","v":" "},{"$f":"Sayfa5!AE28","v":" "},null,{"$f":"eokul!$F25","v":0}]
[null,25,{"$f":"eokul!$A26","v":0},{"$f":"eokul!B26","v":0},{"$f":"Sayfa5!H29","v":" "},{"$f":"Sayfa5!I29","v":" "},{"$f":"Sayfa5!J29","v":" "},{"$f":"Sayfa5!K29","v":" "},{"$f":"Sayfa5!L29","v":" "},{"$f":"Sayfa5!N29","v":" "},{"$f":"Sayfa5!O29","v":" "},{"$f":"Sayfa5!P29","v":" "},{"$f":"Sayfa5!Q29","v":" "},{"$f":"Sayfa5!R29","v":" "},{"$f":"Sayfa5!T29","v":" "},{"$f":"Sayfa5!U29","v":" "},{"$f":"Sayfa5!V29","v":" "},{"$f":"Sayfa5!W29","v":" "},{"$f":"Sayfa5!X29","v":" "},{"$f":"Sayfa5!Z29","v":" "},{"$f":"Sayfa5!AA29","v":" "},{"$f":"Sayfa5!AC29","v":" "},{"$f":"Sayfa5!AD29","v":" "},{"$f":"Sayfa5!AE29","v":" "},null,{"$f":"eokul!$F26","v":0}]
[null,26,{"$f":"eokul!$A27","v":0},{"$f":"eokul!B27","v":0},{"$f":"Sayfa5!H30","v":" "},{"$f":"Sayfa5!I30","v":" "},{"$f":"Sayfa5!J30","v":" "},{"$f":"Sayfa5!K30","v":" "},{"$f":"Sayfa5!L30","v":" "},{"$f":"Sayfa5!N30","v":" "},{"$f":"Sayfa5!O30","v":" "},{"$f":"Sayfa5!P30","v":" "},{"$f":"Sayfa5!Q30","v":" "},{"$f":"Sayfa5!R30","v":" "},{"$f":"Sayfa5!T30","v":" "},{"$f":"Sayfa5!U30","v":" "},{"$f":"Sayfa5!V30","v":" "},{"$f":"Sayfa5!W30","v":" "},{"$f":"Sayfa5!X30","v":" "},{"$f":"Sayfa5!Z30","v":" "},{"$f":"Sayfa5!AA30","v":" "},{"$f":"Sayfa5!AC30","v":" "},{"$f":"Sayfa5!AD30","v":" "},{"$f":"Sayfa5!AE30","v":" "},null,{"$f":"eokul!$F27","v":0}]
[null,27,{"$f":"eokul!$A28","v":0},{"$f":"eokul!B28","v":0},{"$f":"Sayfa5!H31","v":" "},{"$f":"Sayfa5!I31","v":" "},{"$f":"Sayfa5!J31","v":" "},{"$f":"Sayfa5!K31","v":" "},{"$f":"Sayfa5!L31","v":" "},{"$f":"Sayfa5!N31","v":" "},{"$f":"Sayfa5!O31","v":" "},{"$f":"Sayfa5!P31","v":" "},{"$f":"Sayfa5!Q31","v":" "},{"$f":"Sayfa5!R31","v":" "},{"$f":"Sayfa5!T31","v":" "},{"$f":"Sayfa5!U31","v":" "},{"$f":"Sayfa5!V31","v":" "},{"$f":"Sayfa5!W31","v":" "},{"$f":"Sayfa5!X31","v":" "},{"$f":"Sayfa5!Z31","v":" "},{"$f":"Sayfa5!AA31","v":" "},{"$f":"Sayfa5!AC31","v":" "},{"$f":"Sayfa5!AD31","v":" "},{"$f":"Sayfa5!AE31","v":" "},null,{"$f":"eokul!$F28","v":0}]
[null,28,{"$f":"eokul!$A29","v":0},{"$f":"eokul!B29","v":0},{"$f":"Sayfa5!H32","v":" "},{"$f":"Sayfa5!I32","v":" "},{"$f":"Sayfa5!J32","v":" "},{"$f":"Sayfa5!K32","v":" "},{"$f":"Sayfa5!L32","v":" "},{"$f":"Sayfa5!N32","v":" "},{"$f":"Sayfa5!O32","v":" "},{"$f":"Sayfa5!P32","v":" "},{"$f":"Sayfa5!Q32","v":" "},{"$f":"Sayfa5!R32","v":" "},{"$f":"Sayfa5!T32","v":" "},{"$f":"Sayfa5!U32","v":" "},{"$f":"Sayfa5!V32","v":" "},{"$f":"Sayfa5!W32","v":" "},{"$f":"Sayfa5!X32","v":" "},{"$f":"Sayfa5!Z32","v":" "},{"$f":"Sayfa5!AA32","v":" "},{"$f":"Sayfa5!AC32","v":" "},{"$f":"Sayfa5!AD32","v":" "},{"$f":"Sayfa5!AE32","v":" "},null,{"$f":"eokul!$F29","v":0}]
[null,29,{"$f":"eokul!$A30","v":0},{"$f":"eokul!B30","v":0},{"$f":"Sayfa5!H33","v":" "},{"$f":"Sayfa5!I33","v":" "},{"$f":"Sayfa5!J33","v":" "},{"$f":"Sayfa5!K33","v":" "},{"$f":"Sayfa5!L33","v":" "},{"$f":"Sayfa5!N33","v":" "},{"$f":"Sayfa5!O33","v":" "},{"$f":"Sayfa5!P33","v":" "},{"$f":"Sayfa5!Q33","v":" "},{"$f":"Sayfa5!R33","v":" "},{"$f":"Sayfa5!T33","v":" "},{"$f":"Sayfa5!U33","v":" "},{"$f":"Sayfa5!V33","v":" "},{"$f":"Sayfa5!W33","v":" "},{"$f":"Sayfa5!X33","v":" "},{"$f":"Sayfa5!Z33","v":" "},{"$f":"Sayfa5!AA33","v":" "},{"$f":"Sayfa5!AC33","v":" "},{"$f":"Sayfa5!AD33","v":" "},{"$f":"Sayfa5!AE33","v":" "},null,{"$f":"eokul!$F30","v":0}]
[null,30,{"$f":"eokul!$A31","v":0},{"$f":"eokul!B31","v":0},{"$f":"Sayfa5!H34","v":" "},{"$f":"Sayfa5!I34","v":" "},{"$f":"Sayfa5!J34","v":" "},{"$f":"Sayfa5!K34","v":" "},{"$f":"Sayfa5!L34","v":" "},{"$f":"Sayfa5!N34","v":" "},{"$f":"Sayfa5!O34","v":" "},{"$f":"Sayfa5!P34","v":" "},{"$f":"Sayfa5!Q34","v":" "},{"$f":"Sayfa5!R34","v":" "},{"$f":"Sayfa5!T34","v":" "},{"$f":"Sayfa5!U34","v":" "},{"$f":"Sayfa5!V34","v":" "},{"$f":"Sayfa5!W34","v":" "},{"$f":"Sayfa5!X34","v":" "},{"$f":"Sayfa5!Z34","v":" "},{"$f":"Sayfa5!AA34","v":" "},{"$f":"Sayfa5!AC34","v":" "},{"$f":"Sayfa5!AD34","v":" "},{"$f":"Sayfa5!AE34","v":" "},null,{"$f":"eokul!$F31","v":0}]
[null,31,{"$f":"eokul!$A32","v":0},{"$f":"eokul!B32","v":0},{"$f":"Sayfa5!H35","v":" "},{"$f":"Sayfa5!I35","v":" "},{"$f":"Sayfa5!J35","v":" "},{"$f":"Sayfa5!K35","v":" "},{"$f":"Sayfa5!L35","v":" "},{"$f":"Sayfa5!N35","v":" "},{"$f":"Sayfa5!O35","v":" "},{"$f":"Sayfa5!P35","v":" "},{"$f":"Sayfa5!Q35","v":" "},{"$f":"Sayfa5!R35","v":" "},{"$f":"Sayfa5!T35","v":" "},{"$f":"Sayfa5!U35","v":" "},{"$f":"Sayfa5!V35","v":" "},{"$f":"Sayfa5!W35","v":" "},{"$f":"Sayfa5!X35","v":" "},{"$f":"Sayfa5!Z35","v":" "},{"$f":"Sayfa5!AA35","v":" "},{"$f":"Sayfa5!AC35","v":" "},{"$f":"Sayfa5!AD35","v":" "},{"$f":"Sayfa5!AE35","v":" "},null,{"$f":"eokul!$F32","v":0}]
[null,32,{"$f":"eokul!$A33","v":0},{"$f":"eokul!B33","v":0},{"$f":"Sayfa5!H36","v":" "},{"$f":"Sayfa5!I36","v":" "},{"$f":"Sayfa5!J36","v":" "},{"$f":"Sayfa5!K36","v":" "},{"$f":"Sayfa5!L36","v":" "},{"$f":"Sayfa5!N36","v":" "},{"$f":"Sayfa5!O36","v":" "},{"$f":"Sayfa5!P36","v":" "},{"$f":"Sayfa5!Q36","v":" "},{"$f":"Sayfa5!R36","v":" "},{"$f":"Sayfa5!T36","v":" "},{"$f":"Sayfa5!U36","v":" "},{"$f":"Sayfa5!V36","v":" "},{"$f":"Sayfa5!W36","v":" "},{"$f":"Sayfa5!X36","v":" "},{"$f":"Sayfa5!Z36","v":" "},{"$f":"Sayfa5!AA36","v":" "},{"$f":"Sayfa5!AC36","v":" "},{"$f":"Sayfa5!AD36","v":" "},{"$f":"Sayfa5!AE36","v":" "},null,{"$f":"eokul!$F33","v":0}]
[null,33,{"$f":"eokul!$A34","v":0},{"$f":"eokul!B34","v":0},{"$f":"Sayfa5!H37","v":" "},{"$f":"Sayfa5!I37","v":" "},{"$f":"Sayfa5!J37","v":" "},{"$f":"Sayfa5!K37","v":" "},{"$f":"Sayfa5!L37","v":" "},{"$f":"Sayfa5!N37","v":" "},{"$f":"Sayfa5!O37","v":" "},{"$f":"Sayfa5!P37","v":" "},{"$f":"Sayfa5!Q37","v":" "},{"$f":"Sayfa5!R37","v":" "},{"$f":"Sayfa5!T37","v":" "},{"$f":"Sayfa5!U37","v":" "},{"$f":"Sayfa5!V37","v":" "},{"$f":"Sayfa5!W37","v":" "},{"$f":"Sayfa5!X37","v":" "},{"$f":"Sayfa5!Z37","v":" "},{"$f":"Sayfa5!AA37","v":" "},{"$f":"Sayfa5!AC37","v":" "},{"$f":"Sayfa5!AD37","v":" "},{"$f":"Sayfa5!AE37","v":" "},null,{"$f":"eokul!$F34","v":0}]
[null,34,{"$f":"eokul!$A35","v":0},{"$f":"eokul!B35","v":0},{"$f":"Sayfa5!H38","v":" "},{"$f":"Sayfa5!I38","v":" "},{"$f":"Sayfa5!J38","v":" "},{"$f":"Sayfa5!K38","v":" "},{"$f":"Sayfa5!L38","v":" "},{"$f":"Sayfa5!N38","v":" "},{"$f":"Sayfa5!O38","v":" "},{"$f":"Sayfa5!P38","v":" "},{"$f":"Sayfa5!Q38","v":" "},{"$f":"Sayfa5!R38","v":" "},{"$f":"Sayfa5!T38","v":" "},{"$f":"Sayfa5!U38","v":" "},{"$f":"Sayfa5!V38","v":" "},{"$f":"Sayfa5!W38","v":" "},{"$f":"Sayfa5!X38","v":" "},{"$f":"Sayfa5!Z38","v":" "},{"$f":"Sayfa5!AA38","v":" "},{"$f":"Sayfa5!AC38","v":" "},{"$f":"Sayfa5!AD38","v":" "},{"$f":"Sayfa5!AE38","v":" "},null,{"$f":"eokul!$F35","v":0}]
[null,35,{"$f":"eokul!$A36","v":0},{"$f":"eokul!B36","v":0},{"$f":"Sayfa5!H39","v":" "},{"$f":"Sayfa5!I39","v":" "},{"$f":"Sayfa5!J39","v":" "},{"$f":"Sayfa5!K39","v":" "},{"$f":"Sayfa5!L39","v":" "},{"$f":"Sayfa5!N39","v":" "},{"$f":"Sayfa5!O39","v":" "},{"$f":"Sayfa5!P39","v":" "},{"$f":"Sayfa5!Q39","v":" "},{"$f":"Sayfa5!R39","v":" "},{"$f":"Sayfa5!T39","v":" "},{"$f":"Sayfa5!U39","v":" "},{"$f":"Sayfa5!V39","v":" "},{"$f":"Sayfa5!W39","v":" "},{"$f":"Sayfa5!X39","v":" "},{"$f":"Sayfa5!Z39","v":" "},{"$f":"Sayfa5!AA39","v":" "},{"$f":"Sayfa5!AC39","v":" "},{"$f":"Sayfa5!AD39","v":" "},{"$f":"Sayfa5!AE39","v":" "},null,{"$f":"eokul!$F36","v":0}]
[null,36,{"$f":"eokul!$A37","v":0},{"$f":"eokul!B37","v":0},{"$f":"Sayfa5!H40","v":" "},{"$f":"Sayfa5!I40","v":" "},{"$f":"Sayfa5!J40","v":" "},{"$f":"Sayfa5!K40","v":" "},{"$f":"Sayfa5!L40","v":" "},{"$f":"Sayfa5!N40","v":" "},{"$f":"Sayfa5!O40","v":" "},{"$f":"Sayfa5!P40","v":" "},{"$f":"Sayfa5!Q40","v":" "},{"$f":"Sayfa5!R40","v":" "},{"$f":"Sayfa5!T40","v":" "},{"$f":"Sayfa5!U40","v":" "},{"$f":"Sayfa5!V40","v":" "},{"$f":"Sayfa5!W40","v":" "},{"$f":"Sayfa5!X40","v":" "},{"$f":"Sayfa5!Z40","v":" "},{"$f":"Sayfa5!AA40","v":" "},{"$f":"Sayfa5!AC40","v":" "},{"$f":"Sayfa5!AD40","v":" "},{"$f":"Sayfa5!AE40","v":" "},null,{"$f":"eokul!$F37","v":0}]
[null,37,{"$f":"eokul!$A38","v":0},{"$f":"eokul!B38","v":0},{"$f":"Sayfa5!H41","v":" "},{"$f":"Sayfa5!I41","v":" "},{"$f":"Sayfa5!J41","v":" "},{"$f":"Sayfa5!K41","v":" "},{"$f":"Sayfa5!L41","v":" "},{"$f":"Sayfa5!N41","v":" "},{"$f":"Sayfa5!O41","v":" "},{"$f":"Sayfa5!P41","v":" "},{"$f":"Sayfa5!Q41","v":" "},{"$f":"Sayfa5!R41","v":" "},{"$f":"Sayfa5!T41","v":" "},{"$f":"Sayfa5!U41","v":" "},{"$f":"Sayfa5!V41","v":" "},{"$f":"Sayfa5!W41","v":" "},{"$f":"Sayfa5!X41","v":" "},{"$f":"Sayfa5!Z41","v":" "},{"$f":"Sayfa5!AA41","v":" "},{"$f":"Sayfa5!AC41","v":" "},{"$f":"Sayfa5!AD41","v":" "},{"$f":"Sayfa5!AE41","v":" "},null,{"$f":"eokul!$F38","v":0}]
[null,38,{"$f":"eokul!$A39","v":0},{"$f":"eokul!B39","v":0},{"$f":"Sayfa5!H42","v":" "},{"$f":"Sayfa5!I42","v":" "},{"$f":"Sayfa5!J42","v":" "},{"$f":"Sayfa5!K42","v":" "},{"$f":"Sayfa5!L42","v":" "},{"$f":"Sayfa5!N42","v":" "},{"$f":"Sayfa5!O42","v":" "},{"$f":"Sayfa5!P42","v":" "},{"$f":"Sayfa5!Q42","v":" "},{"$f":"Sayfa5!R42","v":" "},{"$f":"Sayfa5!T42","v":" "},{"$f":"Sayfa5!U42","v":" "},{"$f":"Sayfa5!V42","v":" "},{"$f":"Sayfa5!W42","v":" "},{"$f":"Sayfa5!X42","v":" "},{"$f":"Sayfa5!Z42","v":" "},{"$f":"Sayfa5!AA42","v":" "},{"$f":"Sayfa5!AC42","v":" "},{"$f":"Sayfa5!AD42","v":" "},{"$f":"Sayfa5!AE42","v":" "},null,{"$f":"eokul!$F39","v":0}]
[null,39,{"$f":"eokul!$A40","v":0},{"$f":"eokul!B40","v":0},{"$f":"Sayfa5!H43","v":" "},{"$f":"Sayfa5!I43","v":" "},{"$f":"Sayfa5!J43","v":" "},{"$f":"Sayfa5!K43","v":" "},{"$f":"Sayfa5!L43","v":" "},{"$f":"Sayfa5!N43","v":" "},{"$f":"Sayfa5!O43","v":" "},{"$f":"Sayfa5!P43","v":" "},{"$f":"Sayfa5!Q43","v":" "},{"$f":"Sayfa5!R43","v":" "},{"$f":"Sayfa5!T43","v":" "},{"$f":"Sayfa5!U43","v":" "},{"$f":"Sayfa5!V43","v":" "},{"$f":"Sayfa5!W43","v":" "},{"$f":"Sayfa5!X43","v":" "},{"$f":"Sayfa5!Z43","v":" "},{"$f":"Sayfa5!AA43","v":" "},{"$f":"Sayfa5!AC43","v":" "},{"$f":"Sayfa5!AD43","v":" "},{"$f":"Sayfa5!AE43","v":" "},null,{"$f":"eokul!$F40","v":0}]
[null,40,{"$f":"eokul!$A41","v":0},{"$f":"eokul!B41","v":0},{"$f":"Sayfa5!H44","v":" "},{"$f":"Sayfa5!I44","v":" "},{"$f":"Sayfa5!J44","v":" "},{"$f":"Sayfa5!K44","v":" "},{"$f":"Sayfa5!L44","v":" "},{"$f":"Sayfa5!N44","v":" "},{"$f":"Sayfa5!O44","v":" "},{"$f":"Sayfa5!P44","v":" "},{"$f":"Sayfa5!Q44","v":" "},{"$f":"Sayfa5!R44","v":" "},{"$f":"Sayfa5!T44","v":" "},{"$f":"Sayfa5!U44","v":" "},{"$f":"Sayfa5!V44","v":" "},{"$f":"Sayfa5!W44","v":" "},{"$f":"Sayfa5!X44","v":" "},{"$f":"Sayfa5!Z44","v":" "},{"$f":"Sayfa5!AA44","v":" "},{"$f":"Sayfa5!AC44","v":" "},{"$f":"Sayfa5!AD44","v":" "},{"$f":"Sayfa5!AE44","v":" "},null,{"$f":"eokul!$F41","v":0}]
[]
[]
[]
[]
[]
[]
[]
[]
[null,null,null,{"$f":"ANASAYFA!D7","v":"SEFA AVCILAR"},null,null,null,null,null,null,null,null,null,null,null,null,{"$f":"ANASAYFA!D9","v":"ÜMİT YEGEN"}]
[null,null,null,{"$f":"ANASAYFA!D8","v":"TÜRKÇE ÖĞRETMENİ"},null,null,null,null,null,null,null,null,null,null,null,null,{"$f":"ANASAYFA!D10","v":"OKUL MÜDÜRÜ"}]

{"sheet":"dersiçiperformans (3)","index":8,"n_rows":60,"n_cols":26,"rows_kept":60,"cut":false,"hidden":false,"merged":[[4,1,4,25],[6,4,6,8],[6,9,6,13],[6,14,6,18],[6,19,6,20],[6,21,6,23],[7,1,8,1],[7,4,9,4],[7,5,9,5],[7,6,9,6],[7,7,9,7],[7,24,9,24],[7,25,9,25],[58,3,58,4],[58,16,58,20],[7,15,9,15],[7,16,9,16],[7,17,9,17],[7,18,9,18],[7,19,9,19],[7,20,9,20],[7,9,9,9],[7,10,9,10],[7,11,9,11],[7,12,9,12],[7,13,9,13],[7,14,9,14],[59,3,59,4],[59,16,59,20],[7,21,9,21],[7,22,9,22],[7,23,9,23],[7,8,9,8]]}
[]
[]
[]
[]
[null,{"$f":"CONCATENATE(ANASAYFA!D5,\" \",ANASAYFA!D11,\" \",\"SINIFI\",\"  \",ANASAYFA!D6,\"  \",\"DERSİ DERS ETKİNLİKLERİNE KATILIM 3. NOTU DEĞERLENDİRME ÖLÇEĞİ\")","v":"Ş.P.E.KADİR ÇAVUŞOĞLU ORTAOKULU  SINIFI  TÜRKÇE  DERSİ DERS ETKİNLİKLERİNE KATILIM 3. NOTU DEĞERLENDİRME ÖLÇEĞİ"}]
[]
[null,null,null,null,"I. Derse Hazırlık",null,null,null,null,"II. Etkinliklere Katılım",null,null,null,null,"III. İnceleme – Araştırma – Gözlem",null,null,null,null,"III.Sunum",null,"V. Bilim Uygulamaları"]
[null,"DEĞERLENDİRME ÖLÇEĞİ"," 2: Kabul Edilebilir","5:Çok iyi                               ","1.Hangi kaynaklara başvurup hazırlanacağı hakkında bilgi ister","2. Bilgi kaynaklarını kendisi bulur.","3. Bilgiyi nereden edineceğini bildiğini söyler.","4.Derse değişik yardımcı kaynaklarla gelir.","5.Derse hazırlıklı gelir.","1.Kendiliğinden söz alarak görüşünü söyler.","2.Kendisine görüşü sorulduğunda konuşur.","3.Belirttiği görüşler ve verdiği örnekler özgündür","4.Yeni ve özgün sorular sorar.","5.Dersi iyi dinlediği izlenimi veren sorular sorar","1.Bilgi toplamak için çeşitli kaynaklara başvurur","2.Kendisine verilen kaynaklarla yetinmeyip başka kaynaklar araştırır.","3.İnceleme ve araştırma ödevlerini özenerek yapar.","4.Gözlemleri sonucunda mantıksal çıkarımlarda bulunur","5.Araştırma ve incelemeleri sonucunda genellemeler yapar","1.Verilenlerden grafik ve çizelgeler oluşturur","2.Yönteme uygun deney yapar","1. Derslere zamanında girer","2. Dersin akışını bozmaz","3. Ödevlerini zamanında hazırlayarak  sunar.",null,"PERFORMANS GÖREV PUANI"]
[null,null,"1: Zayıf           ","     3:Orta         4:İyi "]
[null,"SIRA ","ÖĞ NO","AD SOYAD "]
[null,1,{"$f":"eokul!$A2","v":0},{"$f":"eokul!B2","v":0},{"$f":"Sayfa6!H5","v":" "},{"$f":"Sayfa6!I5","v":" "},{"$f":"Sayfa6!J5","v":" "},{"$f":"Sayfa6!K5","v":" "},{"$f":"Sayfa6!L5","v":" "},{"$f":"Sayfa6!N5","v":" "},{"$f":"Sayfa6!O5","v":" "},{"$f":"Sayfa6!P5","v":" "},{"$f":"Sayfa6!Q5","v":" "},{"$f":"Sayfa6!R5","v":" "},{"$f":"Sayfa6!T5","v":" "},{"$f":"Sayfa6!U5","v":" "},{"$f":"Sayfa6!V5","v":" "},{"$f":"Sayfa6!W5","v":" "},{"$f":"Sayfa6!X5","v":" "},{"$f":"Sayfa6!Z5","v":" "},{"$f":"Sayfa6!AA5","v":" "},{"$f":"Sayfa6!AC5","v":" "},{"$f":"Sayfa6!AD5","v":" "},{"$f":"Sayfa6!AE5","v":" "},null,{"$f":"eokul!$G2","v":0}]
[null,2,{"$f":"eokul!$A3","v":0},{"$f":"eokul!B3","v":0},{"$f":"Sayfa6!H6","v":" "},{"$f":"Sayfa6!I6","v":" "},{"$f":"Sayfa6!J6","v":" "},{"$f":"Sayfa6!K6","v":" "},{"$f":"Sayfa6!L6","v":" "},{"$f":"Sayfa6!N6","v":" "},{"$f":"Sayfa6!O6","v":" "},{"$f":"Sayfa6!P6","v":" "},{"$f":"Sayfa6!Q6","v":" "},{"$f":"Sayfa6!R6","v":" "},{"$f":"Sayfa6!T6","v":" "},{"$f":"Sayfa6!U6","v":" "},{"$f":"Sayfa6!V6","v":" "},{"$f":"Sayfa6!W6","v":" "},{"$f":"Sayfa6!X6","v":" "},{"$f":"Sayfa6!Z6","v":" "},{"$f":"Sayfa6!AA6","v":" "},{"$f":"Sayfa6!AC6","v":" "},{"$f":"Sayfa6!AD6","v":" "},{"$f":"Sayfa6!AE6","v":" "},null,{"$f":"eokul!$G3","v":0}]
[null,3,{"$f":"eokul!$A4","v":0},{"$f":"eokul!B4","v":0},{"$f":"Sayfa6!H7","v":" "},{"$f":"Sayfa6!I7","v":" "},{"$f":"Sayfa6!J7","v":" "},{"$f":"Sayfa6!K7","v":" "},{"$f":"Sayfa6!L7","v":" "},{"$f":"Sayfa6!N7","v":" "},{"$f":"Sayfa6!O7","v":" "},{"$f":"Sayfa6!P7","v":" "},{"$f":"Sayfa6!Q7","v":" "},{"$f":"Sayfa6!R7","v":" "},{"$f":"Sayfa6!T7","v":" "},{"$f":"Sayfa6!U7","v":" "},{"$f":"Sayfa6!V7","v":" "},{"$f":"Sayfa6!W7","v":" "},{"$f":"Sayfa6!X7","v":" "},{"$f":"Sayfa6!Z7","v":" "},{"$f":"Sayfa6!AA7","v":" "},{"$f":"Sayfa6!AC7","v":" "},{"$f":"Sayfa6!AD7","v":" "},{"$f":"Sayfa6!AE7","v":" "},null,{"$f":"eokul!$G4","v":0}]
[null,4,{"$f":"eokul!$A5","v":0},{"$f":"eokul!B5","v":0},{"$f":"Sayfa6!H8","v":" "},{"$f":"Sayfa6!I8","v":" "},{"$f":"Sayfa6!J8","v":" "},{"$f":"Sayfa6!K8","v":" "},{"$f":"Sayfa6!L8","v":" "},{"$f":"Sayfa6!N8","v":" "},{"$f":"Sayfa6!O8","v":" "},{"$f":"Sayfa6!P8","v":" "},{"$f":"Sayfa6!Q8","v":" "},{"$f":"Sayfa6!R8","v":" "},{"$f":"Sayfa6!T8","v":" "},{"$f":"Sayfa6!U8","v":" "},{"$f":"Sayfa6!V8","v":" "},{"$f":"Sayfa6!W8","v":" "},{"$f":"Sayfa6!X8","v":" "},{"$f":"Sayfa6!Z8","v":" "},{"$f":"Sayfa6!AA8","v":" "},{"$f":"Sayfa6!AC8","v":" "},{"$f":"Sayfa6!AD8","v":" "},{"$f":"Sayfa6!AE8","v":" "},null,{"$f":"eokul!$G5","v":0}]
[null,5,{"$f":"eokul!$A6","v":0},{"$f":"eokul!B6","v":0},{"$f":"Sayfa6!H9","v":" "},{"$f":"Sayfa6!I9","v":" "},{"$f":"Sayfa6!J9","v":" "},{"$f":"Sayfa6!K9","v":" "},{"$f":"Sayfa6!L9","v":" "},{"$f":"Sayfa6!N9","v":" "},{"$f":"Sayfa6!O9","v":" "},{"$f":"Sayfa6!P9","v":" "},{"$f":"Sayfa6!Q9","v":" "},{"$f":"Sayfa6!R9","v":" "},{"$f":"Sayfa6!T9","v":" "},{"$f":"Sayfa6!U9","v":" "},{"$f":"Sayfa6!V9","v":" "},{"$f":"Sayfa6!W9","v":" "},{"$f":"Sayfa6!X9","v":" "},{"$f":"Sayfa6!Z9","v":" "},{"$f":"Sayfa6!AA9","v":" "},{"$f":"Sayfa6!AC9","v":" "},{"$f":"Sayfa6!AD9","v":" "},{"$f":"Sayfa6!AE9","v":" "},null,{"$f":"eokul!$G6","v":0}]
[null,6,{"$f":"eokul!$A7","v":0},{"$f":"eokul!B7","v":0},{"$f":"Sayfa6!H10","v":" "},{"$f":"Sayfa6!I10","v":" "},{"$f":"Sayfa6!J10","v":" "},{"$f":"Sayfa6!K10","v":" "},{"$f":"Sayfa6!L10","v":" "},{"$f":"Sayfa6!N10","v":" "},{"$f":"Sayfa6!O10","v":" "},{"$f":"Sayfa6!P10","v":" "},{"$f":"Sayfa6!Q10","v":" "},{"$f":"Sayfa6!R10","v":" "},{"$f":"Sayfa6!T10","v":" "},{"$f":"Sayfa6!U10","v":" "},{"$f":"Sayfa6!V10","v":" "},{"$f":"Sayfa6!W10","v":" "},{"$f":"Sayfa6!X10","v":" "},{"$f":"Sayfa6!Z10","v":" "},{"$f":"Sayfa6!AA10","v":" "},{"$f":"Sayfa6!AC10","v":" "},{"$f":"Sayfa6!AD10","v":" "},{"$f":"Sayfa6!AE10","v":" "},null,{"$f":"eokul!$G7","v":0}]
[null,7,{"$f":"eokul!$A8","v":0},{"$f":"eokul!B8","v":0},{"$f":"Sayfa6!H11","v":" "},{"$f":"Sayfa6!I11","v":" "},{"$f":"Sayfa6!J11","v":" "},{"$f":"Sayfa6!K11","v":" "},{"$f":"Sayfa6!L11","v":" "},{"$f":"Sayfa6!N11","v":" "},{"$f":"Sayfa6!O11","v":" "},{"$f":"Sayfa6!P11","v":" "},{"$f":"Sayfa6!Q11","v":" "},{"$f":"Sayfa6!R11","v":" "},{"$f":"Sayfa6!T11","v":" "},{"$f":"Sayfa6!U11","v":" "},{"$f":"Sayfa6!V11","v":" "},{"$f":"Sayfa6!W11","v":" "},{"$f":"Sayfa6!X11","v":" "},{"$f":"Sayfa6!Z11","v":" "},{"$f":"Sayfa6!AA11","v":" "},{"$f":"Sayfa6!AC11","v":" "},{"$f":"Sayfa6!AD11","v":" "},{"$f":"Sayfa6!AE11","v":" "},null,{"$f":"eokul!$G8","v":0}]
[null,8,{"$f":"eokul!$A9","v":0},{"$f":"eokul!B9","v":0},{"$f":"Sayfa6!H12","v":" "},{"$f":"Sayfa6!I12","v":" "},{"$f":"Sayfa6!J12","v":" "},{"$f":"Sayfa6!K12","v":" "},{"$f":"Sayfa6!L12","v":" "},{"$f":"Sayfa6!N12","v":" "},{"$f":"Sayfa6!O12","v":" "},{"$f":"Sayfa6!P12","v":" "},{"$f":"Sayfa6!Q12","v":" "},{"$f":"Sayfa6!R12","v":" "},{"$f":"Sayfa6!T12","v":" "},{"$f":"Sayfa6!U12","v":" "},{"$f":"Sayfa6!V12","v":" "},{"$f":"Sayfa6!W12","v":" "},{"$f":"Sayfa6!X12","v":" "},{"$f":"Sayfa6!Z12","v":" "},{"$f":"Sayfa6!AA12","v":" "},{"$f":"Sayfa6!AC12","v":" "},{"$f":"Sayfa6!AD12","v":" "},{"$f":"Sayfa6!AE12","v":" "},null,{"$f":"eokul!$G9","v":0}]
[null,9,{"$f":"eokul!$A10","v":0},{"$f":"eokul!B10","v":0},{"$f":"Sayfa6!H13","v":" "},{"$f":"Sayfa6!I13","v":" "},{"$f":"Sayfa6!J13","v":" "},{"$f":"Sayfa6!K13","v":" "},{"$f":"Sayfa6!L13","v":" "},{"$f":"Sayfa6!N13","v":" "},{"$f":"Sayfa6!O13","v":" "},{"$f":"Sayfa6!P13","v":" "},{"$f":"Sayfa6!Q13","v":" "},{"$f":"Sayfa6!R13","v":" "},{"$f":"Sayfa6!T13","v":" "},{"$f":"Sayfa6!U13","v":" "},{"$f":"Sayfa6!V13","v":" "},{"$f":"Sayfa6!W13","v":" "},{"$f":"Sayfa6!X13","v":" "},{"$f":"Sayfa6!Z13","v":" "},{"$f":"Sayfa6!AA13","v":" "},{"$f":"Sayfa6!AC13","v":" "},{"$f":"Sayfa6!AD13","v":" "},{"$f":"Sayfa6!AE13","v":" "},null,{"$f":"eokul!$G10","v":0}]
[null,10,{"$f":"eokul!$A11","v":0},{"$f":"eokul!B11","v":0},{"$f":"Sayfa6!H14","v":" "},{"$f":"Sayfa6!I14","v":" "},{"$f":"Sayfa6!J14","v":" "},{"$f":"Sayfa6!K14","v":" "},{"$f":"Sayfa6!L14","v":" "},{"$f":"Sayfa6!N14","v":" "},{"$f":"Sayfa6!O14","v":" "},{"$f":"Sayfa6!P14","v":" "},{"$f":"Sayfa6!Q14","v":" "},{"$f":"Sayfa6!R14","v":" "},{"$f":"Sayfa6!T14","v":" "},{"$f":"Sayfa6!U14","v":" "},{"$f":"Sayfa6!V14","v":" "},{"$f":"Sayfa6!W14","v":" "},{"$f":"Sayfa6!X14","v":" "},{"$f":"Sayfa6!Z14","v":" "},{"$f":"Sayfa6!AA14","v":" "},{"$f":"Sayfa6!AC14","v":" "},{"$f":"Sayfa6!AD14","v":" "},{"$f":"Sayfa6!AE14","v":" "},null,{"$f":"eokul!$G11","v":0}]
[null,11,{"$f":"eokul!$A12","v":0},{"$f":"eokul!B12","v":0},{"$f":"Sayfa6!H15","v":" "},{"$f":"Sayfa6!I15","v":" "},{"$f":"Sayfa6!J15","v":" "},{"$f":"Sayfa6!K15","v":" "},{"$f":"Sayfa6!L15","v":" "},{"$f":"Sayfa6!N15","v":" "},{"$f":"Sayfa6!O15","v":" "},{"$f":"Sayfa6!P15","v":" "},{"$f":"Sayfa6!Q15","v":" "},{"$f":"Sayfa6!R15","v":" "},{"$f":"Sayfa6!T15","v":" "},{"$f":"Sayfa6!U15","v":" "},{"$f":"Sayfa6!V15","v":" "},{"$f":"Sayfa6!W15","v":" "},{"$f":"Sayfa6!X15","v":" "},{"$f":"Sayfa6!Z15","v":" "},{"$f":"Sayfa6!AA15","v":" "},{"$f":"Sayfa6!AC15","v":" "},{"$f":"Sayfa6!AD15","v":" "},{"$f":"Sayfa6!AE15","v":" "},null,{"$f":"eokul!$G12","v":0}]
[null,12,{"$f":"eokul!$A13","v":0},{"$f":"eokul!B13","v":0},{"$f":"Sayfa6!H16","v":" "},{"$f":"Sayfa6!I16","v":" "},{"$f":"Sayfa6!J16","v":" "},{"$f":"Sayfa6!K16","v":" "},{"$f":"Sayfa6!L16","v":" "},{"$f":"Sayfa6!N16","v":" "},{"$f":"Sayfa6!O16","v":" "},{"$f":"Sayfa6!P16","v":" "},{"$f":"Sayfa6!Q16","v":" "},{"$f":"Sayfa6!R16","v":" "},{"$f":"Sayfa6!T16","v":" "},{"$f":"Sayfa6!U16","v":" "},{"$f":"Sayfa6!V16","v":" "},{"$f":"Sayfa6!W16","v":" "},{"$f":"Sayfa6!X16","v":" "},{"$f":"Sayfa6!Z16","v":" "},{"$f":"Sayfa6!AA16","v":" "},{"$f":"Sayfa6!AC16","v":" "},{"$f":"Sayfa6!AD16","v":" "},{"$f":"Sayfa6!AE16","v":" "},null,{"$f":"eokul!$G13","v":0}]
[null,13,{"$f":"eokul!$A14","v":0},{"$f":"eokul!B14","v":0},{"$f":"Sayfa6!H17","v":" "},{"$f":"Sayfa6!I17","v":" "},{"$f":"Sayfa6!J17","v":" "},{"$f":"Sayfa6!K17","v":" "},{"$f":"Sayfa6!L17","v":" "},{"$f":"Sayfa6!N17","v":" "},{"$f":"Sayfa6!O17","v":" "},{"$f":"Sayfa6!P17","v":" "},{"$f":"Sayfa6!Q17","v":" "},{"$f":"Sayfa6!R17","v":" "},{"$f":"Sayfa6!T17","v":" "},{"$f":"Sayfa6!U17","v":" "},{"$f":"Sayfa6!V17","v":" "},{"$f":"Sayfa6!W17","v":" "},{"$f":"Sayfa6!X17","v":" "},{"$f":"Sayfa6!Z17","v":" "},{"$f":"Sayfa6!AA17","v":" "},{"$f":"Sayfa6!AC17","v":" "},{"$f":"Sayfa6!AD17","v":" "},{"$f":"Sayfa6!AE17","v":" "},null,{"$f":"eokul!$G14","v":0}]
[null,14,{"$f":"eokul!$A15","v":0},{"$f":"eokul!B15","v":0},{"$f":"Sayfa6!H18","v":" "},{"$f":"Sayfa6!I18","v":" "},{"$f":"Sayfa6!J18","v":" "},{"$f":"Sayfa6!K18","v":" "},{"$f":"Sayfa6!L18","v":" "},{"$f":"Sayfa6!N18","v":" "},{"$f":"Sayfa6!O18","v":" "},{"$f":"Sayfa6!P18","v":" "},{"$f":"Sayfa6!Q18","v":" "},{"$f":"Sayfa6!R18","v":" "},{"$f":"Sayfa6!T18","v":" "},{"$f":"Sayfa6!U18","v":" "},{"$f":"Sayfa6!V18","v":" "},{"$f":"Sayfa6!W18","v":" "},{"$f":"Sayfa6!X18","v":" "},{"$f":"Sayfa6!Z18","v":" "},{"$f":"Sayfa6!AA18","v":" "},{"$f":"Sayfa6!AC18","v":" "},{"$f":"Sayfa6!AD18","v":" "},{"$f":"Sayfa6!AE18","v":" "},null,{"$f":"eokul!$G15","v":0}]
[null,15,{"$f":"eokul!$A16","v":0},{"$f":"eokul!B16","v":0},{"$f":"Sayfa6!H19","v":" "},{"$f":"Sayfa6!I19","v":" "},{"$f":"Sayfa6!J19","v":" "},{"$f":"Sayfa6!K19","v":" "},{"$f":"Sayfa6!L19","v":" "},{"$f":"Sayfa6!N19","v":" "},{"$f":"Sayfa6!O19","v":" "},{"$f":"Sayfa6!P19","v":" "},{"$f":"Sayfa6!Q19","v":" "},{"$f":"Sayfa6!R19","v":" "},{"$f":"Sayfa6!T19","v":" "},{"$f":"Sayfa6!U19","v":" "},{"$f":"Sayfa6!V19","v":" "},{"$f":"Sayfa6!W19","v":" "},{"$f":"Sayfa6!X19","v":" "},{"$f":"Sayfa6!Z19","v":" "},{"$f":"Sayfa6!AA19","v":" "},{"$f":"Sayfa6!AC19","v":" "},{"$f":"Sayfa6!AD19","v":" "},{"$f":"Sayfa6!AE19","v":" "},null,{"$f":"eokul!$G16","v":0}]
[null,16,{"$f":"eokul!$A17","v":0},{"$f":"eokul!B17","v":0},{"$f":"Sayfa6!H20","v":" "},{"$f":"Sayfa6!I20","v":" "},{"$f":"Sayfa6!J20","v":" "},{"$f":"Sayfa6!K20","v":" "},{"$f":"Sayfa6!L20","v":" "},{"$f":"Sayfa6!N20","v":" "},{"$f":"Sayfa6!O20","v":" "},{"$f":"Sayfa6!P20","v":" "},{"$f":"Sayfa6!Q20","v":" "},{"$f":"Sayfa6!R20","v":" "},{"$f":"Sayfa6!T20","v":" "},{"$f":"Sayfa6!U20","v":" "},{"$f":"Sayfa6!V20","v":" "},{"$f":"Sayfa6!W20","v":" "},{"$f":"Sayfa6!X20","v":" "},{"$f":"Sayfa6!Z20","v":" "},{"$f":"Sayfa6!AA20","v":" "},{"$f":"Sayfa6!AC20","v":" "},{"$f":"Sayfa6!AD20","v":" "},{"$f":"Sayfa6!AE20","v":" "},null,{"$f":"eokul!$G17","v":0}]
[null,17,{"$f":"eokul!$A18","v":0},{"$f":"eokul!B18","v":0},{"$f":"Sayfa6!H21","v":" "},{"$f":"Sayfa6!I21","v":" "},{"$f":"Sayfa6!J21","v":" "},{"$f":"Sayfa6!K21","v":" "},{"$f":"Sayfa6!L21","v":" "},{"$f":"Sayfa6!N21","v":" "},{"$f":"Sayfa6!O21","v":" "},{"$f":"Sayfa6!P21","v":" "},{"$f":"Sayfa6!Q21","v":" "},{"$f":"Sayfa6!R21","v":" "},{"$f":"Sayfa6!T21","v":" "},{"$f":"Sayfa6!U21","v":" "},{"$f":"Sayfa6!V21","v":" "},{"$f":"Sayfa6!W21","v":" "},{"$f":"Sayfa6!X21","v":" "},{"$f":"Sayfa6!Z21","v":" "},{"$f":"Sayfa6!AA21","v":" "},{"$f":"Sayfa6!AC21","v":" "},{"$f":"Sayfa6!AD21","v":" "},{"$f":"Sayfa6!AE21","v":" "},null,{"$f":"eokul!$G18","v":0}]
[null,18,{"$f":"eokul!$A19","v":0},{"$f":"eokul!B19","v":0},{"$f":"Sayfa6!H22","v":" "},{"$f":"Sayfa6!I22","v":" "},{"$f":"Sayfa6!J22","v":" "},{"$f":"Sayfa6!K22","v":" "},{"$f":"Sayfa6!L22","v":" "},{"$f":"Sayfa6!N22","v":" "},{"$f":"Sayfa6!O22","v":" "},{"$f":"Sayfa6!P22","v":" "},{"$f":"Sayfa6!Q22","v":" "},{"$f":"Sayfa6!R22","v":" "},{"$f":"Sayfa6!T22","v":" "},{"$f":"Sayfa6!U22","v":" "},{"$f":"Sayfa6!V22","v":" "},{"$f":"Sayfa6!W22","v":" "},{"$f":"Sayfa6!X22","v":" "},{"$f":"Sayfa6!Z22","v":" "},{"$f":"Sayfa6!AA22","v":" "},{"$f":"Sayfa6!AC22","v":" "},{"$f":"Sayfa6!AD22","v":" "},{"$f":"Sayfa6!AE22","v":" "},null,{"$f":"eokul!$G19","v":0}]
[null,19,{"$f":"eokul!$A20","v":0},{"$f":"eokul!B20","v":0},{"$f":"Sayfa6!H23","v":" "},{"$f":"Sayfa6!I23","v":" "},{"$f":"Sayfa6!J23","v":" "},{"$f":"Sayfa6!K23","v":" "},{"$f":"Sayfa6!L23","v":" "},{"$f":"Sayfa6!N23","v":" "},{"$f":"Sayfa6!O23","v":" "},{"$f":"Sayfa6!P23","v":" "},{"$f":"Sayfa6!Q23","v":" "},{"$f":"Sayfa6!R23","v":" "},{"$f":"Sayfa6!T23","v":" "},{"$f":"Sayfa6!U23","v":" "},{"$f":"Sayfa6!V23","v":" "},{"$f":"Sayfa6!W23","v":" "},{"$f":"Sayfa6!X23","v":" "},{"$f":"Sayfa6!Z23","v":" "},{"$f":"Sayfa6!AA23","v":" "},{"$f":"Sayfa6!AC23","v":" "},{"$f":"Sayfa6!AD23","v":" "},{"$f":"Sayfa6!AE23","v":" "},null,{"$f":"eokul!$G20","v":0}]
[null,20,{"$f":"eokul!$A21","v":0},{"$f":"eokul!B21","v":0},{"$f":"Sayfa6!H24","v":" "},{"$f":"Sayfa6!I24","v":" "},{"$f":"Sayfa6!J24","v":" "},{"$f":"Sayfa6!K24","v":" "},{"$f":"Sayfa6!L24","v":" "},{"$f":"Sayfa6!N24","v":" "},{"$f":"Sayfa6!O24","v":" "},{"$f":"Sayfa6!P24","v":" "},{"$f":"Sayfa6!Q24","v":" "},{"$f":"Sayfa6!R24","v":" "},{"$f":"Sayfa6!T24","v":" "},{"$f":"Sayfa6!U24","v":" "},{"$f":"Sayfa6!V24","v":" "},{"$f":"Sayfa6!W24","v":" "},{"$f":"Sayfa6!X24","v":" "},{"$f":"Sayfa6!Z24","v":" "},{"$f":"Sayfa6!AA24","v":" "},{"$f":"Sayfa6!AC24","v":" "},{"$f":"Sayfa6!AD24","v":" "},{"$f":"Sayfa6!AE24","v":" "},null,{"$f":"eokul!$G21","v":0}]
[null,21,{"$f":"eokul!$A22","v":0},{"$f":"eokul!B22","v":0},{"$f":"Sayfa6!H25","v":" "},{"$f":"Sayfa6!I25","v":" "},{"$f":"Sayfa6!J25","v":" "},{"$f":"Sayfa6!K25","v":" "},{"$f":"Sayfa6!L25","v":" "},{"$f":"Sayfa6!N25","v":" "},{"$f":"Sayfa6!O25","v":" "},{"$f":"Sayfa6!P25","v":" "},{"$f":"Sayfa6!Q25","v":" "},{"$f":"Sayfa6!R25","v":" "},{"$f":"Sayfa6!T25","v":" "},{"$f":"Sayfa6!U25","v":" "},{"$f":"Sayfa6!V25","v":" "},{"$f":"Sayfa6!W25","v":" "},{"$f":"Sayfa6!X25","v":" "},{"$f":"Sayfa6!Z25","v":" "},{"$f":"Sayfa6!AA25","v":" "},{"$f":"Sayfa6!AC25","v":" "},{"$f":"Sayfa6!AD25","v":" "},{"$f":"Sayfa6!AE25","v":" "},null,{"$f":"eokul!$G22","v":0}]
[null,22,{"$f":"eokul!$A23","v":0},{"$f":"eokul!B23","v":0},{"$f":"Sayfa6!H26","v":" "},{"$f":"Sayfa6!I26","v":" "},{"$f":"Sayfa6!J26","v":" "},{"$f":"Sayfa6!K26","v":" "},{"$f":"Sayfa6!L26","v":" "},{"$f":"Sayfa6!N26","v":" "},{"$f":"Sayfa6!O26","v":" "},{"$f":"Sayfa6!P26","v":" "},{"$f":"Sayfa6!Q26","v":" "},{"$f":"Sayfa6!R26","v":" "},{"$f":"Sayfa6!T26","v":" "},{"$f":"Sayfa6!U26","v":" "},{"$f":"Sayfa6!V26","v":" "},{"$f":"Sayfa6!W26","v":" "},{"$f":"Sayfa6!X26","v":" "},{"$f":"Sayfa6!Z26","v":" "},{"$f":"Sayfa6!AA26","v":" "},{"$f":"Sayfa6!AC26","v":" "},{"$f":"Sayfa6!AD26","v":" "},{"$f":"Sayfa6!AE26","v":" "},null,{"$f":"eokul!$G23","v":0}]
[null,23,{"$f":"eokul!$A24","v":0},{"$f":"eokul!B24","v":0},{"$f":"Sayfa6!H27","v":" "},{"$f":"Sayfa6!I27","v":" "},{"$f":"Sayfa6!J27","v":" "},{"$f":"Sayfa6!K27","v":" "},{"$f":"Sayfa6!L27","v":" "},{"$f":"Sayfa6!N27","v":" "},{"$f":"Sayfa6!O27","v":" "},{"$f":"Sayfa6!P27","v":" "},{"$f":"Sayfa6!Q27","v":" "},{"$f":"Sayfa6!R27","v":" "},{"$f":"Sayfa6!T27","v":" "},{"$f":"Sayfa6!U27","v":" "},{"$f":"Sayfa6!V27","v":" "},{"$f":"Sayfa6!W27","v":" "},{"$f":"Sayfa6!X27","v":" "},{"$f":"Sayfa6!Z27","v":" "},{"$f":"Sayfa6!AA27","v":" "},{"$f":"Sayfa6!AC27","v":" "},{"$f":"Sayfa6!AD27","v":" "},{"$f":"Sayfa6!AE27","v":" "},null,{"$f":"eokul!$G24","v":0}]
[null,24,{"$f":"eokul!$A25","v":0},{"$f":"eokul!B25","v":0},{"$f":"Sayfa6!H28","v":" "},{"$f":"Sayfa6!I28","v":" "},{"$f":"Sayfa6!J28","v":" "},{"$f":"Sayfa6!K28","v":" "},{"$f":"Sayfa6!L28","v":" "},{"$f":"Sayfa6!N28","v":" "},{"$f":"Sayfa6!O28","v":" "},{"$f":"Sayfa6!P28","v":" "},{"$f":"Sayfa6!Q28","v":" "},{"$f":"Sayfa6!R28","v":" "},{"$f":"Sayfa6!T28","v":" "},{"$f":"Sayfa6!U28","v":" "},{"$f":"Sayfa6!V28","v":" "},{"$f":"Sayfa6!W28","v":" "},{"$f":"Sayfa6!X28","v":" "},{"$f":"Sayfa6!Z28","v":" "},{"$f":"Sayfa6!AA28","v":" "},{"$f":"Sayfa6!AC28","v":" "},{"$f":"Sayfa6!AD28","v":" "},{"$f":"Sayfa6!AE28","v":" "},null,{"$f":"eokul!$G25","v":0}]
[null,25,{"$f":"eokul!$A26","v":0},{"$f":"eokul!B26","v":0},{"$f":"Sayfa6!H29","v":" "},{"$f":"Sayfa6!I29","v":" "},{"$f":"Sayfa6!J29","v":" "},{"$f":"Sayfa6!K29","v":" "},{"$f":"Sayfa6!L29","v":" "},{"$f":"Sayfa6!N29","v":" "},{"$f":"Sayfa6!O29","v":" "},{"$f":"Sayfa6!P29","v":" "},{"$f":"Sayfa6!Q29","v":" "},{"$f":"Sayfa6!R29","v":" "},{"$f":"Sayfa6!T29","v":" "},{"$f":"Sayfa6!U29","v":" "},{"$f":"Sayfa6!V29","v":" "},{"$f":"Sayfa6!W29","v":" "},{"$f":"Sayfa6!X29","v":" "},{"$f":"Sayfa6!Z29","v":" "},{"$f":"Sayfa6!AA29","v":" "},{"$f":"Sayfa6!AC29","v":" "},{"$f":"Sayfa6!AD29","v":" "},{"$f":"Sayfa6!AE29","v":" "},null,{"$f":"eokul!$G26","v":0}]
[null,26,{"$f":"eokul!$A27","v":0},{"$f":"eokul!B27","v":0},{"$f":"Sayfa6!H30","v":" "},{"$f":"Sayfa6!I30","v":" "},{"$f":"Sayfa6!J30","v":" "},{"$f":"Sayfa6!K30","v":" "},{"$f":"Sayfa6!L30","v":" "},{"$f":"Sayfa6!N30","v":" "},{"$f":"Sayfa6!O30","v":" "},{"$f":"Sayfa6!P30","v":" "},{"$f":"Sayfa6!Q30","v":" "},{"$f":"Sayfa6!R30","v":" "},{"$f":"Sayfa6!T30","v":" "},{"$f":"Sayfa6!U30","v":" "},{"$f":"Sayfa6!V30","v":" "},{"$f":"Sayfa6!W30","v":" "},{"$f":"Sayfa6!X30","v":" "},{"$f":"Sayfa6!Z30","v":" "},{"$f":"Sayfa6!AA30","v":" "},{"$f":"Sayfa6!AC30","v":" "},{"$f":"Sayfa6!AD30","v":" "},{"$f":"Sayfa6!AE30","v":" "},null,{"$f":"eokul!$G27","v":0}]
[null,27,{"$f":"eokul!$A28","v":0},{"$f":"eokul!B28","v":0},{"$f":"Sayfa6!H31","v":" "},{"$f":"Sayfa6!I31","v":" "},{"$f":"Sayfa6!J31","v":" "},{"$f":"Sayfa6!K31","v":" "},{"$f":"Sayfa6!L31","v":" "},{"$f":"Sayfa6!N31","v":" "},{"$f":"Sayfa6!O31","v":" "},{"$f":"Sayfa6!P31","v":" "},{"$f":"Sayfa6!Q31","v":" "},{"$f":"Sayfa6!R31","v":" "},{"$f":"Sayfa6!T31","v":" "},{"$f":"Sayfa6!U31","v":" "},{"$f":"Sayfa6!V31","v":" "},{"$f":"Sayfa6!W31","v":" "},{"$f":"Sayfa6!X31","v":" "},{"$f":"Sayfa6!Z31","v":" "},{"$f":"Sayfa6!AA31","v":" "},{"$f":"Sayfa6!AC31","v":" "},{"$f":"Sayfa6!AD31","v":" "},{"$f":"Sayfa6!AE31","v":" "},null,{"$f":"eokul!$G28","v":0}]
[null,28,{"$f":"eokul!$A29","v":0},{"$f":"eokul!B29","v":0},{"$f":"Sayfa6!H32","v":" "},{"$f":"Sayfa6!I32","v":" "},{"$f":"Sayfa6!J32","v":" "},{"$f":"Sayfa6!K32","v":" "},{"$f":"Sayfa6!L32","v":" "},{"$f":"Sayfa6!N32","v":" "},{"$f":"Sayfa6!O32","v":" "},{"$f":"Sayfa6!P32","v":" "},{"$f":"Sayfa6!Q32","v":" "},{"$f":"Sayfa6!R32","v":" "},{"$f":"Sayfa6!T32","v":" "},{"$f":"Sayfa6!U32","v":" "},{"$f":"Sayfa6!V32","v":" "},{"$f":"Sayfa6!W32","v":" "},{"$f":"Sayfa6!X32","v":" "},{"$f":"Sayfa6!Z32","v":" "},{"$f":"Sayfa6!AA32","v":" "},{"$f":"Sayfa6!AC32","v":" "},{"$f":"Sayfa6!AD32","v":" "},{"$f":"Sayfa6!AE32","v":" "},null,{"$f":"eokul!$G29","v":0}]
[null,29,{"$f":"eokul!$A30","v":0},{"$f":"eokul!B30","v":0},{"$f":"Sayfa6!H33","v":" "},{"$f":"Sayfa6!I33","v":" "},{"$f":"Sayfa6!J33","v":" "},{"$f":"Sayfa6!K33","v":" "},{"$f":"Sayfa6!L33","v":" "},{"$f":"Sayfa6!N33","v":" "},{"$f":"Sayfa6!O33","v":" "},{"$f":"Sayfa6!P33","v":" "},{"$f":"Sayfa6!Q33","v":" "},{"$f":"Sayfa6!R33","v":" "},{"$f":"Sayfa6!T33","v":" "},{"$f":"Sayfa6!U33","v":" "},{"$f":"Sayfa6!V33","v":" "},{"$f":"Sayfa6!W33","v":" "},{"$f":"Sayfa6!X33","v":" "},{"$f":"Sayfa6!Z33","v":" "},{"$f":"Sayfa6!AA33","v":" "},{"$f":"Sayfa6!AC33","v":" "},{"$f":"Sayfa6!AD33","v":" "},{"$f":"Sayfa6!AE33","v":" "},null,{"$f":"eokul!$G30","v":0}]
[null,30,{"$f":"eokul!$A31","v":0},{"$f":"eokul!B31","v":0},{"$f":"Sayfa6!H34","v":" "},{"$f":"Sayfa6!I34","v":" "},{"$f":"Sayfa6!J34","v":" "},{"$f":"Sayfa6!K34","v":" "},{"$f":"Sayfa6!L34","v":" "},{"$f":"Sayfa6!N34","v":" "},{"$f":"Sayfa6!O34","v":" "},{"$f":"Sayfa6!P34","v":" "},{"$f":"Sayfa6!Q34","v":" "},{"$f":"Sayfa6!R34","v":" "},{"$f":"Sayfa6!T34","v":" "},{"$f":"Sayfa6!U34","v":" "},{"$f":"Sayfa6!V34","v":" "},{"$f":"Sayfa6!W34","v":" "},{"$f":"Sayfa6!X34","v":" "},{"$f":"Sayfa6!Z34","v":" "},{"$f":"Sayfa6!AA34","v":" "},{"$f":"Sayfa6!AC34","v":" "},{"$f":"Sayfa6!AD34","v":" "},{"$f":"Sayfa6!AE34","v":" "},null,{"$f":"eokul!$G31","v":0}]
[null,31,{"$f":"eokul!$A32","v":0},{"$f":"eokul!B32","v":0},{"$f":"Sayfa6!H35","v":" "},{"$f":"Sayfa6!I35","v":" "},{"$f":"Sayfa6!J35","v":" "},{"$f":"Sayfa6!K35","v":" "},{"$f":"Sayfa6!L35","v":" "},{"$f":"Sayfa6!N35","v":" "},{"$f":"Sayfa6!O35","v":" "},{"$f":"Sayfa6!P35","v":" "},{"$f":"Sayfa6!Q35","v":" "},{"$f":"Sayfa6!R35","v":" "},{"$f":"Sayfa6!T35","v":" "},{"$f":"Sayfa6!U35","v":" "},{"$f":"Sayfa6!V35","v":" "},{"$f":"Sayfa6!W35","v":" "},{"$f":"Sayfa6!X35","v":" "},{"$f":"Sayfa6!Z35","v":" "},{"$f":"Sayfa6!AA35","v":" "},{"$f":"Sayfa6!AC35","v":" "},{"$f":"Sayfa6!AD35","v":" "},{"$f":"Sayfa6!AE35","v":" "},null,{"$f":"eokul!$G32","v":0}]
[null,32,{"$f":"eokul!$A33","v":0},{"$f":"eokul!B33","v":0},{"$f":"Sayfa6!H36","v":" "},{"$f":"Sayfa6!I36","v":" "},{"$f":"Sayfa6!J36","v":" "},{"$f":"Sayfa6!K36","v":" "},{"$f":"Sayfa6!L36","v":" "},{"$f":"Sayfa6!N36","v":" "},{"$f":"Sayfa6!O36","v":" "},{"$f":"Sayfa6!P36","v":" "},{"$f":"Sayfa6!Q36","v":" "},{"$f":"Sayfa6!R36","v":" "},{"$f":"Sayfa6!T36","v":" "},{"$f":"Sayfa6!U36","v":" "},{"$f":"Sayfa6!V36","v":" "},{"$f":"Sayfa6!W36","v":" "},{"$f":"Sayfa6!X36","v":" "},{"$f":"Sayfa6!Z36","v":" "},{"$f":"Sayfa6!AA36","v":" "},{"$f":"Sayfa6!AC36","v":" "},{"$f":"Sayfa6!AD36","v":" "},{"$f":"Sayfa6!AE36","v":" "},null,{"$f":"eokul!$G33","v":0}]
[null,33,{"$f":"eokul!$A34","v":0},{"$f":"eokul!B34","v":0},{"$f":"Sayfa6!H37","v":" "},{"$f":"Sayfa6!I37","v":" "},{"$f":"Sayfa6!J37","v":" "},{"$f":"Sayfa6!K37","v":" "},{"$f":"Sayfa6!L37","v":" "},{"$f":"Sayfa6!N37","v":" "},{"$f":"Sayfa6!O37","v":" "},{"$f":"Sayfa6!P37","v":" "},{"$f":"Sayfa6!Q37","v":" "},{"$f":"Sayfa6!R37","v":" "},{"$f":"Sayfa6!T37","v":" "},{"$f":"Sayfa6!U37","v":" "},{"$f":"Sayfa6!V37","v":" "},{"$f":"Sayfa6!W37","v":" "},{"$f":"Sayfa6!X37","v":" "},{"$f":"Sayfa6!Z37","v":" "},{"$f":"Sayfa6!AA37","v":" "},{"$f":"Sayfa6!AC37","v":" "},{"$f":"Sayfa6!AD37","v":" "},{"$f":"Sayfa6!AE37","v":" "},null,{"$f":"eokul!$G34","v":0}]
[null,34,{"$f":"eokul!$A35","v":0},{"$f":"eokul!B35","v":0},{"$f":"Sayfa6!H38","v":" "},{"$f":"Sayfa6!I38","v":" "},{"$f":"Sayfa6!J38","v":" "},{"$f":"Sayfa6!K38","v":" "},{"$f":"Sayfa6!L38","v":" "},{"$f":"Sayfa6!N38","v":" "},{"$f":"Sayfa6!O38","v":" "},{"$f":"Sayfa6!P38","v":" "},{"$f":"Sayfa6!Q38","v":" "},{"$f":"Sayfa6!R38","v":" "},{"$f":"Sayfa6!T38","v":" "},{"$f":"Sayfa6!U38","v":" "},{"$f":"Sayfa6!V38","v":" "},{"$f":"Sayfa6!W38","v":" "},{"$f":"Sayfa6!X38","v":" "},{"$f":"Sayfa6!Z38","v":" "},{"$f":"Sayfa6!AA38","v":" "},{"$f":"Sayfa6!AC38","v":" "},{"$f":"Sayfa6!AD38","v":" "},{"$f":"Sayfa6!AE38","v":" "},null,{"$f":"eokul!$G35","v":0}]
[null,35,{"$f":"eokul!$A36","v":0},{"$f":"eokul!B36","v":0},{"$f":"Sayfa6!H39","v":" "},{"$f":"Sayfa6!I39","v":" "},{"$f":"Sayfa6!J39","v":" "},{"$f":"Sayfa6!K39","v":" "},{"$f":"Sayfa6!L39","v":" "},{"$f":"Sayfa6!N39","v":" "},{"$f":"Sayfa6!O39","v":" "},{"$f":"Sayfa6!P39","v":" "},{"$f":"Sayfa6!Q39","v":" "},{"$f":"Sayfa6!R39","v":" "},{"$f":"Sayfa6!T39","v":" "},{"$f":"Sayfa6!U39","v":" "},{"$f":"Sayfa6!V39","v":" "},{"$f":"Sayfa6!W39","v":" "},{"$f":"Sayfa6!X39","v":" "},{"$f":"Sayfa6!Z39","v":" "},{"$f":"Sayfa6!AA39","v":" "},{"$f":"Sayfa6!AC39","v":" "},{"$f":"Sayfa6!AD39","v":" "},{"$f":"Sayfa6!AE39","v":" "},null,{"$f":"eokul!$G36","v":0}]
[null,36,{"$f":"eokul!$A37","v":0},{"$f":"eokul!B37","v":0},{"$f":"Sayfa6!H40","v":" "},{"$f":"Sayfa6!I40","v":" "},{"$f":"Sayfa6!J40","v":" "},{"$f":"Sayfa6!K40","v":" "},{"$f":"Sayfa6!L40","v":" "},{"$f":"Sayfa6!N40","v":" "},{"$f":"Sayfa6!O40","v":" "},{"$f":"Sayfa6!P40","v":" "},{"$f":"Sayfa6!Q40","v":" "},{"$f":"Sayfa6!R40","v":" "},{"$f":"Sayfa6!T40","v":" "},{"$f":"Sayfa6!U40","v":" "},{"$f":"Sayfa6!V40","v":" "},{"$f":"Sayfa6!W40","v":" "},{"$f":"Sayfa6!X40","v":" "},{"$f":"Sayfa6!Z40","v":" "},{"$f":"Sayfa6!AA40","v":" "},{"$f":"Sayfa6!AC40","v":" "},{"$f":"Sayfa6!AD40","v":" "},{"$f":"Sayfa6!AE40","v":" "},null,{"$f":"eokul!$G37","v":0}]
[null,37,{"$f":"eokul!$A38","v":0},{"$f":"eokul!B38","v":0},{"$f":"Sayfa6!H41","v":" "},{"$f":"Sayfa6!I41","v":" "},{"$f":"Sayfa6!J41","v":" "},{"$f":"Sayfa6!K41","v":" "},{"$f":"Sayfa6!L41","v":" "},{"$f":"Sayfa6!N41","v":" "},{"$f":"Sayfa6!O41","v":" "},{"$f":"Sayfa6!P41","v":" "},{"$f":"Sayfa6!Q41","v":" "},{"$f":"Sayfa6!R41","v":" "},{"$f":"Sayfa6!T41","v":" "},{"$f":"Sayfa6!U41","v":" "},{"$f":"Sayfa6!V41","v":" "},{"$f":"Sayfa6!W41","v":" "},{"$f":"Sayfa6!X41","v":" "},{"$f":"Sayfa6!Z41","v":" "},{"$f":"Sayfa6!AA41","v":" "},{"$f":"Sayfa6!AC41","v":" "},{"$f":"Sayfa6!AD41","v":" "},{"$f":"Sayfa6!AE41","v":" "},null,{"$f":"eokul!$G38","v":0}]
[null,38,{"$f":"eokul!$A39","v":0},{"$f":"eokul!B39","v":0},{"$f":"Sayfa6!H42","v":" "},{"$f":"Sayfa6!I42","v":" "},{"$f":"Sayfa6!J42","v":" "},{"$f":"Sayfa6!K42","v":" "},{"$f":"Sayfa6!L42","v":" "},{"$f":"Sayfa6!N42","v":" "},{"$f":"Sayfa6!O42","v":" "},{"$f":"Sayfa6!P42","v":" "},{"$f":"Sayfa6!Q42","v":" "},{"$f":"Sayfa6!R42","v":" "},{"$f":"Sayfa6!T42","v":" "},{"$f":"Sayfa6!U42","v":" "},{"$f":"Sayfa6!V42","v":" "},{"$f":"Sayfa6!W42","v":" "},{"$f":"Sayfa6!X42","v":" "},{"$f":"Sayfa6!Z42","v":" "},{"$f":"Sayfa6!AA42","v":" "},{"$f":"Sayfa6!AC42","v":" "},{"$f":"Sayfa6!AD42","v":" "},{"$f":"Sayfa6!AE42","v":" "},null,{"$f":"eokul!$G39","v":0}]
[null,39,{"$f":"eokul!$A40","v":0},{"$f":"eokul!B40","v":0},{"$f":"Sayfa6!H43","v":" "},{"$f":"Sayfa6!I43","v":" "},{"$f":"Sayfa6!J43","v":" "},{"$f":"Sayfa6!K43","v":" "},{"$f":"Sayfa6!L43","v":" "},{"$f":"Sayfa6!N43","v":" "},{"$f":"Sayfa6!O43","v":" "},{"$f":"Sayfa6!P43","v":" "},{"$f":"Sayfa6!Q43","v":" "},{"$f":"Sayfa6!R43","v":" "},{"$f":"Sayfa6!T43","v":" "},{"$f":"Sayfa6!U43","v":" "},{"$f":"Sayfa6!V43","v":" "},{"$f":"Sayfa6!W43","v":" "},{"$f":"Sayfa6!X43","v":" "},{"$f":"Sayfa6!Z43","v":" "},{"$f":"Sayfa6!AA43","v":" "},{"$f":"Sayfa6!AC43","v":" "},{"$f":"Sayfa6!AD43","v":" "},{"$f":"Sayfa6!AE43","v":" "},null,{"$f":"eokul!$G40","v":0}]
[null,40,{"$f":"eokul!$A41","v":0},{"$f":"eokul!B41","v":0},{"$f":"Sayfa6!H44","v":" "},{"$f":"Sayfa6!I44","v":" "},{"$f":"Sayfa6!J44","v":" "},{"$f":"Sayfa6!K44","v":" "},{"$f":"Sayfa6!L44","v":" "},{"$f":"Sayfa6!N44","v":" "},{"$f":"Sayfa6!O44","v":" "},{"$f":"Sayfa6!P44","v":" "},{"$f":"Sayfa6!Q44","v":" "},{"$f":"Sayfa6!R44","v":" "},{"$f":"Sayfa6!T44","v":" "},{"$f":"Sayfa6!U44","v":" "},{"$f":"Sayfa6!V44","v":" "},{"$f":"Sayfa6!W44","v":" "},{"$f":"Sayfa6!X44","v":" "},{"$f":"Sayfa6!Z44","v":" "},{"$f":"Sayfa6!AA44","v":" "},{"$f":"Sayfa6!AC44","v":" "},{"$f":"Sayfa6!AD44","v":" "},{"$f":"Sayfa6!AE44","v":" "},null,{"$f":"eokul!$G41","v":0}]
[]
[]
[]
[]
[]
[]
[]
[]
[null,null,null,{"$f":"ANASAYFA!D7","v":"SEFA AVCILAR"},null,null,null,null,null,null,null,null,null,null,null,null,{"$f":"ANASAYFA!D9","v":"ÜMİT YEGEN"}]
[null,null,null,{"$f":"ANASAYFA!D8","v":"TÜRKÇE ÖĞRETMENİ"},null,null,null,null,null,null,null,null,null,null,null,null,{"$f":"ANASAYFA!D10","v":"OKUL MÜDÜRÜ"}]